Workbook
Name OLE_LINK5: 'Raw Data'!$A$27

Sheet New Listings
A1: 38200 | B1: 38231 | C1: 38261 | D1: 38292 | E1: 38322 | F1: 38353 | G1: 38384 | H1: 38412 | I1: 38443 | J1: 38473 | K1: 38504 | L1: 38534 | M1: 38565 | N1: 38596 | O1: 38626 | P1: 38657 | Q1: 38687 | R1: 38718 | S1: 38749 | T1: 38777 | U1: 38808 | V1: 38838 | W1: 38869 | X1: 38899 | Y1: 38930 | Z1: 38961 | AA1: 38991 | AB1: 39022 | AC1: 39052 | AD1: 39083 | AE1: 39114 | AF1: 39142 | AG1: 39173 | AH1: 39203 | AI1: 39234 | AJ1: 39264 | AK1: 39295 | AL1: 39326 | AM1: 39356 | AN1: 39387 | AO1: 39417 | AP1: 39448 | AQ1: 39479 | AR1: 39508 | AS1: 39539 | AT1: 39569 | AU1: 39600 | AV1: 39630 | AW1: 39661 | AX1: 39692 | AY1: 39722 | AZ1: 39753 | BA1: 39783 | BB1: 39814 | BC1: 39845 | BD1: 39873 | BE1: 39904 | BF1: 39934 | BG1: 39965 | BH1: 39995 | BI1: 40026 | BJ1: 40057 | BK1: 40087 | BL1: 40118 | BM1: 40148 | BN1: 40179 | BO1: 40210 | BP1: 40238 | BQ1: 40269 | BR1: 40299 | BS1: 40330 | BT1: 40360 | BU1: 40391 | BV1: 40422 | BW1: 40452 | BX1: 40483 | BY1: 40513 | BZ1: 40544 | CA1: 40575 | CB1: 40603 | CC1: 40634 | CD1: 40664 | CE1: 40695 | CF1: 40725 | CG1: 40756 | CH1: 40787 | CI1: 40817 | CJ1: 40848 | CK1: 40878 | CL1: 40909 | CM1: 40940 | CN1: 40969 | CO1: 41000 | CP1: 41030 | CQ1: 41061 | CR1: 41091 | CS1: 41122 | CT1: 41153 | CU1: 41183 | CV1: 41214 | CW1: 41244 | CX1: 41275 | CY1: 41306 | CZ1: 41334 | DA1: 41365 | DB1: 41395 | DC1: 41426 | DD1: 41456 | DE1: 41487 | DF1: 41518 | DG1: 41548 | DH1: 41579 | DI1: 41609 | DJ1: 41640 | DK1: 41671 | DL1: 41699 | DM1: 41730 | DN1: 41760 | DO1: 41791 | DP1: 41821 | DQ1: 41852 | DR1: 41883 | DS1: 41913 | DT1: 41944 | DU1: 41974 | DV1: 42005 | DW1: 42036 | DX1: 42064 | DY1: 42095 | DZ1: 42125 | EA1: 42156 | EB1: 42186 | EC1: 42217 | ED1: 42248 | EE1: 42278 | EF1: 42309 | EG1: 42339 | EH1: 42370 | EI1: 42401 | EJ1: 42430 | EK1: 42461 | EL1: 42491 | EM1: 42522 | EN1: 42552 | EO1: 42583 | EP1: 42614 | EQ1: 42644 | ER1: 42675 | ES1: 42705 | ET1: 42736 | EU1: 42767 | EV1: 42795 | EW1: 42826 | EX1: 42856 | EY1: 42887 | EZ1: 42917 | FA1: 42948 | FB1: 42979 | FC1: 43009 | FD1: 43040 | FE1: 43070 | FF1: 43101 | FG1: 43132 | FH1: 43160 | FI1: 43191 | FJ1: 43221 | FK1: 43252 | FL1: 43282 | FM1: 43313 | FN1: 43344 | FO1: 43374 | FP1: 43405 | FQ1: 43435 | FR1: 43466 | FS1: 43497 | FT1: 43525 | FU1: 43556 | FV1: 43586 | FW1: 43617 | FX1: 43647 | FY1: 43678 | FZ1: 43709 | GA1: 43739 | GB1: 43770 | GC1: 43800 | GD1: 43831 | GE1: 43862 | GF1: 43891 | GG1: 43922 | GH1: 43952 | GI1: 43983 | GJ1: 44013 | GK1: 44044 | GL1: 44075 | GM1: 44105 | GN1: 44136 | GO1: 44166 | GP1: 44197 | GQ1: 44228 | GR1: 44256 | GS1: 44287 | GT1: 44317 | GU1: 44348 | GV1: 44378 | GW1: 44409 | GX1: 44440 | GY1: 44470 | GZ1: 44501 | HA1: 44531 | HB1: 44562 | HC1: 44593 | HD1: 44621 | HE1: 44652 | HF1: 44682 | HG1: 44713 | HH1: 44743 | HI1: 44774 | HJ1: 44805 | HK1: 44835 | HL1: 44866 | HM1: 44896 | HN1: 44927 | HO1: 44958 | HP1: 44986 | HQ1: 45017 | HR1: 45047 | HS1: 45078 | HT1: 45108 | HU1: 45139 | HV1: 45170 | HW1: 45200 | HX1: 45231 | HY1: 45261 | HZ1: 45292 | IA1: 45323 | IB1: 45352 | IC1: 45383 | ID1: 45413 | IE1: 45444 | IF1: 45474 | IG1: 45505 | IH1: 45536 | II1: 45566 | IJ1: 45597 | IK1: 45627 | IL1: 45658 | IM1: 45689 | IN1: 45717 | IO1: 45748 | IP1: 45778 | IQ1: 45809 | IR1: 45839 | IS1: 45870 | IT1: 45901 | IU1: 45931 | IV1: 45962 | IW1: 45992
A2: ='Raw Data'!P3 -> 233 | B2: ='Raw Data'!Q3 -> 303 | C2: ='Raw Data'!R3 -> 282 | D2: ='Raw Data'!S3 -> 296 | E2: ='Raw Data'!T3 -> 196 | F2: ='Raw Data'!U3 -> 328 | G2: ='Raw Data'!V3 -> 367 | H2: ='Raw Data'!W3 -> 411 | ... IW2: ='Raw Data'!JL3 -> 0
HZ7: Jan | IA7: Feb | IB7: Mar | IC7: Apr | ID7: May | IE7: Jun | IF7: Jul | IG7: Aug | IH7: Sep | II7: Oct | IJ7: Nov | IK7: Dec
HY8: 2020 | HZ8: =SUM(GD2) -> 401 | IA8: =SUM(GE2) -> 423 | IB8: =SUM(GF2) -> 384 | IC8: =SUM(GG2) -> 151 | ID8: =SUM(GH2) -> 387 | IE8: =SUM(GI2) -> 418 | IF8: =SUM(GJ2) -> 448 | IG8: =SUM(GK2) -> 411 | ... IK8: =SUM(GO2) -> 254
HY9: 2021 | HZ9: =SUM(GP2) -> 357 | IA9: =SUM(GQ2) -> 411 | IB9: =SUM(GR2) -> 478 | IC9: =SUM(GS2) -> 524 | ID9: =SUM(GT2) -> 488 | IE9: =SUM(GU2) -> 395 | IF9: =SUM(GV2) -> 485 | IG9: =SUM(GW2) -> 413 | ... IK9: =SUM(HA2) -> 217
HY10: 2022 | HZ10: =SUM(HB2) -> 321 | IA10: =SUM(HC2) -> 321 | IB10: =SUM(HD2) -> 440 | IC10: =SUM(HE2) -> 426 | ID10: =SUM(HF2) -> 415 | IE10: =SUM(HG2) -> 437 | IF10: =SUM(HH2) -> 367 | IG10: =SUM(HI2) -> 317 | ... IK10: =SUM(HM2) -> 151
HY11: 2023 | HZ11: =SUM(HN2) -> 212 | IA11: =SUM(HO2) -> 255 | IB11: =SUM(HP2) -> 275 | IC11: =SUM(HQ2) -> 264 | ID11: =SUM(HR2) -> 285 | IE11: =SUM(HS2) -> 267 | IF11: =SUM(HT2) -> 312 | IG11: =SUM(HU2) -> 303 | ... IK11: =SUM(HY2) -> 170
HY12: 2024 | HZ12: =SUM(HZ2) -> 304 | IA12: =SUM(IA2) -> 304 | IB12: =SUM(IB2) -> 347 | IC12: =SUM(IC2) -> 342 | ID12: =SUM(ID2) -> 368 | IE12: =SUM(IE2) -> 301 | IF12: =SUM(IF2) -> 309 | IG12: =SUM(IG2) -> 317 | ... IK12: =SUM(IK2) -> 171
HY13: 2025 | HZ13: =IL2 -> 329 | IA13: =IM2 -> 290 | IB13: =IN2 -> 349 | IC13: =IO2 -> 0 | ID13: =IP2 -> 0 | IE13: =IQ2 -> 0 | IF13: =IR2 -> 0 | IG13: =IS2 -> 0 | ... IK13: =IW2 -> 0
HZ25: New Listings | IE25: New Listings | II25: Quarterly Sales | IM25: Yearly New Listings
HZ26: Month / Year | IA26: Count | IB26: %Chg | IE26: Month / Year | IF26: Count | IG26: %Chg | II26: Month / Year | IJ26: Count | IK26: %Chg | IM26: Month / Year | IN26: Count | IO26: %Chg
HZ27: 2025 | IA27: =SUM(HZ13:IA13) -> 619 | IB27: =(IA27-IA28)/IA28 -> 0.018092105 | IE27: Mar'25 | IF27: =IA13 -> 290 | IG27: =(IF27-IF28)/IF28 -> -0.046052632 | II27: 1st Qtr'25 | IJ27: =SUM(HZ13:IB13) -> 968 | IM27: 2025 | IN27: =SUM(HZ13:IK13) -> 968 | IO27: =(IN27-IN28)/IN28 -> 0.59210526
HZ28: 2024 | IA28: =SUM(HZ12:IA12) -> 608 | IB28: =(IA28-IA29)/IA29 -> 0.30192719 | IE28: Mar'24 | IF28: =IA12 -> 304 | IG28: =(IF28-IF29)/IF29 -> 0.19215686 | II28: 1st Qtr'24 | IJ28: =SUM(HZ12:IB12) -> 955 | IK28: =(IJ28-IJ29)/IJ29 -> 0.28706199 | IM28: 2024 | IN28: =SUM(HZ12:IA12) -> 608 | IO28: =(IN28-IN29)/IN29 -> 0.30192719
HZ29: 2023 | IA29: =SUM(HZ11:IA11) -> 467 | IB29: =(IA29-IA30)/IA30 -> -0.27258567 | IE29: Mar'23 | IF29: =IA11 -> 255 | IG29: =(IF29-IF30)/IF30 -> -0.20560748 | II29: 1st Qtr'23 | IJ29: =SUM(HZ11:IB11) -> 742 | IK29: =(IJ29-IJ30)/IJ30 -> -0.3142329 | IM29: 2023 | IN29: =SUM(HZ11:IA11) -> 467 | IO29: =(IN29-IN30)/IN30 -> -0.27258567
HZ30: 2022 | IA30: =SUM(HZ10:IA10) -> 642 | IE30: Mar'22 | IF30: =IA10 -> 321 | II30: 1st Qtr'22 | IJ30: =SUM(HZ10:IB10) -> 1082 | IM30: 2022 | IN30: =SUM(HZ10:IA10) -> 642
II33: 1st qtr | IJ33: 2nd qtr | IK33: 3rd qtr | IL33: 4th qtr
IH34: 2021 | II34: =SUM(HZ9:IB9) -> 1246 | IJ34: =SUM(IC9:IE9) -> 1407 | IK34: =SUM(IF9:IH9) -> 1271 | IL34: =SUM(II9:IK9) -> 848
IH35: 2022 | II35: =SUM(HZ10:IB10) -> 1082 | IJ35: =SUM(IC10:IE10) -> 1278 | IK35: =SUM(IF10:IH10) -> 942 | IL35: =SUM(II10:IK10) -> 614
IH36: 2023 | II36: =SUM(HZ11:IB11) -> 742 | IJ36: =SUM(IC11:IE11) -> 816 | IK36: =SUM(IF11:IH11) -> 887 | IL36: =SUM(II11:IK11) -> 658
IH37: 2024 | II37: =SUM(HZ12:IB12) -> 955 | IJ37: =SUM(IC12:IE12) -> 1011 | IK37: =SUM(IF12:IH12) -> 941 | IL37: =SUM(II12:IK12) -> 686
IH38: 2025 | II38: =SUM(HZ13:IB13) -> 968 | IJ38: =SUM(IC13:IE13) -> 0 | IK38: =SUM(IF13:IH13) -> 0 | IL38: =SUM(II13:IK13) -> 0

Sheet Total Year to Year Sales
A1: Sold Properties | B1: 38353 | C1: 38384 | D1: 38412 | E1: 38443 | F1: 38473 | G1: 38504 | H1: 38534 | I1: 38565 | J1: 38596 | K1: 38626 | L1: 38657 | M1: 38687 | N1: 38718 | O1: 38749 | P1: 38777 | Q1: 38808 | R1: 38838 | S1: 38869 | T1: 38899 | U1: 38930 | V1: 38961 | W1: 38991 | X1: 39022 | Y1: 39052 | Z1: 39083 | AA1: 39114 | AB1: 39142 | AC1: 39173 | AD1: 39203 | AE1: 39234 | AF1: 39264 | AG1: 39295 | AH1: 39326 | AI1: 39356 | AJ1: 39387 | AK1: 39417 | AL1: 39448 | AM1: 39479 | AN1: 39510 | AO1: 39539 | AP1: 39569 | AQ1: 39600 | AR1: 39630 | AS1: 39661 | AT1: 39692 | AU1: 39729 | AV1: 39766 | AW1: 39803 | AX1: 39840 | AY1: 39853 | AZ1: 39881 | BA1: 39912 | BB1: 39942 | BC1: 39973 | BD1: 40003 | BE1: 40034 | BF1: 40065 | BG1: 40095 | BH1: 40126 | BI1: 40156 | BJ1: 40187 | BK1: 40218 | BL1: 40246 | BM1: 40277 | BN1: 40307 | BO1: 40338 | BP1: 40368 | BQ1: 40399 | BR1: 40430 | BS1: 40460 | BT1: 40491 | BU1: 40521 | BV1: 40552 | BW1: 40583 | BX1: 40611 | BY1: 40642 | BZ1: 40672 | CA1: 40703 | CB1: 40733 | CC1: 40764 | CD1: 40795 | CE1: 40825 | CF1: 40856 | CG1: 40886 | CH1: 40917 | CI1: 40948 | CJ1: 40977 | CK1: 41008 | CL1: 41038 | CM1: 41069 | CN1: 41099 | CO1: 41130 | CP1: 41161 | CQ1: 41191 | CR1: 41222 | CS1: 41252 | CT1: 41283 | CU1: 41314 | CV1: 41342 | CW1: 41373 | CX1: 41403 | CY1: 41434 | CZ1: 41464 | DA1: 41495 | DB1: 41526 | DC1: 41556 | DD1: 41587 | DE1: 41617 | DF1: 41648 | DG1: 41679 | DH1: 41707 | DI1: 41738 | DJ1: 41768 | DK1: 41799 | DL1: 41829 | DM1: 41860 | DN1: 41891 | DO1: 41921 | DP1: 41952 | DQ1: 41982 | DR1: 42013 | DS1: 42044 | DT1: 42072 | DU1: 42103 | DV1: 42133 | DW1: 42164 | DX1: 42194 | DY1: 42225 | DZ1: 42256 | EA1: 42286 | EB1: 42317 | EC1: 42347 | ED1: 42378 | EE1: 42409 | EF1: 42438 | EG1: 42469 | EH1: 42499 | EI1: 42530 | EJ1: 42560 | EK1: 42591 | EL1: 42622 | EM1: 42652 | EN1: 42683 | EO1: 42713 | EP1: 42744 | EQ1: 42775 | ER1: 42803 | ES1: 42834 | ET1: 42864 | EU1: 42895 | EV1: 42925 | EW1: 42956 | EX1: 42987 | EY1: 43017 | EZ1: 43048 | FA1: 43078 | FB1: 43109 | FC1: 43140 | FD1: 43168 | FE1: 43199 | FF1: 43229 | FG1: 43260 | FH1: 43290 | FI1: 43321 | FJ1: 43352 | FK1: 43382 | FL1: 43413 | FM1: 43443 | FN1: 43474 | FO1: 43505 | FP1: 43533 | FQ1: 43564 | FR1: 43594 | FS1: 43625 | FT1: 43655 | FU1: 43686 | FV1: 43717 | FW1: 43747 | FX1: 43778 | FY1: 43808 | FZ1: 43839 | GA1: 43870 | GB1: 43899 | GC1: 43930 | GD1: 43960 | GE1: 43991 | GF1: 44021 | GG1: 44052 | GH1: 44083 | GI1: 44113 | GJ1: 44144 | GK1: 44174 | GL1: 44205 | GM1: 44236 | GN1: 44264 | GO1: 44295 | GP1: 44325 | GQ1: 44356 | GR1: 44386 | GS1: 44417 | GT1: 44448 | GU1: 44478 | GV1: 44509 | GW1: 44539 | GX1: 44570 | GY1: 44601 | GZ1: 44629 | HA1: 44660 | HB1: 44690 | HC1: 44721 | HD1: 44751 | HE1: 44782 | HF1: 44813 | HG1: 44843 | HH1: 44874 | HI1: 44904 | HJ1: 44935 | HK1: 44966 | HL1: 44994 | HM1: 45025 | HN1: 45055 | HO1: 45086 | HP1: 45116 | HQ1: 45147 | HR1: 45178 | HS1: 45208 | HT1: 45239 | HU1: 45269 | HV1: 45300 | HW1: 45331 | HX1: 45360 | HY1: 45391 | HZ1: 45421 | IA1: 45452 | IB1: 45482 | IC1: 45513 | ID1: 45544 | IE1: 45574 | IF1: 45605 | IG1: 45635 | IH1: 45666 | II1: 45697 | IJ1: 45725 | IK1: 45756 | IL1: 45786 | IM1: 45817 | IN1: 45847 | IO1: 45878 | IP1: 45909 | IQ1: 45939 | IR1: 45970 | IS1: 46000 | IT1: 46031
A2: Residential | B2: ='Raw Data'!U45 -> 149 | C2: ='Raw Data'!V45 -> 119 | D2: ='Raw Data'!W45 -> 190 | E2: ='Raw Data'!X45 -> 208 | F2: ='Raw Data'!Y45 -> 286 | G2: ='Raw Data'!Z45 -> 234 | H2: ='Raw Data'!AA45 -> 167 | I2: ='Raw Data'!AB45 -> 178 | ... IT2: ='Raw Data'!JM45 -> 0
A3: Land | B3: ='Raw Data'!U46 -> 96 | C3: ='Raw Data'!V46 -> 61 | D3: ='Raw Data'!W46 -> 91 | E3: ='Raw Data'!X46 -> 106 | F3: ='Raw Data'!Y46 -> 111 | G3: ='Raw Data'!Z46 -> 114 | H3: ='Raw Data'!AA46 -> 69 | I3: ='Raw Data'!AB46 -> 83 | ... IT3: ='Raw Data'!JM46 -> 0
A4: Commercial | B4: ='Raw Data'!U47 -> 1 | C4: ='Raw Data'!V47 -> 3 | D4: ='Raw Data'!W47 -> 3 | E4: ='Raw Data'!X47 -> 4 | F4: ='Raw Data'!Y47 -> 4 | G4: ='Raw Data'!Z47 -> 6 | H4: ='Raw Data'!AA47 -> 4 | I4: ='Raw Data'!AB47 -> 4 | ... IT4: ='Raw Data'!JM47 -> 0
A5: Total | B5: ='Raw Data'!U48 -> 246 | C5: ='Raw Data'!V48 -> 183 | D5: ='Raw Data'!W48 -> 284 | E5: ='Raw Data'!X48 -> 318 | F5: ='Raw Data'!Y48 -> 401 | G5: ='Raw Data'!Z48 -> 354 | H5: ='Raw Data'!AA48 -> 240 | I5: ='Raw Data'!AB48 -> 265 | ... IT5: ='Raw Data'!JM48 -> 0
B20: Jan | C20: Feb | D20: Mar | E20: Apr | F20: May | G20: Jun | H20: July | I20: Aug | J20: Sep | K20: Oct | L20: Nov | M20: Dec | N20: Yearly
A21: 2005 | B21: ='Raw Data'!U48 -> 246 | C21: ='Raw Data'!V48 -> 183 | D21: ='Raw Data'!W48 -> 284 | E21: ='Raw Data'!X48 -> 318 | F21: ='Raw Data'!Y48 -> 401 | G21: ='Raw Data'!Z48 -> 354 | H21: ='Raw Data'!AA48 -> 240 | I21: ='Raw Data'!AB48 -> 265 | ... M21: ='Raw Data'!AF48 -> 166 | N21: =SUM(B21:M21) -> 3201
A22: 2006 | B22: ='Raw Data'!AG48 -> 162 | C22: ='Raw Data'!AH48 -> 116 | D22: ='Raw Data'!AI48 -> 176 | E22: ='Raw Data'!AJ48 -> 153 | F22: ='Raw Data'!AK48 -> 207 | G22: ='Raw Data'!AL48 -> 156 | H22: ='Raw Data'!AM48 -> 123 | I22: ='Raw Data'!AN48 -> 139 | ... M22: ='Raw Data'!AR48 -> 125 | N22: =SUM(B22:M22) -> 1757
A23: 2007 | B23: ='Raw Data'!AS48 -> 97 | C23: ='Raw Data'!AT48 -> 122 | D23: ='Raw Data'!AU48 -> 112 | E23: ='Raw Data'!AV48 -> 143 | F23: ='Raw Data'!AW48 -> 171 | G23: ='Raw Data'!AX48 -> 140 | H23: ='Raw Data'!AY48 -> 123 | I23: ='Raw Data'!AZ48 -> 129 | ... M23: ='Raw Data'!BD48 -> 101 | N23: =SUM(B23:M23) -> 1522
A24: 2008 | B24: ='Raw Data'!BE48 -> 87 | C24: ='Raw Data'!BF48 -> 98 | D24: ='Raw Data'!BG48 -> 110 | E24: ='Raw Data'!BH48 -> 124 | F24: ='Raw Data'!BI48 -> 135 | G24: ='Raw Data'!BJ48 -> 136 | H24: ='Raw Data'!BK48 -> 114 | I24: ='Raw Data'!BL48 -> 128 | ... M24: ='Raw Data'!BP48 -> 83 | N24: =SUM(B24:M24) -> 1322
A25: 2009 | B25: ='Raw Data'!BQ48 -> 53 | C25: ='Raw Data'!BR48 -> 78 | D25: ='Raw Data'!BS48 -> 101 | E25: ='Raw Data'!BT48 -> 88 | F25: ='Raw Data'!BU48 -> 126 | G25: ='Raw Data'!BV48 -> 142 | H25: ='Raw Data'!BW48 -> 122 | I25: ='Raw Data'!BX48 -> 134 | ... M25: ='Raw Data'!CB48 -> 135 | N25: =SUM(B25:M25) -> 1385
A26: 2010 | B26: ='Raw Data'!CC48 -> 99 | C26: ='Raw Data'!CD48 -> 93 | D26: ='Raw Data'!CE48 -> 126 | E26: ='Raw Data'!CF48 -> 164 | F26: ='Raw Data'!CG48 -> 170 | G26: ='Raw Data'!CH48 -> 168 | H26: ='Raw Data'!CI48 -> 148 | I26: ='Raw Data'!CJ48 -> 129 | ... M26: ='Raw Data'!CN48 -> 155 | N26: =SUM(B26:M26) -> 1669
A27: 2011 | B27: ='Raw Data'!CO48 -> 99 | C27: ='Raw Data'!CP48 -> 107 | D27: ='Raw Data'!CQ48 -> 169 | E27: ='Raw Data'!CR48 -> 167 | F27: ='Raw Data'!CS48 -> 159 | G27: ='Raw Data'!CT48 -> 177 | H27: ='Raw Data'!CU48 -> 147 | I27: ='Raw Data'!CV48 -> 132 | ... M27: ='Raw Data'!CZ48 -> 140 | N27: =SUM(B27:M27) -> 1689
A28: 2012 | B28: ='Raw Data'!DA48 -> 116 | C28: ='Raw Data'!DB48 -> 143 | D28: ='Raw Data'!DC48 -> 227 | E28: ='Raw Data'!DD48 -> 186 | F28: ='Raw Data'!DE48 -> 206 | G28: ='Raw Data'!DF48 -> 182 | H28: ='Raw Data'!DG48 -> 151 | I28: ='Raw Data'!DH48 -> 173 | ... M28: ='Raw Data'!DL48 -> 140 | N28: =SUM(B28:M28) -> 2042
A29: 2013 | B29: ='Raw Data'!DM48 -> 115 | C29: ='Raw Data'!DN48 -> 146 | D29: ='Raw Data'!DO48 -> 180 | E29: ='Raw Data'!DP48 -> 213 | F29: ='Raw Data'!DQ48 -> 194 | G29: ='Raw Data'!DR48 -> 187 | H29: ='Raw Data'!DS48 -> 202 | I29: ='Raw Data'!DT48 -> 184 | ... M29: ='Raw Data'!DX48 -> 189 | N29: =SUM(B29:M29) -> 2093
A30: 2014 | B30: ='Raw Data'!DY48 -> 133 | C30: ='Raw Data'!DZ48 -> 117 | D30: ='Raw Data'!EA48 -> 146 | E30: ='Raw Data'!EB48 -> 189 | F30: ='Raw Data'!EC48 -> 231 | G30: ='Raw Data'!ED48 -> 200 | H30: ='Raw Data'!EE48 -> 201 | I30: ='Raw Data'!EF48 -> 174 | ... M30: ='Raw Data'!EJ48 -> 202 | N30: =SUM(B30:M30) -> 2139
A31: 2015 | B31: ='Raw Data'!EK48 -> 129 | C31: ='Raw Data'!EL48 -> 142 | D31: ='Raw Data'!EM48 -> 184 | E31: ='Raw Data'!EN48 -> 193 | F31: ='Raw Data'!EO48 -> 241 | G31: ='Raw Data'!EP48 -> 227 | H31: ='Raw Data'!EQ48 -> 218 | I31: ='Raw Data'!ER48 -> 187 | ... M31: ='Raw Data'!EV48 -> 198 | N31: =SUM(B31:M31) -> 2292
A32: 2016 | B32: ='Raw Data'!EW48 -> 145 | C32: ='Raw Data'!EX48 -> 130 | D32: ='Raw Data'!EY48 -> 184 | E32: ='Raw Data'!EZ48 -> 201 | F32: ='Raw Data'!FA48 -> 217 | G32: ='Raw Data'!FB48 -> 238 | H32: ='Raw Data'!FC48 -> 201 | I32: ='Raw Data'!FD48 -> 204 | ... M32: ='Raw Data'!FH48 -> 202 | N32: =SUM(B32:L32) -> 2091
A33: 2017 | B33: ='Raw Data'!FI48 -> 141 | C33: ='Raw Data'!FJ48 -> 149 | D33: ='Raw Data'!FK48 -> 235 | E33: ='Raw Data'!FL48 -> 219 | F33: ='Raw Data'!FM48 -> 254 | G33: ='Raw Data'!FN48 -> 295 | H33: ='Raw Data'!FO48 -> 185 | I33: ='Raw Data'!FP48 -> 224 | ... M33: ='Raw Data'!FT48 -> 208 | O33: =SUM(B33:C33) -> 290
A34: 2018 | B34: ='Raw Data'!FU48 -> 153 | C34: ='Raw Data'!FV48 -> 112 | D34: ='Raw Data'!FW48 -> 232 | E34: ='Raw Data'!FX48 -> 225 | F34: ='Raw Data'!FY48 -> 267 | G34: ='Raw Data'!FZ48 -> 245 | H34: ='Raw Data'!GA48 -> 209 | I34: ='Raw Data'!GB48 -> 228 | ... M34: ='Raw Data'!GF48 -> 192 | O34: =SUM(B34) -> 153
A35: 2019 | B35: ='Raw Data'!GG48 -> 144 | C35: ='Raw Data'!GH48 -> 163 | D35: ='Raw Data'!GI48 -> 218 | E35: ='Raw Data'!GJ48 -> 229 | F35: ='Raw Data'!GK48 -> 253 | G35: ='Raw Data'!GL48 -> 232 | H35: ='Raw Data'!GM48 -> 232 | I35: ='Raw Data'!GN48 -> 243 | ... M35: ='Raw Data'!GR48 -> 219 | O35: =SUM(B35:M35) -> 2606
A36: 2020 | B36: ='Raw Data'!GS48 -> 179 | C36: ='Raw Data'!GT48 -> 181 | D36: ='Raw Data'!GU48 -> 236 | E36: ='Raw Data'!GV48 -> 181 | F36: ='Raw Data'!GW48 -> 179 | G36: ='Raw Data'!GX48 -> 251 | H36: ='Raw Data'!GY48 -> 452 | I36: ='Raw Data'!GZ48 -> 403 | ... M36: ='Raw Data'!HD48 -> 401 | O36: =SUM(B36:M36) -> 3751
A37: 2021 | B37: ='Raw Data'!HE48 -> 335 | C37: ='Raw Data'!HF48 -> 298 | D37: ='Raw Data'!HG48 -> 447 | E37: ='Raw Data'!HH48 -> 445 | F37: ='Raw Data'!HI48 -> 440 | G37: ='Raw Data'!HJ48 -> 432 | H37: ='Raw Data'!HK48 -> 369 | I37: ='Raw Data'!HL48 -> 329 | ... M37: ='Raw Data'!HP48 -> 319 | N37: =SUM(B37:M37) -> 4400
A38: 2022 | B38: ='Raw Data'!HQ48 -> 285 | C38: ='Raw Data'!HR48 -> 248 | D38: ='Raw Data'!HS48 -> 387 | E38: ='Raw Data'!HT48 -> 344 | F38: ='Raw Data'!HU48 -> 331 | G38: ='Raw Data'!HV48 -> 290 | H38: ='Raw Data'!HW48 -> 233 | I38: ='Raw Data'!HX48 -> 265 | ... M38: ='Raw Data'!IB48 -> 168 | N38: =SUM(B38:M38) -> 3184
A39: 2023 | B39: ='Raw Data'!IC48 -> 141 | C39: ='Raw Data'!ID48 -> 174 | D39: ='Raw Data'!IE48 -> 242 | E39: ='Raw Data'!IF48 -> 215 | F39: ='Raw Data'!IG48 -> 228 | G39: ='Raw Data'!IH48 -> 245 | H39: ='Raw Data'!II48 -> 172 | I39: ='Raw Data'!IJ48 -> 191 | ... M39: ='Raw Data'!IN48 -> 146 | N39: =SUM(B39:M39) -> 2330
A40: 2024 | B40: ='Raw Data'!IO48 -> 141 | C40: ='Raw Data'!IP48 -> 137 | D40: ='Raw Data'!IQ48 -> 208 | E40: ='Raw Data'!IR48 -> 218 | F40: ='Raw Data'!IS48 -> 209 | G40: ='Raw Data'!IT48 -> 181 | H40: ='Raw Data'!IU48 -> 209 | I40: ='Raw Data'!IV48 -> 187 | ... M40: ='Raw Data'!IZ48 -> 169 | N40: =SUM(B40:M40) -> 2175
A41: 2025 | B41: ='Raw Data'!JA48 -> 166 | C41: ='Raw Data'!JB48 -> 125 | D41: ='Raw Data'!JC48 -> 176 | E41: ='Raw Data'!JD48 -> 0 | F41: ='Raw Data'!JE48 -> 0 | G41: ='Raw Data'!JF48 -> 0 | H41: ='Raw Data'!JG48 -> 0 | I41: ='Raw Data'!JH48 -> 0 | ... M41: ='Raw Data'!JL48 -> 0 | N41: =SUM(B41:M41) -> 467
E47: Monthly Sales | I47: All Property Sales
E48: Month / Year | F48: Count | G48: %Chg | I48: Month / Year | J48: Count | K48: %Chg
E49: Mar'25 | F49: =D41 -> 176 | G49: =(F49-F50)/F50 -> -0.15384615 | I49: 2025 | J49: =SUM(B41:D41) -> 467 | K49: =(J49-J50)/50 -> -0.38
E50: Mar'24 | F50: =D40 -> 208 | G50: =(F50-F51)/F51 -> -0.14049587 | I50: 2024 | J50: =SUM(B40:D40) -> 486 | K50: =(J50-J51)/J51 -> -0.12746858
E51: Mar'23 | F51: =D39 -> 242 | G51: =(F51-F52)/F52 -> -0.374677 | I51: 2023 | J51: =SUM(B39:D39) -> 557 | K51: =(J51-J52)/J52 -> -0.39456522
E52: Mar'22 | F52: =D38 -> 387 | I52: 2022 | J52: =SUM(B38:D38) -> 920
B55: 1st qtr | C55: 2nd qtr | D55: 3nd qtr | E55: 4th qtr
A56: 2021 | B56: =SUM(B37:D37) -> 1080 | C56: =SUM(E37:G37) -> 1317 | D56: =SUM(H37:J37) -> 1011 | E56: =SUM(K37:M37) -> 992
A57: 2022 | B57: =SUM(B38:D38) -> 920 | C57: =SUM(E38:G38) -> 965 | D57: =SUM(H38:J38) -> 729 | E57: =SUM(K38:M38) -> 570
A58: 2023 | B58: =SUM(B39:D39) -> 557 | C58: =SUM(E39:G39) -> 688 | D58: =SUM(H39:J39) -> 579 | E58: =SUM(K39:M39) -> 506
A59: 2024 | B59: =SUM(B40:D40) -> 486 | C59: =SUM(E40:G40) -> 608 | D59: =SUM(H40:J40) -> 568 | E59: =SUM(K40:M40) -> 513
A60: 2025 | B60: =SUM(B41:D41) -> 467 | C60: =SUM(E41:G41) -> 0 | D60: =SUM(H41:J41) -> 0 | E60: =SUM(K41:M41) -> 0
E63: Quarterly Sales
E64: Month / Year | F64: Count | G64: %Chg
E65: 1st Qtr'25 | F65: =SUM(B41:D41) -> 467 | G65: =(F65-F66)/F66 -> -0.03909465
E66: 1st Qtr'24 | F66: =SUM(B40:D40) -> 486 | G66: =(F66-F67)/F67 -> -0.12746858
E67: 1st Qtr'23 | F67: =SUM(B39:D39) -> 557 | G67: =(F67-F68)/F68 -> -0.39456522
E68: 1st Qtr'22 | F68: =SUM(B38:D38) -> 920
M71: x

Sheet 3 Yr Snapshot
B1: ='Raw Data'!U36 -> 38357 | C1: ='Raw Data'!V36 -> 38388 | D1: ='Raw Data'!W36 -> 38416 | E1: ='Raw Data'!X36 -> 38447 | F1: ='Raw Data'!Y36 -> 38477 | G1: ='Raw Data'!Z36 -> 38508 | H1: ='Raw Data'!AA36 -> 38538 | I1: ='Raw Data'!AB36 -> 38569 | ... EP1: ='Raw Data'!FI36 -> 42741 | EQ1: 42783 | ER1: 42811 | ES1: 42842 | ET1: 42872 | EU1: 42903 | EV1: 42933 | EW1: 42964 | EX1: 42995 | EY1: 43025 | EZ1: 43056 | FA1: 43086 | FB1: 43117 | FC1: 43148 | FD1: 43176 | FE1: 43207 | FF1: 43237 | FG1: 43268 | FH1: 43298 | FI1: 43329 | FJ1: 43360 | FK1: 43390 | FL1: 43421 | FM1: 43451 | FN1: 43482 | FO1: 43513 | FP1: 43541 | FQ1: 43572 | FR1: 43602 | FS1: 43633 | FT1: 43663 | FU1: 43694 | FV1: 43725 | FW1: 43755 | FX1: 43786 | FY1: 43816 | FZ1: 43847 | GA1: 43878 | GB1: 43907 | GC1: 43938 | GD1: 43968 | GE1: 43999 | GF1: 44029 | GG1: 44060 | GH1: 44091 | GI1: 44121 | GJ1: 44152 | GK1: 44182 | GL1: 44213 | GM1: 44244 | GN1: 44272 | GO1: 44303 | GP1: 44333 | GQ1: 44364 | GR1: 44394 | GS1: 44425 | GT1: 44456 | GU1: 44486 | GV1: 44517 | GW1: 44547 | GX1: 44578 | GY1: 44609 | GZ1: 44637 | HA1: 44668 | HB1: 44698 | HC1: 44729 | HD1: 44759 | HE1: 44790 | HF1: 44821 | HG1: 44851 | HH1: 44882 | HI1: 44912 | HJ1: 44943 | HK1: 44974 | HL1: 45002 | HM1: 45033 | HN1: 45063 | HO1: 45094 | HP1: 45124 | HQ1: 45155 | HR1: 45186 | HS1: 45216 | HT1: 45247 | HU1: 45277 | HV1: 45308 | HW1: 45339 | HX1: 45368 | HY1: 45399 | HZ1: 45429 | IA1: 45460 | IB1: 45490 | IC1: 45521 | ID1: 45552 | IE1: 45582 | IF1: 45613 | IG1: 45643 | IH1: 45674
A2: Sold Residential | B2: ='Raw Data'!U45 -> 149 | C2: ='Raw Data'!V45 -> 119 | D2: ='Raw Data'!W45 -> 190 | E2: ='Raw Data'!X45 -> 208 | F2: ='Raw Data'!Y45 -> 286 | G2: ='Raw Data'!Z45 -> 234 | H2: ='Raw Data'!AA45 -> 167 | I2: ='Raw Data'!AB45 -> 178 | ... IH2: ='Raw Data'!JA45 -> 129
A3: Sold Land | B3: ='Raw Data'!U46 -> 96 | C3: ='Raw Data'!V46 -> 61 | D3: ='Raw Data'!W46 -> 91 | E3: ='Raw Data'!X46 -> 106 | F3: ='Raw Data'!Y46 -> 111 | G3: ='Raw Data'!Z46 -> 114 | H3: ='Raw Data'!AA46 -> 69 | I3: ='Raw Data'!AB46 -> 83 | ... IH3: ='Raw Data'!JA46 -> 34
A4: Sold Commercial | B4: ='Raw Data'!U47 -> 1 | C4: ='Raw Data'!V47 -> 3 | D4: ='Raw Data'!W47 -> 3 | E4: ='Raw Data'!X47 -> 4 | F4: ='Raw Data'!Y47 -> 4 | G4: ='Raw Data'!Z47 -> 6 | H4: ='Raw Data'!AA47 -> 4 | I4: ='Raw Data'!AB47 -> 4 | ... IH4: ='Raw Data'!JA47 -> 3
A5: Total | B5: ='Raw Data'!U48 -> 246 | C5: ='Raw Data'!V48 -> 183 | D5: ='Raw Data'!W48 -> 284 | E5: ='Raw Data'!X48 -> 318 | F5: ='Raw Data'!Y48 -> 401 | G5: ='Raw Data'!Z48 -> 354 | H5: ='Raw Data'!AA48 -> 240 | I5: ='Raw Data'!AB48 -> 265 | ... IH5: ='Raw Data'!JA48 -> 166

Sheet 1 YR Snapshot
B1: ='Raw Data'!U36 -> 38357 | C1: ='Raw Data'!V36 -> 38388 | D1: ='Raw Data'!W36 -> 38416 | E1: ='Raw Data'!X36 -> 38447 | F1: ='Raw Data'!Y36 -> 38477 | G1: ='Raw Data'!Z36 -> 38508 | H1: ='Raw Data'!AA36 -> 38538 | I1: ='Raw Data'!AB36 -> 38569 | ... HV1: ='Raw Data'!IO36 -> 45314 | HW1: 45346 | HX1: 45375 | HY1: ='Raw Data'!IR36 -> 45405 | HZ1: 45406 | IA1: 45436 | IB1: 45467 | IC1: 45497 | ID1: 45528 | IE1: 45559 | IF1: 45589 | IG1: 45620 | IH1: 45650 | II1: 45681 | IJ1: 45712 | IK1: 45740
A2: Sold Residential | B2: ='Raw Data'!U45 -> 149 | C2: ='Raw Data'!V45 -> 119 | D2: ='Raw Data'!W45 -> 190 | E2: ='Raw Data'!X45 -> 208 | F2: ='Raw Data'!Y45 -> 286 | G2: ='Raw Data'!Z45 -> 234 | H2: ='Raw Data'!AA45 -> 167 | I2: ='Raw Data'!AB45 -> 178 | ... IK2: ='Raw Data'!JD45 -> 0
A3: Sold Land | B3: ='Raw Data'!U46 -> 96 | C3: ='Raw Data'!V46 -> 61 | D3: ='Raw Data'!W46 -> 91 | E3: ='Raw Data'!X46 -> 106 | F3: ='Raw Data'!Y46 -> 111 | G3: ='Raw Data'!Z46 -> 114 | H3: ='Raw Data'!AA46 -> 69 | I3: ='Raw Data'!AB46 -> 83 | ... IK3: ='Raw Data'!JD46 -> 0
A4: Sold Commercial | B4: ='Raw Data'!U47 -> 1 | C4: ='Raw Data'!V47 -> 3 | D4: ='Raw Data'!W47 -> 3 | E4: ='Raw Data'!X47 -> 4 | F4: ='Raw Data'!Y47 -> 4 | G4: ='Raw Data'!Z47 -> 6 | H4: ='Raw Data'!AA47 -> 4 | I4: ='Raw Data'!AB47 -> 4 | ... IK4: ='Raw Data'!JD47 -> 0
A5: Total | B5: ='Raw Data'!U48 -> 246 | C5: ='Raw Data'!V48 -> 183 | D5: ='Raw Data'!W48 -> 284 | E5: ='Raw Data'!X48 -> 318 | F5: ='Raw Data'!Y48 -> 401 | G5: ='Raw Data'!Z48 -> 354 | H5: ='Raw Data'!AA48 -> 240 | I5: ='Raw Data'!AB48 -> 265 | ... IK5: ='Raw Data'!JD48 -> 0
HW8: Jan | HX8: Feb | HY8: Mar | HZ8: Apr | IA8: May | IB8: Jun | IC8: July | ID8: Aug | IE8: Sep | IF8: Oct | IG8: Nov | IH8: Dec
HV9: 2005 | HW9: ='Raw Data'!U45 -> 149 | HX9: ='Raw Data'!V45 -> 119 | HY9: ='Raw Data'!W45 -> 190 | HZ9: ='Raw Data'!X45 -> 208 | IA9: ='Raw Data'!Y45 -> 286 | IB9: ='Raw Data'!Z45 -> 234 | IC9: ='Raw Data'!AA45 -> 167 | ID9: ='Raw Data'!AB45 -> 178 | ... IH9: ='Raw Data'!AF45 -> 108 | II9: =SUM(HW9:IH9) -> 2104
HV10: 2006 | HW10: ='Raw Data'!AG45 -> 97 | HX10: ='Raw Data'!AH45 -> 93 | HY10: ='Raw Data'!AI45 -> 122 | HZ10: ='Raw Data'!AJ45 -> 118 | IA10: ='Raw Data'!AK45 -> 151 | IB10: ='Raw Data'!AL45 -> 117 | IC10: ='Raw Data'!AM45 -> 83 | ID10: ='Raw Data'!AN45 -> 106 | ... IH10: ='Raw Data'!AR45 -> 89 | II10: =SUM(HW10:IH10) -> 1269
HV11: 2007 | HW11: ='Raw Data'!AS45 -> 76 | HX11: ='Raw Data'!AT45 -> 103 | HY11: ='Raw Data'!AU45 -> 100 | HZ11: ='Raw Data'!AV45 -> 119 | IA11: ='Raw Data'!AW45 -> 137 | IB11: ='Raw Data'!AX45 -> 117 | IC11: ='Raw Data'!AY45 -> 103 | ID11: ='Raw Data'!AZ45 -> 106 | ... IH11: ='Raw Data'!BD45 -> 82 | II11: =SUM(HW11:IH11) -> 1235
HV12: 2008 | HW12: ='Raw Data'!BE45 -> 57 | HX12: ='Raw Data'!BF45 -> 75 | HY12: ='Raw Data'!BG45 -> 96 | HZ12: ='Raw Data'!BH45 -> 92 | IA12: ='Raw Data'!BI45 -> 111 | IB12: ='Raw Data'!BJ45 -> 110 | IC12: ='Raw Data'!BK45 -> 94 | ID12: ='Raw Data'!BL45 -> 103 | ... IH12: ='Raw Data'!BP45 -> 69 | II12: =SUM(HW12:IH12) -> 1045
HV13: 2009 | HW13: ='Raw Data'!BQ45 -> 42 | HX13: ='Raw Data'!BR45 -> 68 | HY13: ='Raw Data'!BS45 -> 84 | HZ13: ='Raw Data'!BT45 -> 81 | IA13: ='Raw Data'!BU45 -> 111 | IB13: ='Raw Data'!BV45 -> 114 | IC13: ='Raw Data'!BW45 -> 105 | ID13: ='Raw Data'!BX45 -> 105 | ... IH13: ='Raw Data'!CB45 -> 100 | II13: =SUM(HW13:IH13) -> 1126
HV14: 2010 | HW14: ='Raw Data'!CC45 -> 86 | HX14: ='Raw Data'!CD45 -> 72 | HY14: ='Raw Data'!CE45 -> 113 | HZ14: ='Raw Data'!CF45 -> 136 | IA14: ='Raw Data'!CG45 -> 151 | IB14: ='Raw Data'!CH45 -> 137 | IC14: ='Raw Data'!CI45 -> 125 | ID14: ='Raw Data'!CJ45 -> 99 | ... IH14: ='Raw Data'!CN45 -> 125 | II14: =SUM(HW14:IH14) -> 1374
HV15: 2011 | HW15: ='Raw Data'!CO45 -> 83 | HX15: ='Raw Data'!CP45 -> 87 | HY15: ='Raw Data'!CQ45 -> 130 | HZ15: ='Raw Data'!CR45 -> 137 | IA15: ='Raw Data'!CS45 -> 124 | IB15: ='Raw Data'!CT45 -> 142 | IC15: ='Raw Data'!CU45 -> 127 | ID15: ='Raw Data'!CV45 -> 105 | ... IH15: ='Raw Data'!CZ45 -> 102 | II15: =SUM(HW15:IH15) -> 1333
HV16: 2012 | HW16: ='Raw Data'!DA45 -> 94 | HX16: ='Raw Data'!DB45 -> 112 | HY16: ='Raw Data'!DC45 -> 171 | HZ16: ='Raw Data'!DD45 -> 131 | IA16: ='Raw Data'!DE45 -> 165 | IB16: ='Raw Data'!DF45 -> 146 | IC16: ='Raw Data'!DG45 -> 121 | ID16: ='Raw Data'!DH45 -> 125 | ... IH16: ='Raw Data'!DL45 -> 109 | II16: =SUM(HW16:IH16) -> 1583
HV17: 2013 | HW17: ='Raw Data'!DM45 -> 89 | HX17: ='Raw Data'!DN45 -> 91 | HY17: ='Raw Data'!DO45 -> 136 | HZ17: ='Raw Data'!DP45 -> 168 | IA17: ='Raw Data'!DQ45 -> 157 | IB17: ='Raw Data'!DR45 -> 150 | IC17: ='Raw Data'!DS45 -> 161 | ID17: ='Raw Data'!DT45 -> 136 | ... IH17: ='Raw Data'!DX45 -> 125 | II17: =SUM(HW17:IH17) -> 1569
HV18: 2014 | HW18: ='Raw Data'!DY45 -> 106 | HX18: ='Raw Data'!DZ45 -> 88 | HY18: ='Raw Data'!EA45 -> 115 | HZ18: ='Raw Data'!EB45 -> 149 | IA18: ='Raw Data'!EC45 -> 192 | IB18: ='Raw Data'!ED45 -> 147 | IC18: ='Raw Data'!EE45 -> 122 | ID18: ='Raw Data'!EF45 -> 127 | ... IH18: ='Raw Data'!EJ45 -> 157 | II18: =SUM(HW18:IH18) -> 1607
HV19: 2015 | HW19: =DR5 -> 129 | HX19: =DS5 -> 142 | HY19: =DT5 -> 184 | HZ19: =DU5 -> 193 | IA19: =DV5 -> 241 | IB19: =DW5 -> 227 | IC19: =DX5 -> 218 | ID19: =DY5 -> 187 | ... IH19: =EC5 -> 198 | II19: =SUM(HW19:IH19) -> 2292
HV20: 2016 | HW20: =ED2 -> 111 | HX20: =EE2 -> 92 | HY20: =EF2 -> 138 | HZ20: =EG2 -> 158 | IA20: =EH2 -> 175 | IB20: =EI2 -> 185 | IC20: =EJ2 -> 155 | ID20: =EK2 -> 159 | ... IH20: =EO2 -> 173 | II20: =SUM(HW20:IH20) -> 1790
HV21: 2017 | HW21: =EP2 -> 112 | HX21: =EQ2 -> 129 | HY21: =ER2 -> 180 | HZ21: =ES2 -> 180 | IA21: =ET2 -> 203 | IB21: =EU2 -> 218 | IC21: =EV2 -> 136 | ID21: =EW2 -> 171 | ... IH21: =FA2 -> 164 | II21: =SUM(HW21:IH21) -> 1985
HV22: 2018 | HW22: =FB2 -> 118 | HX22: =FC2 -> 89 | HY22: =FD2 -> 187 | HZ22: =FE2 -> 186 | IA22: =FF2 -> 219 | IB22: =FG2 -> 188 | IC22: =FH2 -> 172 | ID22: =FI2 -> 189 | ... IH22: =FM2 -> 166 | II22: =SUM(HW22:IH22) -> 1967
HV23: 2019 | HW23: =FN2 -> 119 | HX23: =FO2 -> 123 | HY23: =FP2 -> 184 | HZ23: =FQ2 -> 189 | IA23: =FR2 -> 217 | IB23: =FS2 -> 190 | IC23: =FT2 -> 185 | ID23: =FU2 -> 201 | ... IH23: =FY2 -> 174 | II23: =SUM(HW23:IH23) -> 2139
HV24: 2020 | HW24: =FZ2 -> 148 | HX24: =GA2 -> 146 | HY24: =GB2 -> 198 | HZ24: =GC2 -> 154 | IA24: =GD2 -> 150 | IB24: =GE2 -> 221 | IC24: =GF2 -> 396 | ID24: =GG2 -> 322 | ... IH24: =GK2 -> 316 | II24: =SUM(HW24:IH24) -> 3091
HV25: 2021 | HW25: =GL2 -> 263 | HX25: =GM2 -> 237 | HY25: =GN2 -> 377 | HZ25: =GO2 -> 349 | IA25: =GP2 -> 337 | IB25: =GQ2 -> 326 | IC25: =GR2 -> 263 | ID25: =GS2 -> 234 | ... IH25: =GW2 -> 240 | II25: =SUM(HW25:IH25) -> 3376
HV26: 2022 | HW26: =GX2 -> 225 | HX26: =GY2 -> 182 | HY26: =GZ2 -> 300 | HZ26: =HA2 -> 265 | IA26: =HB2 -> 247 | IB26: =HC2 -> 235 | IC26: =HD2 -> 171 | ID26: =HE2 -> 201 | ... IH26: =HI2 -> 131 | II26: =SUM(HW26:IH26) -> 2458
HV27: 2023 | HW27: =HJ2 -> 101 | HX27: =HK2 -> 137 | HY27: =HL2 -> 193 | HZ27: =HM2 -> 166 | IA27: =HN2 -> 184 | IB27: =HO2 -> 189 | IC27: =HP2 -> 129 | ID27: =HQ2 -> 143 | ... IH27: =HU2 -> 116 | II27: =SUM(HW27:IH27) -> 1791
IE30: Residential Sales
IE31: Month / Year | IF31: Count | IG31: %Chg
IE32: Dec'23 | IF32: =IG27 -> 137 | IG32: =(IF32-IF33)/IF33 -> -0.14906832
IE33: Dec'22 | IF33: =IG26 -> 161 | IG33: =(IF33-IF34)/IF34 -> -0.39700375
IE34: Dec'21 | IF34: =IG25 -> 267 | IG34: =(IF34-IF35)/IF35 -> -0.13870968
IE35: Dec'20 | IF35: =IG24 -> 310

Sheet Distressed Data
B1: ='Raw Data'!BO44 -> 39766 | C1: ='Raw Data'!BP44 -> 39803 | D1: ='Raw Data'!BQ44 -> 39840 | E1: ='Raw Data'!BR44 -> 39853 | F1: ='Raw Data'!BS44 -> 39881 | G1: ='Raw Data'!BT44 -> 39912 | H1: ='Raw Data'!BU44 -> 39942 | I1: ='Raw Data'!BV44 -> 39973 | ... ES1: ='Raw Data'!HF44 -> 44236 | ET1: 44276 | EU1: 44307 | EV1: 44337 | EW1: 44368 | EX1: 44398 | EY1: 44429 | EZ1: 44460 | FA1: 44490 | FB1: 44521 | FC1: 44551 | FD1: 44582 | FE1: 44613 | FF1: 44641 | FG1: 44672 | FH1: 44702 | FI1: 44733 | FJ1: 44763 | FK1: 44794 | FL1: 44825 | FM1: 44855 | FN1: 44886 | FO1: 44916 | FP1: 44947 | FQ1: 44978 | FR1: 45006 | FS1: 45037 | FT1: 45067 | FU1: 45098 | FV1: 45128 | FW1: 45159 | FX1: 45190 | FY1: 45220 | FZ1: 45251 | GA1: 45281 | GB1: 45315 | GC1: 45346 | GD1: 45375 | GE1: 45406 | GF1: 45436 | GG1: 45467 | GH1: 45497 | GI1: 45528 | GJ1: 45559 | GK1: 45589 | GL1: 45620 | GM1: 45650 | GN1: 45681 | GO1: 45712 | GP1: 45740 | GQ1: 45771 | GR1: 45801 | GS1: 45832 | GT1: 45862 | GU1: 45893 | GV1: 45924 | GW1: 45954 | GX1: 45985 | GY1: 46015
A2: Total Residential Sold | B2: ='Raw Data'!BO45 -> 60 | C2: ='Raw Data'!BP45 -> 69 | D2: ='Raw Data'!BQ45 -> 42 | E2: ='Raw Data'!BR45 -> 68 | F2: ='Raw Data'!BS45 -> 84 | G2: ='Raw Data'!BT45 -> 81 | H2: ='Raw Data'!BU45 -> 111 | I2: ='Raw Data'!BV45 -> 114 | ... GY2: ='Raw Data'!JL45 -> 0
A3: Potential Short Sale | B3: ='Raw Data'!BO85 -> 2 | C3: ='Raw Data'!BP85 -> 7 | D3: ='Raw Data'!BQ85 -> 2 | E3: ='Raw Data'!BR85 -> 4 | F3: ='Raw Data'!BS85 -> 10 | G3: ='Raw Data'!BT85 -> 9 | H3: ='Raw Data'!BU85 -> 6 | I3: ='Raw Data'!BV85 -> 11 | ... GY3: ='Raw Data'!JL85 -> 0
A4: Bank Owned | B4: ='Raw Data'!BO86 -> 6 | C4: ='Raw Data'!BP86 -> 6 | D4: ='Raw Data'!BQ86 -> 5 | E4: ='Raw Data'!BR86 -> 21 | F4: ='Raw Data'!BS86 -> 16 | G4: ='Raw Data'!BT86 -> 15 | H4: ='Raw Data'!BU86 -> 20 | I4: ='Raw Data'!BV86 -> 18 | ... GY4: ='Raw Data'!JL86 -> 0
A5: Percent Potential Short Sale | B5: =B3/B2 -> 0.033333333 | C5: =C3/C2 -> 0.10144928 | D5: =D3/D2 -> 0.047619048 | E5: =E3/E2 -> 0.058823529 | F5: =F3/F2 -> 0.11904762 | G5: =G3/G2 -> 0.11111111 | H5: =H3/H2 -> 0.054054054 | I5: =I3/I2 -> 0.096491228 | ... GY5: =GY3/GY2 -> #DIV/0!
A6: Percent Bank Owned | B6: =B4/B2 -> 0.1 | C6: =C4/C2 -> 0.086956522 | D6: =D4/D2 -> 0.11904762 | E6: =E4/E2 -> 0.30882353 | F6: =F4/F2 -> 0.19047619 | G6: =G4/G2 -> 0.18518519 | H6: =H4/H2 -> 0.18018018 | I6: =I4/I2 -> 0.15789474 | ... GY6: =GY4/GY2 -> #DIV/0!
A7: Total Percent | B7: =(B3+B4)/B2 -> 0.13333333 | C7: =(C3+C4)/C2 -> 0.1884058 | D7: =(D3+D4)/D2 -> 0.16666667 | E7: =(E3+E4)/E2 -> 0.36764706 | F7: =(F3+F4)/F2 -> 0.30952381 | G7: =(G3+G4)/G2 -> 0.2962963 | H7: =(H3+H4)/H2 -> 0.23423423 | I7: =(I3+I4)/I2 -> 0.25438596 | ... GY7: =(GY3+GY4)/GY2 -> #DIV/0!
A10: Total distressed sold | B10: =B3+B4 -> 8 | C10: =C3+C4 -> 13 | D10: =D3+D4 -> 7 | E10: =E3+E4 -> 25 | F10: =F3+F4 -> 26 | G10: =G3+G4 -> 24 | H10: =H3+H4 -> 26 | I10: =I3+I4 -> 29 | ... GY10: =GY3+GY4 -> 0
A11: Total distressed inventory | T11: 299 | U11: 294 | V11: 306 | W11: 274 | X11: 295 | Y11: 258 | Z11: 262 | AA11: 288 | AB11: 301 | AC11: 282 | AD11: 279 | AE11: =SUM(AE15:AE16) -> 273 | AF11: =SUM(AF15:AF16) -> 251 | AG11: =SUM(AG15:AG16) -> 248 | AH11: =SUM(AH15:AH16) -> 239 | AI11: =SUM(AI15:AI16) -> 244 | AJ11: =SUM(AJ15:AJ16) -> 229 | AK11: =SUM(AK15:AK16) -> 251 | AL11: =SUM(AL15:AL16) -> 182 | ... GY11: =SUM(GY15:GY16) -> 0
A12: Percent of Inventory | T12: =T10/T11 -> 0.17391304 | U12: =U10/U11 -> 0.18367347 | V12: =V10/V11 -> 0.13398693 | W12: =W10/W11 -> 0.1459854 | X12: =X10/X11 -> 0.16949153 | Y12: =Y10/Y11 -> 0.13565891 | Z12: =Z10/Z11 -> 0.15648855 | AA12: =AA10/AA11 -> 0.17013889 | ... GY12: =GY10/GY11 -> #DIV/0!
AE14: 40634 | AF14: 40664 | AG14: 40695 | AH14: 40725 | AI14: 40756 | AJ14: 40787 | AK14: 40817 | AL14: 40848 | AM14: 40878 | AN14: 40909 | AO14: 40940 | AP14: 40969 | AQ14: 41000 | AR14: 41030 | AS14: 41061 | AT14: 41091 | AU14: 41122 | AV14: 41153 | AW14: 41183 | AX14: 41214 | AY14: 41244 | AZ14: 41275 | BA14: 41306 | BB14: 41334 | BC14: 41365 | BD14: 41395 | BE14: 41426 | BF14: 41456 | BG14: 41487 | BH14: 41518 | BI14: 41548 | BJ14: 41579 | BK14: 41609 | BL14: 41640 | BM14: 41671 | BN14: 41699 | BO14: 41730 | BP14: 41760 | BQ14: 41791 | BR14: 41821 | BS14: 41852 | BT14: 41883 | BU14: 41913 | BV14: 41944 | BW14: 41974 | BX14: 42005 | BY14: 42036 | BZ14: 42064 | CA14: 42095 | CB14: 42125 | CC14: 42156 | CD14: 42186 | CE14: 42217 | CF14: 42248 | CG14: 42278 | CH14: 42309 | CI14: 42339 | CJ14: 42370 | CK14: 42401 | CL14: 42430 | CM14: 42461 | CN14: 42491 | CO14: 42522 | CP14: 42552 | CQ14: 42583 | CR14: 42614 | CS14: 42644 | CT14: 42675 | CU14: 42705 | CV14: 42736 | CW14: 42767 | CX14: 42795 | CY14: 42826 | CZ14: 42856 | DA14: 42887 | DB14: 42917 | DC14: 42948 | DD14: 42979 | DE14: 43009 | DF14: 43040 | DG14: 43070 | DH14: 43101 | DI14: 43132 | DJ14: 43160 | DK14: 43191 | DL14: 43221 | DM14: 43252 | DN14: 43282 | DO14: 43313 | DP14: 43344 | DQ14: 43374 | DR14: 43405 | DS14: 43435 | DT14: 43466 | DU14: 43497 | DV14: 43525 | DW14: 43556 | DX14: 43586 | DY14: 43617 | DZ14: 43647 | EA14: 43678 | EB14: 43709 | EC14: 43739 | ED14: 43770 | EE14: 43800 | EF14: 43831 | EG14: 43862 | EH14: 43891 | EI14: 43922 | EJ14: 43952 | EK14: 43983 | EL14: 44013 | EM14: 44044 | EN14: 44075 | EO14: 44105 | EP14: 44136 | EQ14: 44166 | ER14: 44197 | ES14: 44228 | ET14: 44256 | EU14: 44287 | EV14: 44317 | EW14: 44348 | EX14: 44378 | EY14: 44409 | EZ14: 44440 | FA14: 44470 | FB14: 44501 | FC14: 44531 | FD14: 44562 | FE14: 44593 | FF14: 44621 | FG14: 44652 | FH14: 44682 | FI14: 44713 | FJ14: 44743 | FK14: 44774 | FL14: 44805 | FM14: 44835 | FN14: 44866 | FO14: 44896 | FP14: 44927 | FQ14: 44958 | FR14: 44986 | FS14: 45017 | FT14: 45047 | FU14: 45078 | FV14: 45108 | FW14: 45139 | FX14: 45170 | FY14: 45200 | FZ14: 45231 | GA14: 45261 | GB14: 45292 | GC14: 45323 | GD14: 45352 | GE14: 45383 | GF14: 45413 | GG14: 45444 | GH14: 45474 | GI14: 45505 | GJ14: 45536 | GK14: 45566 | GL14: 45597 | GM14: 45627 | GN14: 45658 | GO14: 45689 | GP14: 45717 | GQ14: 45748 | GR14: 45778 | GS14: 45809 | GT14: 45839 | GU14: 45870 | GV14: 45901 | GW14: 45931 | GX14: 45962 | GY14: 45992
A15: Short Sale Inventory | AD15: Short Sale Inventory | AE15: ='Raw Data'!CR88 -> 190 | AF15: ='Raw Data'!CS88 -> 173 | AG15: ='Raw Data'!CT88 -> 177 | AH15: ='Raw Data'!CU88 -> 178 | AI15: ='Raw Data'!CV88 -> 175 | AJ15: ='Raw Data'!CW88 -> 169 | AK15: ='Raw Data'!CX88 -> 186 | AL15: ='Raw Data'!CY88 -> 120 | ... GY15: ='Raw Data'!JL88 -> 0
A16: Bank Owned Inventory | AD16: Bank Owned Inventory | AE16: ='Raw Data'!CR89 -> 83 | AF16: ='Raw Data'!CS89 -> 78 | AG16: ='Raw Data'!CT89 -> 71 | AH16: ='Raw Data'!CU89 -> 61 | AI16: ='Raw Data'!CV89 -> 69 | AJ16: ='Raw Data'!CW89 -> 60 | AK16: ='Raw Data'!CX89 -> 65 | AL16: ='Raw Data'!CY89 -> 62 | ... GY16: ='Raw Data'!JL89 -> 0
A17: Percent of Active Inventory | AD17: Percent of Active Inventory | AE17: =SUM(AE15:AE16)/'Raw Data'!CR21 -> 0.14007183 | AF17: =SUM(AF15:AF16)/'Raw Data'!CS21 -> 0.12786551 | AG17: =SUM(AG15:AG16)/'Raw Data'!CT21 -> 0.12796698 | AH17: =SUM(AH15:AH16)/'Raw Data'!CU21 -> 0.12712766 | AI17: =SUM(AI15:AI16)/'Raw Data'!CV21 -> 0.13196322 | AJ17: =SUM(AJ15:AJ16)/'Raw Data'!CW21 -> 0.12836323 | AK17: =SUM(AK15:AK16)/'Raw Data'!CX21 -> 0.1340812 | AL17: =SUM(AL15:AL16)/'Raw Data'!CY21 -> 0.10282486 | ... FQ17: =SUM(FQ15:FQ16)/'Raw Data'!ID21 -> 0 | FR17: =SUM(FR15:FR16)/'Raw Data'!#REF! -> #REF! | FS17: =SUM(FS15:FS16)/'Raw Data'!IF21 -> 0.010781671 | FT17: =SUM(FT15:FT16)/'Raw Data'!IG21 -> 0 | FU17: =SUM(FU15:FU16)/'Raw Data'!IH21 -> 0.0072815534 | FV17: =SUM(FV15:FV16)/'Raw Data'!II21 -> 0.0065789474 | FW17: =SUM(FW15:FW16)/'Raw Data'!IJ21 -> 0 | FX17: =SUM(FX15:FX16)/'Raw Data'!IK21 -> 0 | FY17: =SUM(FY15:FY16)/'Raw Data'!IL21 -> 0.0038986355 | FZ17: =SUM(FZ15:FZ16)/'Raw Data'!IM21 -> 0.0036832413 | ... GY17: =SUM(GY15:GY16)/'Raw Data'!JL21 -> #DIV/0!
B19: 39753 | C19: 39783 | D19: 39814 | E19: 39845 | F19: 39873 | G19: 39904 | H19: 39934 | I19: 39965 | J19: 39995 | K19: 40026 | L19: 40057 | M19: 40087 | N19: 40118 | O19: 40148 | P19: 40179 | Q19: 40210 | R19: 40238 | S19: 40269 | T19: 40299 | U19: 40330 | V19: 40360 | W19: 40391 | X19: 40422 | Y19: 40452 | Z19: 40483 | AA19: 40513 | AB19: 40544 | AC19: 40575 | AD19: 40603 | AE19: 40634 | AF19: 40664 | AG19: 40695 | AH19: 40725 | AI19: 40756 | AJ19: 40787 | AK19: 40817 | AL19: 40848 | AM19: 40878 | AN19: 40909 | AO19: 40940 | AP19: 40969 | AQ19: 41000 | AR19: 41030 | AS19: 41061 | AT19: 41091 | AU19: 41122 | AV19: 41153 | AW19: 41183 | AX19: 41214 | AY19: 41244 | AZ19: 41275 | BA19: 41306 | BB19: 41334 | BC19: 41365 | BD19: 41395 | BE19: 41426 | BF19: 41456 | BG19: 41487 | BH19: 41518 | BI19: 41548 | BJ19: 41579 | BK19: 41609 | BL19: 41640 | BM19: 41671 | BN19: 41699 | BO19: 41730 | BP19: 41760 | BQ19: 41791 | BR19: 41821 | BS19: 41852 | BT19: 41883 | BU19: 41913 | BV19: 41944 | BW19: 41974 | BX19: 42005 | BY19: 42036 | BZ19: 42064 | CA19: 42095 | CB19: 42125 | CC19: 42156 | CD19: 42186 | CE19: 42217 | CF19: 42248 | CG19: 42278 | CH19: 42309 | CI19: 42339 | CJ19: 42370 | CK19: 42401 | CL19: 42430 | CM19: 42461 | CN19: 42491 | CO19: 42522 | CP19: 42552 | CQ19: 42583 | CR19: 42614 | CS19: 42644 | CT19: 42675 | CU19: 42705 | CV19: 42736 | CW19: 42767 | CX19: 42795 | CY19: 42826 | CZ19: 42856 | DA19: 42887 | DB19: 42917 | DC19: 42948 | DD19: 42979 | DE19: 43009 | DF19: 43040 | DG19: 43070 | DH19: 43101 | DI19: 43132 | DJ19: 43160 | DK19: 43191 | DL19: 43221 | DM19: 43252 | DN19: 43282 | DO19: 43313 | DP19: 43344 | DQ19: 43374 | DR19: 43405 | DS19: 43435 | DT19: 43466 | DU19: 43497 | DV19: 43525 | DW19: 43556 | DX19: 43586 | DY19: 43617 | DZ19: 43647 | EA19: 43678 | EB19: 43709 | EC19: 43739 | ED19: 43770 | EE19: 43800 | EF19: 43831 | EG19: 43862 | EH19: 43891 | EI19: 43922 | EJ19: 43952 | EK19: 43983 | EL19: 44013 | EM19: 44044 | EN19: 44075 | EO19: 44105 | EP19: 44136 | EQ19: 44166 | ER19: 44197 | ES19: 44228 | ET19: 44256 | EU19: 44287 | EV19: 44317 | EW19: 44348 | EX19: 44378 | EY19: 44409 | EZ19: 44440 | FA19: 44470 | FB19: 44501 | FC19: 44531 | FD19: 44562 | FE19: 44593 | FF19: 44621 | FG19: 44652 | FH19: 44682 | FI19: 44713 | FJ19: 44743 | FK19: 44774 | FL19: 44805 | FM19: 44835 | FN19: 44866 | FO19: 44896 | FP19: 44927 | FQ19: 44958 | FR19: 44986 | FS19: 45017 | FT19: 45047 | FU19: 45078 | FV19: 45108 | FW19: 45139 | FX19: 45170 | FY19: 45200 | FZ19: 45231 | GA19: 45261 | GB19: 45292 | GC19: 45323 | GD19: 45352 | GE19: 45383 | GF19: 45413 | GG19: 45444 | GH19: 45474 | GI19: 45505 | GJ19: 45536 | GK19: 45566 | GL19: 45597 | GM19: 45627 | GN19: 45658 | GO19: 45689 | GP19: 45717 | GQ19: 45748 | GR19: 45778 | GS19: 45809 | GT19: 45839 | GU19: 45870 | GV19: 45901 | GW19: 45931 | GX19: 45962 | GY19: 45992
A21: Short Sale Inventory | B21: =B15 -> 0 | C21: =C15 -> 0 | D21: =D15 -> 0 | E21: =E15 -> 0 | F21: =F15 -> 0 | G21: =G15 -> 0 | H21: =H15 -> 0 | I21: =I15 -> 0 | ... GY21: =GY15 -> 0
A22: Bank Owned Inventory | B22: =B16 -> 0 | C22: =C16 -> 0 | D22: =D16 -> 0 | E22: =E16 -> 0 | F22: =F16 -> 0 | G22: =G16 -> 0 | H22: =H16 -> 0 | I22: =I16 -> 0 | ... GY22: =GY16 -> 0
B23: 39753 | C23: 39783 | D23: 39814 | E23: 39845 | F23: 39873 | G23: 39904 | H23: 39934 | I23: 39965 | J23: 39995 | K23: 40026 | L23: 40057 | M23: 40087 | N23: 40118 | O23: 40148 | P23: 40179 | Q23: 40210 | R23: 40238 | S23: 40269 | T23: 40299 | U23: 40330 | V23: 40360 | W23: 40391 | X23: 40422 | Y23: 40452 | Z23: 40483 | AA23: 40513 | AB23: 40544 | AC23: 40575 | AD23: 40603 | AE23: 40634 | AF23: 40664 | AG23: 40695 | AH23: 40725 | AI23: 40756 | AJ23: 40787 | AK23: 40817 | AL23: 40848 | AM23: 40878 | AN23: 40909 | AO23: 40940 | AP23: 40969 | AQ23: 41000 | AR23: 41030 | AS23: 41061 | AT23: 41091 | AU23: 41122 | AV23: 41153 | AW23: 41183 | AX23: 41214 | AY23: 41244 | AZ23: 41275 | BA23: 41306 | BB23: 41334 | BC23: 41365 | BD23: 41395 | BE23: 41426 | BF23: 41456 | BG23: 41487 | BH23: 41518 | BI23: 41548 | BJ23: 41579 | BK23: 41609 | BL23: 41640 | BM23: 41671 | BN23: 41699 | BO23: 41730 | BP23: 41760 | BQ23: 41791 | BR23: 41821 | BS23: 41852 | BT23: 41883 | BU23: 41913 | BV23: 41944 | BW23: 41974 | BX23: 42005 | BY23: 42036 | BZ23: 42064 | CA23: 42095 | CB23: 42125 | CC23: 42156 | CD23: 42186 | CE23: 42217 | CF23: 42248 | CG23: 42278 | CH23: 42309 | CI23: 42339 | CJ23: 42370 | CK23: 42401 | CL23: 42430 | CM23: 42461 | CN23: 42491 | CO23: 42522 | CP23: 42552 | CQ23: 42583 | CR23: 42614 | CS23: 42644 | CT23: 42675 | CU23: 42705 | CV23: 42736 | CW23: 42767 | CX23: 42795 | CY23: 42826 | CZ23: 42856 | DA23: 42887 | DB23: 42917 | DC23: 42948 | DD23: 42979 | DE23: 43009 | DF23: 43040 | DG23: 43070 | DH23: 43101 | DI23: 43132 | DJ23: 43160 | DK23: 43191 | DL23: 43221 | DM23: 43252 | DN23: 43282 | DO23: 43313 | DP23: 43344 | DQ23: 43374 | DR23: 43405 | DS23: 43435 | DT23: 43466 | DU23: 43497 | DV23: 43525 | DW23: 43556 | DX23: 43586 | DY23: 43617 | DZ23: 43647 | EA23: 43678 | EB23: 43709 | EC23: 43739 | ED23: 43770 | EE23: 43800 | EF23: 43831 | EG23: 43862 | EH23: 43891 | EI23: 43922 | EJ23: 43952 | EK23: 43983 | EL23: 44013 | EM23: 44044 | EN23: 44075 | EO23: 44105 | EP23: 44136 | EQ23: 44166 | ER23: 44197 | ES23: 44228 | ET23: 44256 | EU23: 44287 | EV23: 44317 | EW23: 44348 | EX23: 44378 | EY23: 44409 | EZ23: 44440 | FA23: 44470 | FB23: 44501 | FC23: 44531 | FD23: 44562 | FE23: 44593 | FF23: 44621 | FG23: 44652 | FH23: 44682 | FI23: 44713 | FJ23: 44743 | FK23: 44774 | FL23: 44805 | FM23: 44835 | FN23: 44866 | FO23: 44896 | FP23: 44927
A24: Total Distressed Inventory | B24: =B11 -> 0 | C24: =C11 -> 0 | D24: =D11 -> 0 | E24: =E11 -> 0 | F24: =F11 -> 0 | G24: =G11 -> 0 | H24: =H11 -> 0 | I24: =I11 -> 0 | ... GY24: =GY11 -> 0
A25: Total Distressed Sold | B25: =B10 -> 8 | C25: =C10 -> 13 | D25: =D10 -> 7 | E25: =E10 -> 25 | F25: =F10 -> 26 | G25: =G10 -> 24 | H25: =H10 -> 26 | I25: =I10 -> 29 | ... GY25: =GY10 -> 0
A28: Total Distressed Inventory | GB28: Jan | GC28: Feb | GD28: Mar | GE28: Apr | GF28: May | GG28: Jun | GH28: Jul | GI28: Aug | GJ28: Sep | GK28: Oct | GL28: Nov | GM28: Dec
GA29: 2025 | GB29: =GN24 -> 1 | GC29: =GO24 -> 3 | GD29: =GP24 -> 4 | GE29: =GQ24 -> 0 | GF29: =GR24 -> 0 | GG29: =GS24 -> 0 | GH29: =GT24 -> 0 | GI29: =GU24 -> 0 | ... GM29: =GY24 -> 0
GA30: 2024 | GB30: =GB24 -> 2 | GC30: =GC24 -> 2 | GD30: =GD24 -> 3 | GE30: =GE24 -> 0 | GF30: =GF24 -> 2 | GG30: =GG24 -> 3 | GH30: =GH24 -> 3 | GI30: =GI24 -> 3 | ... GM30: =GM24 -> 2
GA31: 2023 | GB31: =FP24 -> 0 | GC31: =FQ24 -> 0 | GD31: =FR24 -> 2 | GE31: =FS24 -> 4 | GF31: =FT24 -> 0 | GG31: =FU24 -> 3 | GH31: =FV24 -> 3 | GI31: =FW24 -> 0 | ... GM31: =GA24 -> 3
GA32: 2022 | GB32: =FD24 -> 6 | GC32: =FE24 -> 3 | GD32: =FF24 -> 1 | GE32: =FG24 -> 0 | GF32: =FH24 -> 2 | GG32: =FI24 -> 1 | GH32: =FJ24 -> 0 | GI32: =FK24 -> 2 | ... GM32: =FO24 -> 2
GA33: 2021 | GB33: =ER24 -> 5 | GC33: =ES24 -> 6 | GD33: =ET24 -> 3 | GE33: =EU24 -> 4 | GF33: =EV24 -> 4 | GG33: =EW24 -> 5 | GH33: =EX24 -> 4 | GI33: =EY24 -> 1 | ... GM33: =FC24 -> 6
GA34: 2020 | GB34: =EF24 -> 21 | GC34: =EG24 -> 16 | GD34: =EH24 -> 17 | GE34: =EI24 -> 23 | GF34: =EJ24 -> 24 | GG34: =EK24 -> 10 | GH34: =EL24 -> 13 | GI34: =EM24 -> 10 | ... GM34: =EQ24 -> 6
GA35: 2019 | GB35: =DT24 -> 20 | GC35: =DU24 -> 22 | GD35: =DV24 -> 18 | GE35: =DW24 -> 21 | GF35: =DX24 -> 18 | GG35: =DY24 -> 11 | GH35: =DZ24 -> 16 | GI35: =EA24 -> 20 | ... GM35: =EE24 -> 21
GA36: 2018 | GB36: =DH24 -> 23 | GC36: =DI24 -> 25 | GD36: =DJ24 -> 32 | GE36: =DK24 -> 25 | GF36: =DL24 -> 22 | GG36: =DM24 -> 18 | GH36: =DN24 -> 25 | GI36: =DO24 -> 26 | ... GM36: =DS24 -> 23
GA37: 2017 | GB37: =CV24 -> 39 | GC37: =CW24 -> 40 | GD37: =CX24 -> 32 | GE37: =CY24 -> 26 | GF37: =CZ24 -> 32 | GG37: =DA24 -> 35 | GH37: =DB24 -> 25 | GI37: =DC24 -> 23 | ... GM37: =DG24 -> 30
GA38: 2016 | GB38: =CJ24 -> 58 | GC38: =CK24 -> 59 | GD38: =CL24 -> 54 | GE38: =CM24 -> 56 | GF38: =CN24 -> 53 | GG38: =CO24 -> 58 | GH38: =CP24 -> 52 | GI38: =CQ24 -> 57 | ... GM38: =CU24 -> 45
GA39: 2015 | GB39: =BX24 -> 112 | GC39: =BY24 -> 110 | GD39: =BZ24 -> 104 | GE39: =CA24 -> 91 | GF39: =CB24 -> 77 | GG39: =CC24 -> 78 | GH39: =CD24 -> 70 | GI39: =CE24 -> 64 | ... GM39: =CI24 -> 55
A43: Total Distressed Sold | GB43: Jan | GC43: Feb | GD43: Mar | GE43: Apr | GF43: May | GG43: Jun | GH43: Jul | GI43: Aug | GJ43: Sep | GK43: Oct | GL43: Nov | GM43: Dec
GA44: 2025 | GB44: =GN25 -> 0 | GC44: =GO25 -> 1 | GD44: =GP25 -> 0 | GE44: =GQ25 -> 0 | GF44: =GR25 -> 0 | GG44: =GS25 -> 0 | GH44: =GT25 -> 0 | GI44: =GU25 -> 0 | ... GM44: =GY25 -> 0
GA45: 2024 | GB45: =GB25 -> 2 | GC45: =GC25 -> 0 | GD45: =GD25 -> 0 | GE45: =GE25 -> 1 | GF45: =GF25 -> 2 | GG45: =GG25 -> 0 | GH45: =GH25 -> 2 | GI45: =GI25 -> 2 | ... GM45: =GM25 -> 0
GA46: 2023 | GB46: =FP25 -> 0 | GC46: =FQ25 -> 1 | GD46: =FR25 -> 1 | GE46: =FS25 -> 3 | GF46: =FT25 -> 1 | GG46: =FU25 -> 3 | GH46: =FV25 -> 1 | GI46: =FW25 -> 2 | ... GM46: =GA25 -> 1
GA47: 2022 | GB47: =FD25 -> 3 | GC47: =FE25 -> 1 | GD47: =FF25 -> 3 | GE47: =FG25 -> 1 | GF47: =FH25 -> 0 | GG47: =FI25 -> 0 | GH47: =FJ25 -> 2 | GI47: =FK25 -> 1 | ... GM47: =FO25 -> 1
GA48: 2021 | GB48: =ER25 -> 4 | GC48: =ES25 -> 1 | GD48: =ET25 -> 4 | GE48: =EU25 -> 2 | GF48: =EV25 -> 1 | GG48: =EW25 -> 3 | GH48: =EX25 -> 2 | GI48: =EY25 -> 5 | ... GM48: =FC25 -> 1
GA49: 2020 | GB49: =EF25 -> 9 | GC49: =EG25 -> 8 | GD49: =EH25 -> 8 | GE49: =EI25 -> 4 | GF49: =EJ25 -> 5 | GG49: =EK25 -> 9 | GH49: =EL25 -> 3 | GI49: =EM25 -> 5 | ... GM49: =EQ25 -> 3
FM50: 2019 | FN50: =DT25 -> 2 | FO50: =DU25 -> 2 | FP50: =DV25 -> 6 | FQ50: =DW25 -> 6 | FR50: =DX25 -> 7 | FS50: =DY25 -> 2 | FT50: =DZ25 -> 6 | FU50: =EA25 -> 5 | ... FY50: =EE25 -> 3
FM51: 2018 | FN51: =DH25 -> 4 | FO51: =DI25 -> 4 | FP51: =DJ25 -> 13 | FQ51: =DK25 -> 5 | FR51: =DL25 -> 6 | FS51: =DM25 -> 6 | FT51: =DN25 -> 3 | FU51: =DO25 -> 11 | ... FY51: =DS25 -> 8
FM52: 2017 | FN52: =CV25 -> 14 | FO52: =CW25 -> 10 | FP52: =CX25 -> 10 | FQ52: =CY25 -> 6 | FR52: =CZ25 -> 14 | FS52: =DA25 -> 11 | FT52: =DB25 -> 6 | FU52: =DC25 -> 5 | ... FY52: =DG25 -> 6
FM53: 2016 | FN53: =CJ25 -> 10 | FO53: =CK25 -> 9 | FP53: =CL25 -> 9 | FQ53: =CM25 -> 10 | FR53: =CN25 -> 10 | FS53: =CO25 -> 11 | FT53: =CP25 -> 9 | FU53: =CQ25 -> 9 | ... FY53: =CU25 -> 11
FM54: 2015 | FN54: =BX25 -> 17 | FO54: =BY25 -> 16 | FP54: =BZ25 -> 19 | FQ54: =CA25 -> 10 | FR54: =CB25 -> 18 | FS54: =CC25 -> 20 | FT54: =CD25 -> 21 | FU54: =CE25 -> 11 | ... FY54: =CI25 -> 13
GG60: Distressed Sale Inventory | GK60: Distressed Sales
GG61: Month / Year | GH61: Count | GI61: %Chg | GK61: Month / Year | GL61: Count | GM61: %Chg
GG62: Mar'25 | GH62: =GD29 -> 4 | GI62: =SUM(GH62-GH63)/GH63 -> 0.33333333 | GK62: Mar'25 | GL62: =GD44 -> 0 | GM62: =SUM(GL62-GL63)/GL63 -> #DIV/0!
GG63: Mar'24 | GH63: =GD30 -> 3 | GI63: =SUM(GH63-GH64)/GH64 -> 0.5 | GK63: Mar'24 | GL63: =GD45 -> 0 | GM63: =SUM(GL63-GL64)/GL64 -> -1
GG64: Mar'23 | GH64: =GD31 -> 2 | GI64: =SUM(GH64-GH65)/GH65 -> 1 | GK64: Mar'23 | GL64: =GD46 -> 1 | GM64: =SUM(GL64-GL65)/GL65 -> -0.66666667
GG65: Mar'22 | GH65: =GD32 -> 1 | GK65: Mar'22 | GL65: =GD47 -> 3
GK70: Yearly Distressed Sales
GK71: Month / Year | GL71: Count | GM71: %Chg
GK72: 2025 | GL72: =GD44 -> 0 | GM72: =SUM(GL73-GL72)/GL73*-1 -> #DIV/0!
GK73: 2024 | GL73: =GD45 -> 0 | GM73: =SUM(GL74-GL73)/GL74*-1 -> -1
GK74: 2023 | GL74: =GD46 -> 1 | GM74: =SUM(GL75-GL74)/GL75*-1 -> -0.66666667
GK75: 2022 | GL75: =GD47 -> 3

Sheet Residential
B1: ='Raw Data'!P44 -> 0 | C1: ='Raw Data'!Q44 -> 0 | D1: ='Raw Data'!R44 -> 0 | E1: ='Raw Data'!S44 -> 0 | F1: ='Raw Data'!T44 -> 0 | G1: ='Raw Data'!U44 -> 38353 | H1: ='Raw Data'!V44 -> 38384 | I1: ='Raw Data'!W44 -> 38412 | ... GR1: ='Raw Data'!HF44 -> 44236 | GS1: 44276 | GT1: 44307 | GU1: 44337 | GV1: 44368 | GW1: 44398 | GX1: 44429 | GY1: 44460 | GZ1: 44490 | HA1: 44521 | HB1: 44551 | HC1: 44582 | HD1: 44613 | HE1: 44641 | HF1: 44672 | HG1: 44702 | HH1: 44733 | HI1: 44763 | HJ1: 44794 | HK1: 44825 | HL1: 44855 | HM1: 44886 | HN1: 44916 | HO1: 44947 | HP1: 44978 | HQ1: 45006 | HR1: 45037 | HS1: 45067 | HT1: 45098 | HU1: 45128 | HV1: 45159 | HW1: 45190 | HX1: 45220 | HY1: 45251 | HZ1: 45281 | IA1: 45312 | IB1: 45343 | IC1: 45372 | ID1: 45403 | IE1: 45433 | IF1: 45464 | IG1: 45494 | IH1: 45525 | II1: 45556 | IJ1: 45586 | IK1: 45617 | IL1: 45647 | IM1: 45678 | IN1: 45709 | IO1: 45737 | IP1: 45768 | IQ1: 45798 | IR1: 45829 | IS1: 45859 | IT1: 45890 | IU1: 45921 | IV1: 45951 | IW1: 45982 | IX1: 46012
A2: ='Raw Data'!A45 -> Residential | B2: ='Raw Data'!P45 -> 0 | C2: ='Raw Data'!Q45 -> 0 | D2: ='Raw Data'!R45 -> 0 | E2: ='Raw Data'!S45 -> 0 | F2: ='Raw Data'!T45 -> 2357 | G2: ='Raw Data'!U45 -> 149 | H2: ='Raw Data'!V45 -> 119 | I2: ='Raw Data'!W45 -> 190 | ... IX2: ='Raw Data'!JL45 -> 0
A3: Total Sold Volume | B3: ='Raw Data'!P69 -> 0 | C3: ='Raw Data'!Q69 -> 0 | D3: ='Raw Data'!R69 -> 0 | E3: ='Raw Data'!S69 -> 0 | F3: ='Raw Data'!T69 -> 0 | G3: ='Raw Data'!U69 -> 0 | H3: ='Raw Data'!V69 -> 0 | I3: ='Raw Data'!W69 -> 0 | ... IX3: ='Raw Data'!JL69 -> 0
AS5: =AS1 -> 39510 | AT5: =AT1 -> 39539 | AU5: =AU1 -> 39569 | AV5: =AV1 -> 39600 | AW5: =AW1 -> 39630 | AX5: =AX1 -> 39661 | AY5: =AY1 -> 39692 | AZ5: =AZ1 -> 39729 | ... GJ5: =GJ1 -> 43991 | GK5: 44032 | GL5: 44063 | GM5: 44094 | GN5: 44124 | GO5: 44155 | GP5: 44185 | GQ5: 44216 | GR5: 44247 | GS5: 44275 | GT5: 44306 | GU5: 44336 | GV5: 44367 | GW5: 44397 | GX5: 44428 | GY5: 44459 | GZ5: 44489 | HA5: 44520 | HB5: 44550 | HC5: 44581 | HD5: 44612 | HE5: 44640 | HF5: 44671 | HG5: 44701 | HH5: 44732 | HI5: 44762 | HJ5: 44793 | HK5: 44824 | HL5: 44854 | HM5: 44885 | HN5: 44915 | HO5: 44946 | HP5: 44977 | HQ5: 45005 | HR5: 45036 | HS5: 45066 | HT5: 45097 | HU5: 45127 | HV5: 45158 | HW5: 45189 | HX5: 45219 | HY5: 45250 | HZ5: 45280 | IA5: 45311 | IB5: 45342 | IC5: 45371 | ID5: 45402 | IE5: 45432 | IF5: 45463 | IG5: 45493 | IH5: 45524 | II5: 45555 | IJ5: 45585 | IK5: 45616 | IL5: 45646 | IM5: 45677 | IN5: 45708 | IO5: 45736 | IP5: 45767 | IQ5: 45797 | IR5: 45828 | IS5: 45858 | IT5: 45889 | IU5: 45920 | IV5: 45950 | IW5: 45981 | IX5: 46011
A6: Average | AS6: ='Raw Data'!BG67 -> 302450 | AT6: ='Raw Data'!BH67 -> 391386 | AU6: ='Raw Data'!BI67 -> 438957 | AV6: ='Raw Data'!BJ67 -> 435930 | AW6: ='Raw Data'!BK67 -> 501898 | AX6: ='Raw Data'!BL67 -> 379874 | AY6: ='Raw Data'!BM67 -> 370092 | AZ6: ='Raw Data'!BN67 -> 387889 | ... ED6: ='Raw Data'!ER67 -> 351395 | EE6: 300000 | EF6: ='Raw Data'!ET67 -> 309539 | EG6: ='Raw Data'!EU67 -> 379797 | EH6: ='Raw Data'!EV67 -> 380843 | EI6: ='Raw Data'!EW67 -> 426842 | EJ6: ='Raw Data'!EX67 -> 363445 | EK6: ='Raw Data'!EY67 -> 379449 | EL6: ='Raw Data'!EZ67 -> 372897 | EM6: ='Raw Data'!FA67 -> 362336 | ... IX6: ='Raw Data'!JL67 -> 0
A7: Total Sold | AS7: ='Raw Data'!BG69 -> 38789750 | AT7: ='Raw Data'!BH69 -> 40704191 | AU7: ='Raw Data'!BI69 -> 47407365 | AV7: ='Raw Data'!BJ69 -> 44900829 | AW7: ='Raw Data'!BK69 -> 43655189 | AX7: ='Raw Data'!BL69 -> 40686545 | AY7: ='Raw Data'!BM69 -> 37749435 | AZ7: ='Raw Data'!BN69 -> 35297989 | ... IX7: ='Raw Data'!JL69 -> 0
AS9: =AS1 -> 39510 | AT9: =AT1 -> 39539 | AU9: =AU1 -> 39569 | AV9: =AV1 -> 39600 | AW9: =AW1 -> 39630 | AX9: =AX1 -> 39661 | AY9: =AY1 -> 39692 | AZ9: =AZ1 -> 39729 | ... GQ9: =GQ1 -> 44205 | GR9: 44247 | GS9: 44275 | GT9: 44306 | GU9: 44336 | GV9: 44367 | GW9: 44397 | GX9: 44428 | GY9: 44459 | GZ9: 44489 | HA9: 44520 | HB9: 44550 | HC9: 44581 | HD9: 44612 | HE9: 44640 | HF9: 44671 | HG9: 44701 | HH9: 44732 | HI9: 44762 | HJ9: 44793 | HK9: 44824 | HL9: 44854 | HM9: 44885 | HN9: 44915 | HO9: 44946 | HP9: 44977 | HQ9: 45005 | HR9: 45036 | HS9: 45066 | HT9: 45097 | HU9: 45127 | HV9: 45158 | HW9: 45189 | HX9: 45219 | HY9: 45250 | HZ9: 45280 | IA9: 45311 | IB9: 45342 | IC9: 45371 | ID9: 45402 | IE9: 45432 | IF9: 45463 | IG9: 45493 | IH9: 45524 | II9: 45555 | IJ9: 45585 | IK9: 45616 | IL9: 45646 | IM9: 45677 | IN9: 45708 | IO9: 45736 | IP9: 45767 | IQ9: 45797 | IR9: 45828 | IS9: 45858 | IT9: 45889 | IU9: 45920 | IV9: 45950 | IW9: 45981 | IX9: 46011
A10: Median Sale Price | AS10: ='Raw Data'!BG68 -> 298825 | AT10: ='Raw Data'!BH68 -> 317000 | AU10: ='Raw Data'!BI68 -> 374000 | AV10: ='Raw Data'!BJ68 -> 332000 | AW10: ='Raw Data'!BK68 -> 399950 | AX10: ='Raw Data'!BL68 -> 275000 | AY10: ='Raw Data'!BM68 -> 325000 | AZ10: ='Raw Data'!BN68 -> 315000 | ... IX10: ='Raw Data'!JL68 -> 0
A11: Units Sold | AS11: ='Raw Data'!BG45 -> 96 | AT11: ='Raw Data'!BH45 -> 92 | AU11: ='Raw Data'!BI45 -> 111 | AV11: ='Raw Data'!BJ45 -> 110 | AW11: ='Raw Data'!BK45 -> 94 | AX11: ='Raw Data'!BL45 -> 103 | AY11: ='Raw Data'!BM45 -> 93 | AZ11: ='Raw Data'!BN45 -> 85 | ... IX11: ='Raw Data'!JL45 -> 0
AS13: =AS1 -> 39510 | AT13: =AT1 -> 39539 | AU13: =AU1 -> 39569 | AV13: =AV1 -> 39600 | AW13: =AW1 -> 39630 | AX13: =AX1 -> 39661 | AY13: =AY1 -> 39692 | AZ13: =AZ1 -> 39729 | ... GQ13: =GQ1 -> 44205 | GR13: 44247 | GS13: 44275 | GT13: 44306 | GU13: 44336 | GV13: 44367 | GW13: 44397 | GX13: 44428 | GY13: 44459 | GZ13: 44489 | HA13: 44520 | HB13: 44550 | HC13: 44581 | HD13: 44612 | HE13: 44640 | HF13: 44671 | HG13: 44701 | HH13: 44732 | HI13: 44762 | HJ13: 44793 | HK13: 44824 | HL13: 44854 | HM13: 44885 | HN13: 44915 | HO13: 44946 | HP13: 44977 | HQ13: 45005 | HR13: 45036 | HS13: 45066 | HT13: 45097 | HU13: 45127 | HV13: 45158 | HW13: 45189 | HX13: 45219 | HY13: 45250 | HZ13: 45280 | IA13: 45311 | IB13: 45342 | IC13: 45371 | ID13: 45402 | IE13: 45432 | IF13: 45463 | IG13: 45493 | IH13: 45524 | II13: 45555 | IJ13: 45585 | IK13: 45616 | IL13: 45646 | IM13: 45677 | IN13: 45708 | IO13: 45736 | IP13: 45767 | IQ13: 45797 | IR13: 45828 | IS13: 45858 | IT13: 45889 | IU13: 45920 | IV13: 45950 | IW13: 45981 | IX13: 46011
A14: Median Price SFD | AS14: ='Raw Data'!BG76 -> 345000 | AT14: ='Raw Data'!BH76 -> 360000 | AU14: ='Raw Data'!BI76 -> 375000 | AV14: ='Raw Data'!BJ76 -> 362500 | AW14: ='Raw Data'!BK76 -> 359000 | AX14: ='Raw Data'!BL76 -> 300000 | AY14: ='Raw Data'!BM76 -> 375000 | AZ14: ='Raw Data'!BN76 -> 325000 | ... IX14: ='Raw Data'!JL76 -> 0
A15: Units Sold | AS15: ='Raw Data'!BG74 -> 83 | AT15: ='Raw Data'!BH74 -> 77 | AU15: ='Raw Data'!BI74 -> 97 | AV15: ='Raw Data'!BJ74 -> 94 | AW15: ='Raw Data'!BK74 -> 77 | AX15: ='Raw Data'!BL74 -> 83 | AY15: ='Raw Data'!BM74 -> 77 | AZ15: ='Raw Data'!BN74 -> 77 | ... IX15: ='Raw Data'!JL74 -> 0
AS17: =AS1 -> 39510 | AT17: =AT1 -> 39539 | AU17: =AU1 -> 39569 | AV17: =AV1 -> 39600 | AW17: =AW1 -> 39630 | AX17: =AX1 -> 39661 | AY17: =AY1 -> 39692 | AZ17: =AZ1 -> 39729 | ... GQ17: =GQ1 -> 44205 | GR17: 44247 | GS17: 44275 | GT17: 44306 | GU17: 44336 | GV17: 44367 | GW17: 44397 | GX17: 44428 | GY17: 44459 | GZ17: 44489 | HA17: 44520 | HB17: 44550 | HC17: 44581 | HD17: 44612 | HE17: 44640 | HF17: 44671 | HG17: 44701 | HH17: 44732 | HI17: 44762 | HJ17: 44793 | HK17: 44824 | HL17: 44854 | HM17: 44885 | HN17: 44915 | HO17: 44946 | HP17: 44977 | HQ17: 45005 | HR17: 45036 | HS17: 45066 | HT17: 45097 | HU17: 45127 | HV17: 45158 | HW17: 45189 | HX17: 45219 | HY17: 45250 | HZ17: 45280 | IA17: 45311 | IB17: 45342 | IC17: 45371 | ID17: 45402 | IE17: 45432 | IF17: 45463 | IG17: 45493 | IH17: 45524 | II17: 45555 | IJ17: 45585 | IK17: 45616 | IL17: 45646 | IM17: 45677 | IN17: 45708 | IO17: 45736 | IP17: 45767 | IQ17: 45797 | IR17: 45828 | IS17: 45858 | IT17: 45889 | IU17: 45920 | IV17: 45950 | IW17: 45981 | IX17: 46011
A18: Median Price Condo | AS18: ='Raw Data'!BG81 -> 197500 | AT18: ='Raw Data'!BH81 -> 285900 | AU18: ='Raw Data'!BI81 -> 325000 | AV18: ='Raw Data'!BJ81 -> 284000 | AW18: ='Raw Data'!BK81 -> 570000 | AX18: ='Raw Data'!BL81 -> 280000 | AY18: ='Raw Data'!BM81 -> 264500 | AZ18: ='Raw Data'!BN81 -> 347500 | ... IX18: ='Raw Data'!JL81 -> 0
A19: Units Sold | AS19: ='Raw Data'!BG79 -> 10 | AT19: ='Raw Data'!BH79 -> 5 | AU19: ='Raw Data'!BI79 -> 13 | AV19: ='Raw Data'!BJ79 -> 9 | AW19: ='Raw Data'!BK79 -> 13 | AX19: ='Raw Data'!BL79 -> 13 | AY19: ='Raw Data'!BM79 -> 10 | AZ19: ='Raw Data'!BN79 -> 4 | ... IX19: ='Raw Data'!JL79 -> 0
A22: Average Sale Price | GW22: Average Sale Price
GY23: Jan | GZ23: Feb | HA23: Mar | HB23: Apr | HC23: May | HD23: Jun | HE23: July | HF23: Aug | HG23: Sep | HH23: Oct | HI23: Nov | HJ23: Dec
A24: 2012 | GX24: 2012 | GY24: =CM6 -> 370741 | GZ24: =CN6 -> 348355 | HA24: =CO6 -> 412362 | HB24: =CP6 -> 337186 | HC24: =CQ6 -> 349265 | HD24: =CR6 -> 378091 | HE24: =CS6 -> 378878 | HF24: =CT6 -> 327597 | ... HJ24: =CX6 -> 431401
A25: 2013 | GX25: 2013 | GY25: =CY6 -> 326127 | GZ25: =CZ6 -> 314665 | HA25: =DA6 -> 379384 | HB25: =DB6 -> 319663 | HC25: =DC6 -> 371414 | HD25: =DD6 -> 372450 | HE25: =DE6 -> 358845 | HF25: =DF6 -> 329408 | ... HJ25: =DJ6 -> 372046
A26: 2014 | GX26: 2014 | GY26: =DK6 -> 392065 | GZ26: =DL6 -> 349976 | HA26: =DM6 -> 391074 | HB26: =DN6 -> 435374 | HC26: =DO6 -> 392669 | HD26: =DP6 -> 371633 | HE26: =DQ6 -> 351247 | HF26: =DR6 -> 303837 | ... HJ26: =DV6 -> 402759
A27: 2015 | GX27: 2015 | GY27: =DW6 -> 293223 | GZ27: =DX6 -> 358251 | HA27: =DY6 -> 336945 | HB27: =DZ6 -> 397372 | HC27: =EA6 -> 340012 | HD27: =EB6 -> 403782 | HE27: =EC6 -> 331603 | HF27: =ED6 -> 351395 | ... HJ27: =EH6 -> 380843
A28: 2015 | GX28: 2015 | GY28: =DW6 -> 293223 | GZ28: =DX6 -> 358251 | HA28: =DY6 -> 336945 | HB28: =DZ6 -> 397372 | HC28: =EA6 -> 340012 | HD28: =EB6 -> 403782 | HE28: =EC6 -> 331603 | HF28: =ED6 -> 351395 | ... HJ28: =EH6 -> 380843
A29: 2016 | BQ29: 2009 | BR29: 2010 | BS29: 2011 | BT29: 2012 | BU29: 2013 | BV29: 2014 | BW29: 2015 | BX29: 2016 | BY29: 2017 | GX29: 2016 | GY29: =EI6 -> 426842 | GZ29: =EJ6 -> 363445 | HA29: =EK6 -> 379449 | HB29: =EL6 -> 372897 | HC29: =EM6 -> 362336 | HD29: =EN6 -> 388450 | HE29: =EO6 -> 347995 | HF29: =EP6 -> 346598 | ... HJ29: =ET6 -> 395274
A30: 2017 | BQ30: 367000 | BR30: 341500 | BS30: 263900 | BT30: 330000 | BU30: 300000 | BV30: 318000 | BW30: 286000 | BX30: 335000 | BY30: 350000 | BZ30: =SUM(BQ30:BY30)/9 -> 321266.67 | GX30: 2017 | GY30: =EU6 -> 412247 | GZ30: =EV6 -> 385976 | HA30: =EW6 -> 369762 | HB30: =EX6 -> 401042 | HC30: =EY6 -> 403833 | HD30: =EZ6 -> 388478 | HE30: =FA6 -> 395374 | HF30: =FB6 -> 355968 | ... HJ30: =FF6 -> 434910
A31: 2018 | GX31: 2018 | GY31: =FG6 -> 351673 | GZ31: =FH6 -> 424444 | HA31: =FI6 -> 400295 | HB31: =FJ6 -> 390869 | HC31: =FK6 -> 438104 | HD31: =FL6 -> 414252 | HE31: =FM6 -> 418554 | HF31: =FN6 -> 373293 | ... HJ31: =FR6 -> 451876
A32: 2019 | GX32: 2019 | GY32: =FS6 -> 410227 | GZ32: =FT6 -> 386500 | HA32: =FU6 -> 397695 | HB32: =FV6 -> 412075 | HC32: =FW6 -> 394673 | HD32: =FX6 -> 409902 | HE32: =FY6 -> 369758 | HF32: =FZ6 -> 373816 | ... HJ32: =GD6 -> 421379
A33: 2020 | GX33: 2020 | GY33: =GE6 -> 406071 | GZ33: =GF6 -> 371718 | HA33: =GG6 -> 435388 | HB33: =GH6 -> 415048 | HC33: =GI6 -> 405862 | HD33: =GJ6 -> 395114 | HE33: =GK6 -> 443748 | HF33: =GL6 -> 475269 | ... HJ33: =GP6 -> 578292 | HV33: Yearly Residential Sales
A34: 2021 | GX34: 2021 | GY34: =GQ6 -> 528590 | GZ34: =GR6 -> 529619 | HA34: =GS6 -> 596636 | HB34: =GT6 -> 606262 | HC34: =GU6 -> 642117 | HD34: =GV6 -> 688595 | HE34: =GW6 -> 628784 | HF34: =GX6 -> 611258 | ... HJ34: =HB6 -> 698947 | HV34: Month / Year | HW34: Count | HX34: %Chg
A35: 2022 | GX35: 2022 | GY35: =HC6 -> 725669 | GZ35: =HD6 -> 772979 | HA35: =HE6 -> 740515 | HB35: =HF6 -> 751899 | HC35: =HG6 -> 765320 | HD35: =HH6 -> 711955 | HE35: =HI6 -> 712237 | HF35: =HJ6 -> 614297 | ... HJ35: =HN6 -> 694886
A36: 2023 | GX36: 2023 | GY36: =HO6 -> 713297 | GZ36: =HP6 -> 566966 | HA36: =HQ6 -> 699538 | HB36: =HR6 -> 652373 | HC36: =HS6 -> 690943 | HD36: =HT6 -> 748942 | HE36: =HU6 -> 616768 | HF36: =HV6 -> 651738 | ... HJ36: =HZ6 -> 793409
A37: 2024 | GX37: 2024 | GY37: =IA6 -> 667939 | GZ37: =IB6 -> 731688 | HA37: =IC6 -> 758837 | HB37: =ID6 -> 764517 | HC37: =IE6 -> 722776 | HD37: =IF6 -> 741400 | HE37: =IG6 -> 730376 | HF37: =IH6 -> 717308 | ... HJ37: =IL6 -> 688305
A38: 2025 | GX38: 2025 | GY38: =IM6 -> 660005 | GZ38: =IN6 -> 722998 | HA38: =IO6 -> 731509 | HB38: =IP6 -> 0 | HC38: =IQ6 -> 0 | HD38: =IR6 -> 0 | HE38: =IS6 -> 0 | HF38: =IT6 -> 0 | ... HJ38: =IX6 -> 0
A40: Median Sale Price | GW40: Median Sale Price | GY40: Jan | GZ40: Feb | HA40: Mar | HB40: Apr | HC40: May | HD40: June | HE40: July | HF40: Aug | HG40: Sep | HH40: Oct | HI40: Nov | HJ40: Dec
A41: 2015 | GX41: 2015 | GY41: =DW10 -> 258500 | GZ41: =DX10 -> 312000 | HA41: =DY10 -> 269500 | HB41: =DZ10 -> 290000 | HC41: =EA10 -> 270000 | HD41: =EB10 -> 296000 | HE41: =EC10 -> 239750 | HF41: =ED10 -> 277450 | ... HJ41: =EH10 -> 278000 | HZ41: Mar'27 | IA41: =HW20 -> 0 | IB41: =(IA41-IA42)/IA42 -> #DIV/0!
A42: 2016 | GX42: 2016 | GY42: =EI10 -> 300000 | GZ42: =EJ10 -> 286000 | HA42: =EK10 -> 303400 | HB42: =EL10 -> 317500 | HC42: =EM10 -> 289000 | HD42: =EN10 -> 315000 | HE42: =EO10 -> 300000 | HF42: =EP10 -> 286000 | ... HJ42: =ET10 -> 327500 | HZ42: Mar'28 | IA42: =HW21 -> 0 | IB42: =(IA42-IA43)/IA43 -> #DIV/0!
A43: 2017 | GX43: 2017 | GY43: =EU10 -> 306000 | GZ43: =EV10 -> 310000 | HA43: =EW10 -> 312500 | HB43: =EX10 -> 321750 | HC43: =EY10 -> 288000 | HD43: =EZ10 -> 316000 | HE43: =FA10 -> 305000 | HF43: =FB10 -> 310000 | ... HJ43: =FF10 -> 345000 | HZ43: Mar'29 | IA43: =HW22 -> 0 | IB43: =(IA43-IA44)/IA44 -> -1
A44: 2018 | GX44: 2018 | GY44: =FG10 -> 273975 | GZ44: =FH10 -> 305000 | HA44: =FI10 -> 325000 | HB44: =FJ10 -> 319250 | HC44: =FK10 -> 342000 | HD44: =FL10 -> 313750 | HE44: =FM10 -> 333500 | HF44: =FN10 -> 320000 | ... HJ44: =FR10 -> 341500 | HZ44: Mar'30 | IA44: =HV10 -> 515000 | IB44: =(IA44-IA45)/IA45 -> -0.079533654
A45: 2019 | GX45: 2019 | GY45: =FS10 -> 329900 | GZ45: =FT10 -> 318500 | HA45: =FU10 -> 332500 | HB45: =FV10 -> 339900 | HC45: =FW10 -> 399100 | HD45: =FX10 -> 335000 | HE45: =FY10 -> 315000 | HF45: =FZ10 -> 313000 | ... HJ45: =GD10 -> 371000 | HZ45: Mar'31 | IA45: =HU10 -> 559499 | IB45: =(IA45-HW62)/HW62 -> #DIV/0!
A46: 2020 | GX46: 2020 | GY46: =GE10 -> 342000 | GZ46: =GF10 -> 332000 | HA46: =GG10 -> 347900 | HB46: =GH10 -> 332500 | HC46: =GI10 -> 350000 | HD46: =GJ10 -> 343000 | HE46: =GK10 -> 366500 | HF46: =GL10 -> 412500 | ... HJ46: =GP10 -> 480000
A47: 2021 | GX47: 2021 | GY47: =GQ10 -> 430000 | GZ47: =GR10 -> 450000 | HA47: =GS10 -> 473000 | HB47: =GT10 -> 454950 | HC47: =GU10 -> 470000 | HD47: =GV10 -> 529000 | HE47: =GW10 -> 490000 | HF47: =GX10 -> 500000 | ... HJ47: =HB10 -> 546500
A48: 2022 | GX48: 2022 | GY48: =HC10 -> 573910 | GZ48: =HD10 -> 570000 | HA48: =HE10 -> 577250 | HB48: =HF10 -> 560000 | HC48: =HG10 -> 595000 | HD48: =HH10 -> 545000 | HE48: =HI10 -> 550000 | HF48: =HJ10 -> 507000 | ... HJ48: =HN10 -> 515000
A49: 2023 | GX49: 2023 | GY49: =HO10 -> 582500 | GZ49: =HP10 -> 470000 | HA49: =HQ10 -> 550000 | HB49: =HR10 -> 544950 | HC49: =HS10 -> 539000 | HD49: =HT10 -> 599000 | HE49: =HU10 -> 559499 | HF49: =HV10 -> 515000 | ... HJ49: =HZ10 -> 682250
A50: 2024 | GX50: 2024 | GY50: =IA10 -> 545000 | GZ50: =IB10 -> 540000 | HA50: =IC10 -> 557375 | HB50: =ID10 -> 585000 | HC50: =IE10 -> 590000 | HD50: =IF10 -> 588000 | HE50: =IG10 -> 632375 | HF50: =IH10 -> 602000 | ... HJ50: =IL10 -> 573000
A51: 2025 | GX51: 2025 | GY51: =IM10 -> 577500 | GZ51: =IN10 -> 641500 | HA51: =IO10 -> 634000 | HB51: =IP10 -> 0 | HC51: =IQ10 -> 0 | HD51: =IR10 -> 0 | HE51: =IS10 -> 0 | HF51: =IT10 -> 0 | ... HJ51: =IX10 -> 0
A53: SFD Median Sale Price | GW53: SFD Median Sale Price | GY53: Jan | GZ53: Feb | HA53: Mar | HB53: Apr | HC53: May | HD53: June | HE53: July | HF53: Aug | HG53: Sep | HH53: Oct | HI53: Nov | HJ53: Dec
GY54: Jan | GZ54: Feb | HA54: Mar | HB54: Apr | HC54: May | HD54: Jun | HE54: Aug | HF54: Aug | HG54: Sep | HH54: Oct | HI54: Nov | HJ54: Dec
A55: 2015 | GX55: 2015 | GY55: =DW14 -> 335000 | GZ55: =DX14 -> 317500 | HA55: =DY14 -> 283880 | HB55: =DZ14 -> 300750 | HC55: =EA14 -> 280000 | HD55: =EB14 -> 300000 | HE55: =EC14 -> 279000 | HF55: =ED14 -> 325000 | ... HJ55: =EH14 -> 286000
A56: 2016 | GX56: 2016 | GY56: =EI14 -> 325000 | GZ56: =EJ14 -> 288000 | HA56: =EK14 -> 325000 | HB56: =EL14 -> 340000 | HC56: =EM14 -> 325000 | HD56: =EN14 -> 330000 | HE56: =EO14 -> 309000 | HF56: =EP14 -> 310000 | ... HJ56: =ET14 -> 335000
A57: 2017 | GX57: 2017 | GY57: =EU14 -> 309000 | GZ57: =EV14 -> 311500 | HA57: =EW14 -> 329000 | HB57: =EX14 -> 339000 | HC57: =EY14 -> 326000 | HD57: =EZ14 -> 325000 | HE57: =FA14 -> 330000 | HF57: =FB14 -> 324000 | ... HJ57: =FF14 -> 350000
A58: 2018 | GX58: 2018 | GY58: =FG14 -> 321500 | GZ58: =FH14 -> 325000 | HA58: =FI14 -> 340000 | HB58: =FJ14 -> 335000 | HC58: =FK14 -> 370000 | HD58: =FL14 -> 330000 | HE58: =FM14 -> 346500 | HF58: =FN14 -> 346450 | ... HJ58: =FR14 -> 354500
A59: 2019 | GX59: 2019 | GY59: =FS14 -> 339000 | GZ59: =FT14 -> 332750 | HA59: =FU14 -> 347250 | HB59: =FV14 -> 345000 | HC59: =FW14 -> 349950 | HD59: =FX14 -> 342500 | HE59: =FY14 -> 332500 | HF59: =FZ14 -> 331780 | ... HJ59: =GD14 -> 384500
A60: 2020 | GX60: 2020 | GY60: =GE14 -> 370000 | GZ60: =GF14 -> 356000 | HA60: =GG14 -> 365000 | HB60: =GH14 -> 360000 | HC60: =GI14 -> 373750 | HD60: =GJ14 -> 364570 | HE60: =GK14 -> 398000 | HF60: =GL14 -> 459000 | ... HJ60: =GP14 -> 515000
A61: 2021 | GX61: 2021 | GY61: =GQ14 -> 449000 | GZ61: =GR14 -> 469000 | HA61: =GS14 -> 507500 | HB61: =GT14 -> 510000 | HC61: =GU14 -> 522500 | HD61: =GV14 -> 562000 | HE61: =GW14 -> 530300 | HF61: =GX14 -> 545000 | ... HJ61: =HB14 -> 546750
A62: 2022 | GX62: 2022 | GY62: =HC14 -> 660000 | GZ62: =HD14 -> 637000 | HA62: =HE14 -> 635000 | HB62: =HF14 -> 620000 | HC62: =HG14 -> 650000 | HD62: =HH14 -> 581000 | HE62: =HI14 -> 608000 | HF62: =HJ14 -> 549450 | ... HJ62: =HN14 -> 565000
A63: 2023 | GX63: 2023 | GY63: =HO14 -> 629900 | GZ63: =HP14 -> 500000 | HA63: =HQ14 -> 573750 | HB63: =HR14 -> 585000 | HC63: =HS14 -> 590000 | HD63: =HT14 -> 627500 | HE63: =HU14 -> 602450 | HF63: =HV14 -> 525000 | ... HJ63: =HZ14 -> 720199
A64: 2024 | GX64: 2024 | GY64: =IA14 -> 589000 | GZ64: =IB14 -> 585000 | HA64: =IC14 -> 615000 | HB64: =ID14 -> 621000 | HC64: =IE14 -> 675000 | HD64: =IF14 -> 615000 | HE64: =IG14 -> 686000 | HF64: =IH14 -> 670000 | ... HJ64: =IL14 -> 629000
A65: 2025 | GX65: 2025 | GY65: =IM14 -> 622500 | GZ65: =IN10 -> 641500 | HA65: =IO10 -> 634000 | HB65: =IP10 -> 0 | HC65: =IQ10 -> 0 | HD65: =IR10 -> 0 | HE65: =IS10 -> 0 | HF65: =IT10 -> 0 | HG65: =IU10 -> 0 | ... HJ65: =IX10 -> 0
GW67: Condo Median Sale Price | GY67: Jan | GZ67: Feb | HA67: Mar | HB67: Apr | HC67: May | HD67: June | HE67: July | HF67: Aug | HG67: Sep | HH67: Oct | HI67: Nov | HJ67: Dec
A68: 2015 | GY68: Jan | GZ68: Feb | HA68: Mar | HB68: Apr | HC68: May | HD68: Jun | HE68: Aug | HF68: Aug | HG68: Sep | HH68: Oct | HI68: Nov | HJ68: Dec
A69: 2016 | GX69: 2015 | GY69: =DW18 -> 192450 | GZ69: =DX18 -> 156500 | HA69: =DY18 -> 245000 | HB69: =DZ18 -> 159500 | HC69: =EA18 -> 205000 | HD69: =EB18 -> 252500 | HE69: =EC18 -> 169000 | HF69: =ED18 -> 167500 | ... HJ69: =EH18 -> 243000
A70: 2017 | GX70: 2016 | GY70: =EI18 -> 220200 | GZ70: =EJ18 -> 225000 | HA70: =EK18 -> 197500 | HB70: =EL18 -> 249000 | HC70: =EM18 -> 195000 | HD70: =EN18 -> 261250 | HE70: =EO18 -> 265000 | HF70: =EP18 -> 249450 | ... HJ70: =ET18 -> 237375
GX71: 2017 | GY71: =EU18 -> 284500 | GZ71: =EV18 -> 265000 | HA71: =EW18 -> 277500 | HB71: =EX18 -> 226250 | HC71: =EY18 -> 236525 | HD71: =EZ18 -> 292009 | HE71: =FA18 -> 236950 | HF71: =FB18 -> 259000 | ... HJ71: =FF18 -> 320000
A72: 2018 | GX72: 2018 | GY72: =FG18 -> 189900 | GZ72: =FH18 -> 250000 | HA72: =FI18 -> 238500 | HB72: =FJ18 -> 264750 | HC72: =FK18 -> 239900 | HD72: =FL18 -> 225000 | HE72: =FM18 -> 247500 | HF72: =FN18 -> 195000 | ... HJ72: =FR18 -> 264605
A73: 2019 | GX73: 2019 | GY73: =FS18 -> 263000 | GZ73: =FT18 -> 225000 | HA73: =FU18 -> 234500 | HB73: =FV18 -> 320000 | HC73: =FW18 -> 262500 | HD73: =FX18 -> 300000 | HE73: =FY18 -> 232000 | HF73: =FZ18 -> 225000 | ... HJ73: =GD18 -> 269000
A74: 2020 | GX74: 2020 | GY74: =GE18 -> 284900 | GZ74: =GF18 -> 223000 | HA74: =GG18 -> 202950 | HB74: =GH18 -> 225000 | HC74: =GI18 -> 237495 | HD74: =GJ18 -> 269750 | HE74: =GK18 -> 260000 | HF74: =GL18 -> 249000 | ... HJ74: =GP18 -> 284000
A75: 2021 | GX75: 2021 | GY75: =GQ18 -> 320000 | GZ75: =GR18 -> 295000 | HA75: =GS18 -> 339000 | HB75: =GT18 -> 300000 | HC75: =GU18 -> 349000 | HD75: =GV18 -> 292000 | HE75: =GW18 -> 387500 | HF75: =GX18 -> 373700 | ... HJ75: =HB18 -> 435000
A76: 2022 | GX76: 2022 | GY76: =HC18 -> 365000 | GZ76: =HD18 -> 392500 | HA76: =HE18 -> 340850 | HB76: =HF18 -> 455000 | HC76: =HG18 -> 381500 | HD76: =HH18 -> 431750 | HE76: =HI18 -> 363000 | HF76: =HJ18 -> 385000 | ... HJ76: =HN18 -> 347000
A77: 2023 | GX77: 2023 | GY77: =HO18 -> 462500 | GZ77: =HP18 -> 410000 | HA77: =HQ18 -> 399000 | HB77: =HR18 -> 425500 | HC77: =HS18 -> 395000 | HD77: =HT18 -> 480500 | HE77: =HU18 -> 417500 | HF77: =HV18 -> 515000 | ... HJ77: =HZ18 -> 482000
A78: 2024 | GX78: 2024 | GY78: =IA18 -> 483000 | GZ78: =IB18 -> 465000 | HA78: =IC18 -> 478500 | HB78: =ID18 -> 470000 | HC78: =IE18 -> 410000 | HD78: =IF18 -> 375000 | HE78: =IG18 -> 505250 | HF78: =IH18 -> 413000 | ... HJ78: =IL18 -> 413500
A79: 2025 | GX79: 2025 | GY79: =IM18 -> 489150 | GZ79: =IN18 -> 305000 | HA79: =IO18 -> 445000 | HB79: =IP18 -> 0 | HC79: =IQ18 -> 0 | HD79: =IR18 -> 0 | HE79: =IS18 -> 0 | HF79: =IT18 -> 0 | ... HJ79: =IX18 -> 0
GS83: Residential - Median Sale Price | GW83: Residential - Avg Sale Price | HA83: Residential Median Sale Price | HE83: SFD Median Sale Price | HI83: Condo Median Sale Price
GS84: Month / Year | GT84: Count | GU84: % Chg | GW84: Month / Year | GX84: Count | GY84: % Chg | HA84: Month / Year | HB84: Count | HC84: % Chg | HE84: Month / Year | HF84: Count | HG84: % Chg | HI84: Month / Year | HJ84: Count | HK84: % Chg
GS85: 2025 | GU85: =(GT85-GT86)/GT86 -> -1 | GW85: Mar'25 | GX85: =HA38 -> 731509 | GY85: =(GX85-GX86)/GX86 -> -0.036013004 | HA85: Mar'25 | HB85: =HA51 -> 634000 | HC85: =(HB85-HB86)/HB86 -> 0.13747477 | HE85: Mar'25 | HF85: =HA65 -> 634000 | HG85: =(HF85-HF86)/HF86 -> 0.030894309 | HI85: Mar'25 | HJ85: =HA79 -> 445000 | HK85: =(HJ85-HJ86)/HJ86 -> -0.070010449
GS86: 2024 | GT86: 575000 | GU86: =(GT86-GT87)/GT87 -> 0.045454545 | GW86: Mar'24 | GX86: =HA37 -> 758837 | GY86: =(GX86-GX87)/GX87 -> 0.084768805 | HA86: Mar'24 | HB86: =HA50 -> 557375 | HC86: =(HB86-HB87)/HB87 -> 0.013409091 | HE86: Mar'24 | HF86: =HA64 -> 615000 | HG86: =(HF86-HF87)/HF87 -> 0.071895425 | HI86: Mar'24 | HJ86: =HA78 -> 478500 | HK86: =(HJ86-HJ87)/HJ87 -> 0.19924812
GS87: 2023 | GT87: 550000 | GU87: =(GT87-GT88)/GT88 -> -0.010346379 | GW87: Mar'23 | GX87: =HA36 -> 699538 | GY87: =(GX87-GX88)/GX88 -> -0.055335814 | HA87: Mar'23 | HB87: =HA49 -> 550000 | HC87: =(HB87-HB88)/HB88 -> -0.047206583 | HE87: Mar'23 | HF87: =HA63 -> 573750 | HG87: =(HF87-HF88)/HF88 -> -0.096456693 | HI87: Mar'23 | HJ87: =HA77 -> 399000 | HK87: =(HJ87-HJ88)/HJ88 -> 0.1706029
GS88: 2022 | GT88: 555750 | GW88: Mar'22 | GX88: =HA35 -> 740515 | HA88: Mar'22 | HB88: =HA48 -> 577250 | HE88: Mar'22 | HF88: =HA62 -> 635000 | HI88: Mar'22 | HJ88: =HA76 -> 340850
GW91: All Residential Sales
GY92: Jan | GZ92: Feb | HA92: Mar | HB92: Apr | HC92: May | HD92: Jun | HE92: Jul | HF92: Aug | HG92: Sep | HH92: Oct | HI92: Nov | HJ92: Dec
A93: 2015 | GY93: Jan | GZ93: Feb | HA93: Mar | HB93: Apr | HC93: May | HD93: June | HE93: Augy | HF93: Aug | HG93: Sep | HH93: Oct | HI93: Nov | HJ93: Dec
A94: 2016 | GX94: Residential Propert Sales | GZ94: Feb | HA94: Mar | HB94: Apr | HC94: May | HD94: Jun | HE94: Aug | HF94: Aug | HG94: Sep | HH94: =EF2 -> 159 | HI94: =EG2 -> 143 | HJ94: =EH2 -> 148
A95: 2017 | GY95: Jan | GZ95: =DX2 -> 105 | HA95: =DY2 -> 140 | HB95: =DZ2 -> 153 | HC95: =EA2 -> 202 | HD95: =EB2 -> 185 | HE95: =EC2 -> 171 | HF95: =ED2 -> 146 | HG95: =EE2 -> 143 | HH95: =ER2 -> 145 | HI95: =ES2 -> 140 | HJ95: =ET2 -> 173
GX96: 2015 | GY96: =DW2 -> 96 | GZ96: =EJ2 -> 92 | HA96: =EK2 -> 138 | HB96: =EL2 -> 158 | HC96: =EM2 -> 175 | HD96: =EN2 -> 185 | HE96: =EO2 -> 155 | HF96: =EP2 -> 159 | HG96: =EQ2 -> 159 | HH96: =FD2 -> 166 | HI96: =FE2 -> 164 | HJ96: =FF2 -> 164
GX97: 2016 | GY97: =EI2 -> 111 | GZ97: =EV2 -> 129 | HA97: =EW2 -> 180 | HB97: =EX2 -> 180 | HC97: =EY2 -> 203 | HD97: =EZ2 -> 218 | HE97: =FA2 -> 136 | HF97: =FB2 -> 171 | HG97: =FC2 -> 162 | HH97: =FP2 -> 176 | HI97: =FQ2 -> 135 | HJ97: =FR2 -> 166
A98: 2018 | GX98: 2017 | GY98: =EU2 -> 112 | GZ98: =FH2 -> 89 | HA98: =FI2 -> 187 | HB98: =FJ2 -> 186 | HC98: =FK2 -> 219 | HD98: =FL2 -> 188 | HE98: =FM2 -> 172 | HF98: =FN2 -> 189 | HG98: =FO2 -> 142 | HH98: =GB2 -> 189 | HI98: =GC2 -> 206 | HJ98: =GD2 -> 174
A99: 2019 | GX99: 2018 | GY99: =FG2 -> 118 | GZ99: =FT2 -> 123 | HA99: =FU2 -> 184 | HB99: =FV2 -> 189 | HC99: =FW2 -> 217 | HD99: =FX2 -> 190 | HE99: =FY2 -> 185 | HF99: =FZ2 -> 201 | HG99: =GA2 -> 162 | ... HJ99: =GD2 -> 174
GX100: 2019 | GY100: =FS2 -> 119 | GZ100: =FT2 -> 123 | HA100: =FU2 -> 184 | HB100: =FV2 -> 189 | HC100: =FW2 -> 217 | HD100: =FX2 -> 190 | HE100: =FY2 -> 185 | HF100: =FZ2 -> 201 | HG100: =GA2 -> 162 | HH100: =GN2 -> 372 | HI100: =GO2 -> 310 | HJ100: =GP2 -> 316
A101: 2020 | GX101: 2020 | GY101: =GE2 -> 148 | GZ101: =GF2 -> 146 | HA101: =GG2 -> 198 | HB101: =GH2 -> 154 | HC101: =GI2 -> 150 | HD101: =GJ2 -> 221 | HE101: =GK2 -> 396 | HF101: =GL2 -> 322 | HG101: =GM2 -> 358 | HH101: =GZ2 -> 253 | HI101: =HA2 -> 267 | HJ101: =HB2 -> 240
A102: 2022 | GS102: Total Residential Volume Sold | GX102: 2022 | GY102: =HC2 -> 225 | GZ102: =HD2 -> 182 | HA102: =HE2 -> 300 | HB102: =HF2 -> 265 | HC102: =HG2 -> 247 | HD102: =HH2 -> 235 | HE102: =HI2 -> 171 | HF102: =HJ2 -> 201 | ... HJ102: =HN2 -> 131
A103: 2023 | GS103: Month / Year | GT103: Count | GU103: % Chg | GX103: 2023 | GY103: =HO2 -> 101 | GZ103: =HP2 -> 137 | HA103: =HQ2 -> 193 | HB103: =HR2 -> 166 | HC103: =HS2 -> 184 | HD103: =HT2 -> 189 | HE103: =HU2 -> 129 | HF103: =HV2 -> 143 | ... HJ103: =HZ2 -> 116
A104: 2024 | GS104: 2025 | GT104: =SUM(IM3:IX3) -> 267274480 | GU104: =(GT104-GT105)/GT105 -> -0.78729336 | GX104: 2024 | GY104: =IA2 -> 101 | GZ104: =IB2 -> 113 | HA104: =IC2 -> 178 | HB104: =ID2 -> 175 | HC104: =IE2 -> 173 | HD104: =IF2 -> 138 | HE104: =IG2 -> 158 | HF104: =IH2 -> 144 | ... HJ104: =IL2 -> 136
A105: 2025 | GS105: 2024 | GT105: 1256540372 | GU105: =(GT105-GT106)/GT106 -> 0.026374448 | GX105: 2025 | GY105: =IM2 -> 129 | GZ105: =IN2 -> 99 | HA105: =IO2 -> 151 | HB105: =IP2 -> 0 | HC105: =IQ2 -> 0 | HD105: =IR2 -> 0 | HE105: =IS2 -> 0 | HF105: =IT2 -> 0 | ... HJ105: =IX2 -> 0
GS106: 2023 | GT106: 1224251417 | GU106: =(GT106-GT107)/GT107 -> -0.30492036
GS107: 2022 | GT107: 1761311005
HG108: Quarterly Residential Sales
GY109: All Residential Sales | HC109: Yearly Residential Sales | HH109: 1st Qtr | HI109: 2nd Qtr | HJ109: 4th Qtr | HK109: 4th Qtr | HM109: Quarterly Residential Sales
GY110: Month / Year | GZ110: Count | HA110: %Chg | HC110: Month / Year | HD110: Count | HE110: %Chg | HG110: 2022 | HH110: =SUM(GY102:HA102) -> 707 | HI110: =SUM(HB102:HD102) -> 747 | HJ110: =SUM(HE102:HG102) -> 551 | HK110: =SUM(HH102:HJ102) -> 453 | HM110: Month / Year | HN110: Count | HO110: %Chg
GY111: Mar'25 | GZ111: =HA105 -> 151 | HA111: =(GZ111-GZ112)/GZ112 -> -0.15168539 | HC111: 2025 | HD111: =SUM(GY105:HA105) -> 379 | HE111: =(HD111-HD112)/HD112 -> -0.033163265 | HG111: 2023 | HH111: =SUM(GY103:HA103) -> 431 | HI111: =SUM(HB103:HD103) -> 539 | HJ111: =SUM(HE103:HG103) -> 439 | HK111: =SUM(HH103:HJ103) -> 382 | HM111: 1st Qtr'25 | HN111: =HH113 -> 379 | HO111: =(HN111-HN112)/HN112 -> -0.033163265
GY112: Mar'24 | GZ112: =HA104 -> 178 | HA112: =(GZ112-GZ113)/GZ113 -> -0.077720207 | HC112: 2024 | HD112: =SUM(GY104:HA104) -> 392 | HE112: =(HD112-HD113)/HD113 -> -0.090487239 | HG112: 2024 | HH112: =SUM(GY104:HA104) -> 392 | HI112: =SUM(HB104:HD104) -> 486 | HJ112: =SUM(HE104:HG104) -> 440 | HK112: =SUM(HH104:HJ104) -> 423 | HM112: 1st Qtr'24 | HN112: =HH112 -> 392 | HO112: =(HN112-HN113)/HN113 -> -0.090487239
GY113: Mar'23 | GZ113: =HA103 -> 193 | HA113: =(GZ113-GZ114)/GZ114 -> -0.35666667 | HC113: 2023 | HD113: =SUM(GY103:HA103) -> 431 | HE113: =(HD113-HD114)/HD114 -> -0.3903819 | HG113: 2025 | HH113: =SUM(GY105:HA105) -> 379 | HI113: =SUM(HB105:HD105) -> 0 | HJ113: =SUM(HE105:HG105) -> 0 | HK113: =SUM(HH105:HJ105) -> 0 | HM113: 1st Qtr'23 | HN113: =HH111 -> 431 | HO113: =(HN113-HN114)/HN114 -> -0.3903819
GY114: Mar'22 | GZ114: =HA102 -> 300 | HC114: 2022 | HD114: =SUM(GY102:HA102) -> 707 | HM114: 1st Qtr'22 | HN114: =HH110 -> 707
...

Sheet Sold Residential by Town
B1: November | C1: December | D1: January | E1: February | F1: March | G1: April | H1: May | I1: June | J1: July | K1: August | L1: September | M1: October | N1: November | O1: December
A2: Ocracoke - 20 | B2: 3 | C2: 28
A3: Ocracoke - 19 | B3: 0 | C3: 2
A4: Currituck Mainland - 20 | B4: 25 | C4: 32
A5: Currituck Mainland - 19 | B5: 25 | C5: 19
A6: Roanoke Island - 20 | B6: 14 | C6: 35
A7: Roanoke Island - 19 | B7: 7 | C7: 7
A8: All Hatteras - 20 | B8: 51 | C8: 145
A9: All Hatteras - 19 | B9: 24 | C9: 22
A10: Nags Head - 20 | B10: 34 | C10: 60
A11: Nags Head - 19 | B11: 25 | C11: 19
A12: Colington - 20 | B12: 4 | C12: 23
A13: Colington - 19 | B13: 20 | C13: 8
... A23: Corolla - 19 | B23: 27 | C23: 31

Sheet Land Data
B1: ='Raw Data'!CO92 -> 40544 | C1: ='Raw Data'!CP92 -> 40575 | D1: ='Raw Data'!CQ92 -> 40603 | E1: ='Raw Data'!CR92 -> 40634 | F1: ='Raw Data'!CS92 -> 40664 | G1: ='Raw Data'!CT92 -> 40695 | H1: ='Raw Data'!CU92 -> 40725 | I1: ='Raw Data'!CV92 -> 40756 | ... BV1: ='Raw Data'!FI92 -> 42736 | BW1: 42782 | BX1: 42810 | BY1: 42841 | BZ1: 42871 | CA1: 42902 | CB1: 42932 | CC1: 42963 | CD1: 42994 | CE1: 43024 | CF1: 43055 | CG1: 43085 | CH1: 43116 | CI1: 43147 | CJ1: 43175 | CK1: 43206 | CL1: 43236 | CM1: 43267 | CN1: 43297 | CO1: 43328 | CP1: 43359 | CQ1: 43389 | CR1: 43420 | CS1: 43450 | CT1: 43481 | CU1: 43512 | CV1: 43540 | CW1: 43571 | CX1: 43601 | CY1: 43632 | CZ1: 43662 | DA1: 43693 | DB1: 43724 | DC1: 43754 | DD1: 43785 | DE1: 43815 | DF1: 43846 | DG1: 43877 | DH1: 43906 | DI1: 43937 | DJ1: 43967 | DK1: 43998 | DL1: 44028 | DM1: 44059 | DN1: 44090 | DO1: 44120 | DP1: 44151 | DQ1: 44181 | DR1: 44212 | DS1: 44243 | DT1: 44271 | DU1: 44302 | DV1: 44332 | DW1: 44363 | DX1: 44393 | DY1: 44419 | DZ1: 44450 | EA1: 44480 | EB1: 44511 | EC1: 44541 | ED1: 44572 | EE1: 44603 | EF1: 44631 | EG1: 44662 | EH1: 44692 | EI1: 44723 | EJ1: 44753 | EK1: 44784 | EL1: 44815 | EM1: 44845 | EN1: 44876 | EO1: 44906 | EP1: 44937 | EQ1: 44968 | ER1: 44996 | ES1: 45027 | ET1: 45057 | EU1: 45088 | EV1: 45118 | EW1: 45149 | EX1: 45180 | EY1: 45210 | EZ1: 45241 | FA1: 45271 | FB1: 45302 | FC1: 45333 | FD1: 45362 | FE1: 45393 | FF1: 45423 | FG1: 45454 | FH1: 45484 | FI1: 45515 | FJ1: 45546 | FK1: 45576 | FL1: 45607 | FM1: 45637 | FN1: 45668 | FO1: 45699 | FP1: 45727 | FQ1: 45758 | FR1: 45788 | FS1: 45819 | FT1: 45849 | FU1: 45880 | FV1: 45911 | FW1: 45941 | FX1: 45972 | FY1: 46002
A2: Units Sold | B2: ='Raw Data'!CO103 -> 15 | C2: ='Raw Data'!CP103 -> 18 | D2: ='Raw Data'!CQ103 -> 37 | E2: ='Raw Data'!CR103 -> 27 | F2: ='Raw Data'!CS103 -> 32 | G2: ='Raw Data'!CT103 -> 33 | H2: ='Raw Data'!CU103 -> 18 | I2: ='Raw Data'!CV103 -> 27 | ... EO2: ='Raw Data'!IB103 -> 36 | EP2: ='Raw Data'!IC46 -> 38 | EQ2: ='Raw Data'!ID46 -> 36 | ER2: ='Raw Data'!IE46 -> 43 | ES2: ='Raw Data'!IF46 -> 48 | ET2: ='Raw Data'!IG46 -> 41 | EU2: ='Raw Data'!IH103 -> 55 | EV2: ='Raw Data'!II103 -> 43 | EW2: ='Raw Data'!IJ103 -> 45 | EX2: ='Raw Data'!IK103 -> 47 | EY2: ='Raw Data'!IL103 -> 46 | EZ2: ='Raw Data'!IM103 -> 42 | FA2: ='Raw Data'!IN103 -> 29 | FB2: ='Raw Data'!IO103 -> 39 | ... FY2: ='Raw Data'!JL103 -> 0
A3: Average Sale Price | B3: ='Raw Data'!CO93 -> 155163 | C3: ='Raw Data'!CP93 -> 146894 | D3: ='Raw Data'!CQ93 -> 145281 | E3: ='Raw Data'!CR93 -> 140425 | F3: ='Raw Data'!CS93 -> 118989 | G3: ='Raw Data'!CT93 -> 111978 | H3: ='Raw Data'!CU93 -> 283737 | I3: ='Raw Data'!CV93 -> 101553 | ... FY3: ='Raw Data'!JL93 -> 0
A4: Median Sale Price | B4: ='Raw Data'!CO94 -> 105000 | C4: ='Raw Data'!CP94 -> 73800 | D4: ='Raw Data'!CQ94 -> 80000 | E4: ='Raw Data'!CR94 -> 90000 | F4: ='Raw Data'!CS94 -> 85000 | G4: ='Raw Data'!CT94 -> 98000 | H4: ='Raw Data'!CU94 -> 100437 | I4: ='Raw Data'!CV94 -> 104000 | ... FY4: ='Raw Data'!JL94 -> 0
A5: Total Sale Price | B5: ='Raw Data'!CO95 -> 2327450 | C5: ='Raw Data'!CP95 -> 2644100 | D5: ='Raw Data'!CQ95 -> 5375400 | E5: ='Raw Data'!CR95 -> 3791500 | F5: ='Raw Data'!CS95 -> 3807677 | G5: ='Raw Data'!CT95 -> 3695300 | H5: ='Raw Data'!CU95 -> 5107275 | I5: ='Raw Data'!CV95 -> 2741940 | ... FY5: ='Raw Data'!JL95 -> 0
B7: =B1 -> 40544 | C7: =C1 -> 40575 | D7: =D1 -> 40603 | E7: =E1 -> 40634 | F7: =F1 -> 40664 | G7: =G1 -> 40695 | H7: =H1 -> 40725 | I7: =I1 -> 40756 | ... DM7: =DM1 -> 44059 | DN7: 44094 | DO7: 44124 | DP7: 44155 | DQ7: 44185 | DR7: 44217 | DS7: 44249 | DT7: 44281 | DU7: 44313 | DV7: 44345 | DW7: 44377 | DX7: 44378 | DY7: 44419 | DZ7: 44450 | EA7: 44480 | EB7: 44511 | EC7: 44541 | ED7: 44572 | EE7: 44603 | EF7: 44631 | EG7: 44662 | EH7: 44692 | EI7: 44723 | EJ7: 44753 | EK7: 44784 | EL7: 44815 | EM7: 44845 | EN7: 44876 | EO7: 44906 | EP7: 44937 | EQ7: 44968 | ER7: 44996 | ES7: 45027 | ET7: 45057 | EU7: 45088 | EV7: 45118 | EW7: 45149 | EX7: 45180 | EY7: 45210 | EZ7: 45241 | FA7: 45271 | FB7: 45302 | FC7: 45333 | FD7: 45362 | FE7: 45393 | FF7: 45423 | FG7: 45454 | FH7: 45484 | FI7: 45515 | FJ7: 45546 | FK7: 45576 | FL7: 45607 | FM7: 45637 | FN7: 45668 | FO7: 45699 | FP7: 45727 | FQ7: 45758 | FR7: 45788 | FS7: 45819 | FT7: 45849 | FU7: 45880 | FV7: 45911 | FW7: 45941 | FX7: 45972 | FY7: 46002
A8: Residential | B8: ='Raw Data'!CO98 -> 14 | C8: ='Raw Data'!CP98 -> 16 | D8: ='Raw Data'!CQ98 -> 36 | E8: ='Raw Data'!CR98 -> 24 | F8: ='Raw Data'!CS98 -> 30 | G8: ='Raw Data'!CT98 -> 32 | H8: ='Raw Data'!CU98 -> 16 | I8: ='Raw Data'!CV98 -> 25 | ... FY8: ='Raw Data'!JL98 -> 0
A9: Commercial / Industrial | B9: ='Raw Data'!CO99 -> 1 | C9: ='Raw Data'!CP99 -> 0 | D9: ='Raw Data'!CQ99 -> 1 | E9: ='Raw Data'!CR99 -> 1 | F9: ='Raw Data'!CS99 -> 0 | G9: ='Raw Data'!CT99 -> 0 | H9: ='Raw Data'!CU99 -> 0 | I9: ='Raw Data'!CV99 -> 0 | ... FY9: ='Raw Data'!JL99 -> 0
A10: Boatslip | B10: ='Raw Data'!CO100 -> 0 | C10: ='Raw Data'!CP100 -> 2 | D10: ='Raw Data'!CQ100 -> 0 | E10: ='Raw Data'!CR100 -> 1 | F10: ='Raw Data'!CS100 -> 2 | G10: ='Raw Data'!CT100 -> 0 | H10: ='Raw Data'!CU100 -> 0 | I10: ='Raw Data'!CV100 -> 1 | ... FY10: ='Raw Data'!JL100 -> 0
A11: Acreage | B11: ='Raw Data'!CO101 -> 0 | C11: ='Raw Data'!CP101 -> 0 | D11: ='Raw Data'!CQ101 -> 0 | E11: ='Raw Data'!CR101 -> 1 | F11: ='Raw Data'!CS101 -> 0 | G11: ='Raw Data'!CT101 -> 1 | H11: ='Raw Data'!CU101 -> 2 | I11: ='Raw Data'!CV101 -> 1 | ... FY11: ='Raw Data'!JL101 -> 0
A12: Total | B12: ='Raw Data'!CO103 -> 15 | C12: ='Raw Data'!CP103 -> 18 | D12: ='Raw Data'!CQ103 -> 37 | E12: ='Raw Data'!CR103 -> 27 | F12: ='Raw Data'!CS103 -> 32 | G12: ='Raw Data'!CT103 -> 33 | H12: ='Raw Data'!CU103 -> 18 | I12: ='Raw Data'!CV103 -> 27 | ... FY12: ='Raw Data'!JL103 -> 0
H14: 40735 | I14: 40766 | J14: 40797 | K14: 40827 | L14: 40858 | M14: 40888 | N14: 40919 | O14: 40950 | P14: 40979 | Q14: 41010 | R14: 41040 | S14: 41071 | T14: 41101 | U14: 41132 | V14: 41163 | W14: 41193 | X14: 41224 | Y14: 41254 | Z14: 41285 | AA14: 41316 | AB14: 41344 | AC14: 41375 | AD14: 41405 | AE14: 41436 | AF14: 41466 | AG14: 41497 | AH14: 41528 | AI14: 41558 | AJ14: 41589 | AK14: 41619 | AL14: 41650 | AM14: 41681 | AN14: 41709 | AO14: 41740 | AP14: 41770 | AQ14: 41801 | AR14: 41831 | AS14: 41862 | AT14: 41893 | AU14: 41923 | AV14: 41954 | AW14: 41984 | AX14: 42015 | AY14: 42046 | AZ14: 42074 | BA14: 42105 | BB14: 42135 | BC14: 42166 | BD14: 42196 | BE14: 42227 | BF14: 42258 | BG14: 42288 | BH14: 42319 | BI14: 42349 | BJ14: 42380 | BK14: 42411 | BL14: 42440 | BM14: 42471 | BN14: 42501 | BO14: 42532 | BP14: 42562 | BQ14: 42593 | BR14: 42624 | BS14: 42654 | BT14: 42685 | BU14: 42715 | BV14: 42746 | BW14: 42777 | BX14: 42805 | BY14: 42836 | BZ14: 42866 | CA14: 42897 | CB14: 42927 | CC14: 42958 | CD14: 42989 | CE14: 43019 | CF14: 43050 | CG14: 43080 | CH14: 43111 | CI14: 43142 | CJ14: 43170 | CK14: 43201 | CL14: 43231 | CM14: 43262 | CN14: 43292 | CO14: 43323 | CP14: 43354 | CQ14: 43384 | CR14: 43415 | CS14: 43445 | CT14: 43476 | CU14: 43507 | CV14: 43535 | CW14: 43566 | CX14: 43596 | CY14: 43627 | CZ14: 43657 | DA14: 43688 | DB14: 43719 | DC14: 43749 | DD14: 43780 | DE14: 43810 | DF14: 43841 | DG14: 43872 | DH14: 43901 | DI14: 43932 | DJ14: 43962 | DK14: 43993 | DL14: 44023 | DM14: 44054 | DN14: 44085 | DO14: 44115 | DP14: 44146 | DQ14: 44176 | DR14: 44207 | DS14: 44238 | DT14: 44266 | DU14: 44297 | DV14: 44327 | DW14: 44358 | DX14: 44388 | DY14: 44419 | DZ14: 44450 | EA14: 44480 | EB14: 44511 | EC14: 44541 | ED14: 44572 | EE14: 44603 | EF14: 44631 | EG14: 44662 | EH14: 44692 | EI14: 44723 | EJ14: 44753 | EK14: 44784 | EL14: 44815 | EM14: 44845 | EN14: 44876 | EO14: 44906 | EP14: 44937 | EQ14: 44968 | ER14: 44996 | ES14: 45027 | ET14: 45057 | EU14: 45088 | EV14: 45118 | EW14: 45149 | EX14: 45180 | EY14: 45210 | EZ14: 45241 | FA14: 45271 | FB14: 45302 | FC14: 45333 | FD14: 45362 | FE14: 45393 | FF14: 45423 | FG14: 45454 | FH14: 45484 | FI14: 45515 | FJ14: 45546 | FK14: 45576 | FL14: 45607 | FM14: 45637 | FN14: 45668 | FO14: 45699 | FP14: 45727 | FQ14: 45758 | FR14: 45788 | FS14: 45819 | FT14: 45849 | FU14: 45880 | FV14: 45911 | FW14: 45941 | FX14: 45972 | FY14: 46002
A15: Land Sales | H15: =H12 -> 18 | I15: =I12 -> 27 | J15: =J12 -> 23 | K15: =K12 -> 18 | L15: =L12 -> 45 | M15: =M12 -> 38 | N15: =N12 -> 18 | O15: =O12 -> 31 | ... FY15: =FY12 -> 0
CH17: Lots / Land Sales | CT17: Units Sold
CT18: Jan | CU18: Feb | CV18: Mar | CW18: Apr | CX18: May | CY18: Jun | CZ18: July | DA18: Aug | DB18: Sep | DC18: Oct | DD18: Nov | DE18: Dec
CS19: 2014 | CT19: =AL15 -> 21 | CU19: =AM15 -> 24 | CV19: =AN15 -> 29 | CW19: =AO15 -> 35 | CX19: =AP15 -> 33 | CY19: =AQ15 -> 51 | CZ19: =AR15 -> 73 | DA19: =AS15 -> 44 | ... DE19: =AW15 -> 35
CS20: 2015 | CT20: ='Raw Data'!EK46 -> 32 | CU20: ='Raw Data'!EL46 -> 31 | CV20: ='Raw Data'!EM46 -> 40 | CW20: ='Raw Data'!EN46 -> 38 | CX20: ='Raw Data'!EO46 -> 37 | CY20: ='Raw Data'!EP46 -> 42 | CZ20: ='Raw Data'!EQ46 -> 44 | DA20: ='Raw Data'!ER46 -> 39 | ... DE20: ='Raw Data'!EV46 -> 46 | DF20: =SUM(CT20:DA20) -> 303
CS21: 2016 | CT21: ='Raw Data'!EW46 -> 32 | CU21: ='Raw Data'!EX46 -> 37 | CV21: ='Raw Data'!EY46 -> 43 | CW21: ='Raw Data'!EZ46 -> 38 | CX21: ='Raw Data'!FA46 -> 39 | CY21: ='Raw Data'!FB46 -> 48 | CZ21: ='Raw Data'!FC46 -> 46 | DA21: ='Raw Data'!FD46 -> 44 | ... DE21: ='Raw Data'!FH46 -> 23 | DF21: =SUM(CT21:DA21) -> 327
CS22: 2017 | CT22: ='Raw Data'!FI46 -> 29 | CU22: ='Raw Data'!FJ46 -> 19 | CV22: ='Raw Data'!FK46 -> 54 | CW22: ='Raw Data'!FL46 -> 33 | CX22: ='Raw Data'!FM46 -> 45 | CY22: ='Raw Data'!FN46 -> 76 | CZ22: ='Raw Data'!FO46 -> 49 | DA22: ='Raw Data'!FP46 -> 52 | ... DE22: ='Raw Data'!FT46 -> 38 | DF22: =SUM(CT22:DE22) -> 547
CS23: 2018 | CT23: ='Raw Data'!FU46 -> 35 | CU23: ='Raw Data'!FV46 -> 22 | CV23: ='Raw Data'!FW46 -> 43 | CW23: ='Raw Data'!FX46 -> 36 | CX23: ='Raw Data'!FY46 -> 44 | CY23: ='Raw Data'!FZ46 -> 53 | CZ23: ='Raw Data'!GA46 -> 37 | DA23: ='Raw Data'!GB46 -> 39 | ... DE23: ='Raw Data'!GF46 -> 24 | DF23: =SUM(CT23:DA23) -> 309
CS24: 2019 | CT24: ='Raw Data'!GG46 -> 21 | CU24: ='Raw Data'!GH46 -> 37 | CV24: ='Raw Data'!GI46 -> 30 | CW24: ='Raw Data'!GJ46 -> 37 | CX24: ='Raw Data'!GK46 -> 35 | CY24: ='Raw Data'!GL46 -> 39 | CZ24: ='Raw Data'!GM46 -> 45 | DA24: ='Raw Data'!GN46 -> 39 | ... DE24: ='Raw Data'!GR46 -> 41 | DF24: =SUM(CT24:DA24) -> 283
CS25: 2020 | CT25: =DF2 -> 23 | CU25: =DG2 -> 33 | CV25: =DH2 -> 38 | CW25: =DI2 -> 25 | CX25: =DJ2 -> 27 | CY25: =DK2 -> 27 | CZ25: =DL2 -> 55 | DA25: =DM2 -> 78 | ... DE25: =DQ2 -> 80 | DF25: =SUM(CT25:DA25) -> 306
CS26: 2021 | CT26: =DR2 -> 68 | CU26: =DS2 -> 57 | CV26: =DT2 -> 67 | CW26: =DU2 -> 93 | CX26: =DV2 -> 99 | CY26: =DW2 -> 103 | CZ26: =DX2 -> 97 | DA26: =DY2 -> 89 | ... DE26: =EC2 -> 76 | DF26: =SUM(CT26:DA26) -> 673
CS27: 2022 | CT27: =ED2 -> 56 | CU27: =EE2 -> 61 | CV27: =EF2 -> 80 | CW27: =EG2 -> 75 | CX27: =EH2 -> 81 | CY27: =EI2 -> 51 | CZ27: =EJ2 -> 56 | DA27: =EK2 -> 62 | ... DE27: =EO2 -> 36 | DF27: =SUM(CT27:DA27) -> 522
CS28: 2023 | CT28: =EP2 -> 38 | CU28: =EQ2 -> 36 | CV28: =ER2 -> 43 | CW28: =ES2 -> 48 | CX28: =ET2 -> 41 | CY28: =EU2 -> 55 | CZ28: =EV2 -> 43 | DA28: =EW2 -> 45 | ... DE28: =FA2 -> 29 | DF28: =SUM(CT28:DA28) -> 349
CS29: 2024 | CT29: =FB2 -> 39 | CU29: =FC2 -> 22 | CV29: =FD2 -> 28 | CW29: =FE2 -> 38 | CX29: =FF2 -> 36 | CY29: =FG2 -> 40 | CZ29: =FH2 -> 51 | DA29: =FI2 -> 37 | ... DF29: =FN2 -> 34
CS30: 2025 | CT30: =FN2 -> 34 | CU30: =FO2 -> 23 | CV30: =FP2 -> 24 | CW30: =FQ2 -> 0 | CX30: =FR2 -> 0 | CY30: =FS2 -> 0 | CZ30: =FT2 -> 0 | DA30: =FU2 -> 0 | ... DE30: =FY2 -> 0 | DF30: =SUM(CT30:DE30) -> 81
CT33: Lots / Land Sales | CX33: Lots / Land Yearly Sales | DB33: Quarterly Lots / Land Sales | DG33: Qtr 1 | DH33: Qtr 2 | DI33: Qtr 3 | DJ33: Qtr 4
CT34: Month / Year | CU34: Count | CV34: %Chg | CX34: Month / Year | CY34: Count | CZ34: %Chg | DB34: Month / Year | DC34: Count | DD34: %Chg | DF34: 2022 | DG34: =SUM(CT27:CV27) -> 197 | DH34: =SUM(CW27:CY27) -> 207 | DI34: =SUM(CZ27:DB27) -> 166 | DJ34: =SUM(DC27:DE27) -> 110
CT35: Mar'25 | CU35: =CV30 -> 24 | CV35: =(CU35-CU36)/CU36 -> -0.14285714 | CX35: 2025 | CY35: =SUM(CT30:CV30) -> 81 | CZ35: =(CY35-CY36)/CY36 -> -0.08988764 | DB35: 1st Qtr'25 | DC35: =SUM(CT30:CV30) -> 81 | DD35: =(DC35-DC36)/DC36 -> -0.08988764 | DF35: 2023 | DG35: =SUM(CT28:CV28) -> 117 | DH35: =SUM(CW28:CY28) -> 144 | DI35: =SUM(CZ28:DB28) -> 135 | DJ35: =SUM(DC28:DE28) -> 117
CT36: Mar'24 | CU36: =CV29 -> 28 | CV36: =(CU36-CU37)/CU37 -> -0.34883721 | CX36: 2024 | CY36: =SUM(CT29:CV29) -> 89 | CZ36: =(CY36-CY37)/CY37 -> -0.23931624 | DB36: 1st Qtr'24 | DC36: =SUM(CT29:CV29) -> 89 | DD36: =(DC36-DC37)/DC37 -> -0.23931624 | DF36: 2024 | DG36: =SUM(CT29:CV29) -> 89 | DH36: =SUM(CW29:CY29) -> 114 | DI36: =SUM(CZ29:DB29) -> 120 | DJ36: =SUM(DC29:DE29) -> 82
CT37: Mar'23 | CU37: =CV28 -> 43 | CV37: =(CU37-CU38)/CU38 -> -0.4625 | CX37: 2023 | CY37: =SUM(CT28:CV28) -> 117 | CZ37: =(CY37-CY38)/CY38 -> -0.40609137 | DB37: 1st Qtr'23 | DC37: =SUM(CT28:CV28) -> 117 | DD37: =(DC37-DC38)/DC38 -> -0.40609137 | DF37: 2025 | DG37: =SUM(CT30:CV30) -> 81 | DH37: =SUM(CW30:CY30) -> 0 | DI37: =SUM(CZ30:DB30) -> 0 | DJ37: =SUM(DC30:DE30) -> 0
CT38: Mar'22 | CU38: =CV27 -> 80 | CX38: 2022 | CY38: =SUM(CT27:CV27) -> 197 | DB38: 1st Qtr'22 | DC38: =SUM(CT27:CV27) -> 197
CT40: Median Sale Price
CT41: Jan | CU41: Feb | CV41: Mar | CW41: Apr | CX41: May | CY41: Jul | CZ41: July | DA41: Aug | DB41: Sep | DC41: Oct | DD41: Nov | DE41: Dec
CS42: 2015 | CT42: =AX4 -> 72000 | CU42: =AY4 -> 84000 | CV42: =AZ4 -> 70750 | CW42: =BA4 -> 70000 | CX42: =BB4 -> 87500 | CY42: =BC4 -> 79500 | CZ42: =BD4 -> 92000 | DA42: =BE4 -> 72000 | ... DE42: =BI4 -> 55000
CS43: 2016 | CT43: =BJ4 -> 76450 | CU43: =BK4 -> 70000 | CV43: =BL4 -> 64500 | CW43: =BM4 -> 59000 | CX43: =BN4 -> 80000 | CY43: =BO4 -> 77750 | CZ43: =BP4 -> 78950 | DA43: =BQ4 -> 75000 | ... DE43: =BU4 -> 55000
CS44: 2017 | CT44: =BV4 -> 83000 | CU44: =BW4 -> 95000 | CV44: =BX4 -> 71250 | CW44: =BY4 -> 49000 | CX44: =BZ4 -> 95000 | CY44: =CA4 -> 75500 | CZ44: =CB4 -> 75000 | DA44: =CC4 -> 82900 | ... DE44: =CG4 -> 61900 | DF44: =SUM(CT44:DE44)/12 -> 76295.833
CS45: 2018 | CT45: =CH4 -> 110000 | CU45: =CI4 -> 103500 | CV45: =CJ4 -> 100000 | CW45: =CK4 -> 79500 | CX45: =CL4 -> 69000 | CY45: =CM4 -> 85000 | CZ45: =CN4 -> 133000 | DA45: =CO4 -> 90000 | ... DE45: =CS4 -> 72000 | DF45: =SUM(CT45:DE45)/12 -> 93500
CS46: 2019 | CT46: =CT4 -> 115000 | CU46: =CU4 -> 95000 | CV46: =CV4 -> 50000 | CW46: =CW4 -> 50000 | CX46: =CX4 -> 68750 | CY46: =CY4 -> 76000 | CZ46: =CZ4 -> 70000 | DA46: =DA4 -> 95500 | ... DE46: =DE4 -> 78000
CS47: 2020 | CT47: =DF4 -> 134791 | CU47: =DG4 -> 70000 | CV47: =DH4 -> 77000 | CW47: =DI4 -> 112500 | CX47: =DJ4 -> 95000 | CY47: =DK4 -> 95000 | CZ47: =DL4 -> 76000 | DA47: =DM4 -> 95000 | ... DE47: =DQ4 -> 89000
CS48: 2021 | CT48: =DR4 -> 119000 | CU48: =DS4 -> 100000 | CV48: =DT4 -> 107500 | CW48: =DU4 -> 114000 | CX48: =DV4 -> 80000 | CY48: =DW4 -> 95000 | CZ48: =DX4 -> 105000 | DA48: =DY4 -> 110000 | ... DE48: =EC4 -> 114950
CS49: 2022 | CT49: =ED4 -> 112250 | CU49: =EE4 -> 107000 | CV49: =EF4 -> 128050 | CW49: =EG4 -> 129900 | CX49: =EH4 -> 129750 | CY49: =EI4 -> 115750 | CZ49: =EJ4 -> 147000 | DA49: =EK4 -> 115050 | ... DE49: =EO4 -> 155000
CS50: 2023 | CT50: =EP4 -> 128750 | CU50: =EQ4 -> 126250 | CV50: =ER4 -> 99000 | CW50: =ES4 -> 130000 | CX50: =ET4 -> 110000 | CY50: =EU4 -> 133690 | CZ50: =EV4 -> 163000 | DA50: =EW4 -> 150000 | ... DE50: =FA4 -> 150000
CS51: 2024 | CT51: =FB4 -> 150000 | CU51: =FC4 -> 97448 | CV51: =FD4 -> 142500 | CW51: =FE4 -> 125000 | CX51: =FF4 -> 152500 | CY51: =FG4 -> 138500 | CZ51: =FH4 -> 135000 | DA51: =FI4 -> 135000 | ... DE51: =FM4 -> 145000
CS52: 2025 | CT52: =+FN4 -> 142500 | CU52: =+FO4 -> 120000 | CV52: =+FP4 -> 98500 | CW52: =+FQ4 -> 0 | CX52: =+FR4 -> 0 | CY52: =+FS4 -> 0 | CZ52: =+FT4 -> 0 | DA52: =+FU4 -> 0 | ... DE52: =+FY4 -> 0
CX54: Lots / Land Median Price | DB54: Lots / Land Median Price
CX55: Month / Year | CY55: Count | CZ55: %Chg | DB55: Month / Year | DC55: Count | DD55: %Chg
CX56: Mar'25 | CY56: =CV52 -> 98500 | CZ56: =(CY56-CY57)/CY57 -> -0.30877193 | DB56: 2025 | DC56: 128850 | DD56: =(DC56-DC57)/DC57 -> -0.0088461538
CX57: Mar'24 | CY57: =CV51 -> 142500 | CZ57: =(CY57-CY58)/CY58 -> 0.43939394 | DB57: 2024 | DC57: 130000 | DD57: =(DC57-DC58)/DC58 -> 0.019607843
CX58: Mar'23 | CY58: =CV50 -> 99000 | CZ58: =(CY58-CY59)/CY59 -> -0.22686451 | DB58: 2023 | DC58: 127500 | DD58: =(DC58-DC59)/DC59 -> 0.085106383
CX59: Mar'22 | CY59: =CV49 -> 128050 | DB59: 2022 | DC59: 117500
CT61: Average Sale Price
CT62: Jan | CU62: Feb | CV62: Mar | CW62: Apr | CX62: May | CY62: Jul | CZ62: July | DA62: Aug | DB62: Sep | DC62: Oct | DD62: Nov | DE62: Dec
CS63: 2015 | CT63: =AX3 -> 110204 | CU63: =AY3 -> 102623 | CV63: =AZ3 -> 87975 | CW63: =BA3 -> 101099 | CX63: =BB3 -> 216373 | CY63: =BC3 -> 111462 | CZ63: =BD3 -> 178079 | DA63: =BE3 -> 86702 | ... DE63: =BI3 -> 120910
CS64: 2016 | CT64: =BJ3 -> 76851 | CU64: =BK3 -> 90406 | CV64: =BL3 -> 190946 | CW64: =BM3 -> 96831 | CX64: =BN3 -> 104817 | CY64: =BO3 -> 103856 | CZ64: =BP3 -> 289971 | DA64: =BQ3 -> 106252 | ... DE64: =BU3 -> 144460
CS65: 2017 | CT65: =BV3 -> 100048 | CU65: =BW3 -> 116157 | CV65: =BX3 -> 114108 | CW65: =BY3 -> 141193 | CX65: =BZ3 -> 103777 | CY65: =CA3 -> 93727 | CZ65: =CB3 -> 93689 | DA65: =CC3 -> 101173 | ... DE65: =CG3 -> 126380
CS66: 2018 | CT66: =CH3 -> 144135 | CU66: =CI3 -> 116451 | CV66: =CJ3 -> 153531 | CW66: =CK3 -> 108688 | CX66: =CL3 -> 118595 | CY66: =CM3 -> 120586 | CZ66: =CN3 -> 219840 | DA66: =CO3 -> 137428 | ... DE66: =CS3 -> 123000
CS67: 2019 | CT67: =CT3 -> 145685 | CU67: =CU3 -> 111560 | CV67: =CV3 -> 117766 | CW67: =CW3 -> 80586 | CX67: =CX3 -> 108102 | CY67: =CY3 -> 94658 | CZ67: =CZ3 -> 95844 | DA67: =DA3 -> 170225 | ... DE67: =DE3 -> 118280
CS68: 2020 | CT68: =DF3 -> 119750 | CU68: =DG3 -> 133486 | CV68: =DH3 -> 86317 | CW68: =DI3 -> 122183 | CX68: =DJ3 -> 140240 | CY68: =DK3 -> 111700 | CZ68: =DL3 -> 112682 | DA68: =DM3 -> 116675 | ... DE68: =DQ3 -> 148240
CS69: 2021 | CT69: =DR3 -> 145714 | CU69: =DS3 -> 159957 | CV69: =DT3 -> 161844 | CW69: =DU3 -> 151254 | CX69: =DV3 -> 110453 | CY69: =DW3 -> 158496 | CZ69: =DX3 -> 149607 | DA69: =DY3 -> 156534 | ... DE69: =EC3 -> 195770
CS70: 2022 | CT70: =ED3 -> 155367 | CU70: =EE3 -> 136429 | CV70: =EF3 -> 157210 | CW70: =EG3 -> 193148 | CX70: =EH3 -> 150081 | CY70: =EI3 -> 157656 | CZ70: =EJ3 -> 166514 | DA70: =EK3 -> 160426 | ... DE70: =EO3 -> 187848
CS71: 2023 | CT71: =EP3 -> 190311 | CU71: =EQ3 -> 175977 | CV71: =ER3 -> 145315 | CW71: =ES3 -> 182202 | CX71: =ET3 -> 189726 | CY71: =EU3 -> 156384 | CZ71: =EV3 -> 199692 | DA71: =EW3 -> 180797 | ... DE71: =FA3 -> 213948
CS72: 2024 | CT72: =FB3 -> 274074 | CU72: =FC3 -> 127504 | CV72: =FD3 -> 172808 | CW72: =FE3 -> 149951 | CX72: =FF3 -> 175218 | CY72: =FG3 -> 86078 | CZ72: =FH3 -> 155893 | DA72: =FI3 -> 171594 | ... DE72: =FM3 -> 291131
CS73: 2025 | CT73: =FN3 -> 221438 | CU73: =FO3 -> 178686 | CV73: =FP3 -> 133656 | CW73: =FQ3 -> 0 | CX73: =FR3 -> 0 | CY73: =FS3 -> 0 | CZ73: =FT3 -> 0 | DA73: =FU3 -> 0 | ... DE73: =FY3 -> 0
CX75: Lots / Land Average Price | DB75: Lots / Land Average Price
CX76: Month / Year | CY76: Count | CZ76: %Chg | DB76: Month / Year | DC76: Count | DD76: %Chg
CX77: Mar'25 | CY77: =CV73 -> 133656 | CZ77: =(CY77-CY78)/CY78 -> -0.22656359 | DB77: 2025 | DC77: =SUM(CC73:CT73)/3 -> 74487.667 | DD77: =(DC77-DC78)/DC78 -> -0.61095326
CX78: Mar'24 | CY78: =CV72 -> 172808 | CZ78: =(CY78-CY79)/CY79 -> 0.18919588 | DB78: 2024 | DC78: =SUM(CT72:CV72)/3 -> 191462 | DD78: =(DC78-DC79)/DC79 -> 0.11829619
CX79: Mar'23 | CY79: =CV71 -> 145315 | CZ79: =(CY79-CY80)/CY80 -> -0.075663126 | DB79: 2023 | DC79: =SUM(C71:CV71)/3 -> 171208.67 | DD79: =(DC79-DC80)/DC80 -> 0.1439179
CX80: Mar'22 | CY80: =CV70 -> 157210 | DB80: 2022 | DC80: =SUM(CT70:CV70)/3 -> 149668.67

Sheet YOY Inventory
A1: Residential Inventory
B2: Jan | C2: Feb | D2: Mar | E2: Apr | F2: May | G2: Jun | H2: July | I2: Aug | J2: Sep | K2: Oct | L2: Nov | M2: Dec
A3: 2015 | B3: ='Raw Data'!EK21 -> 1870 | C3: ='Raw Data'!EL21 -> 1954 | D3: ='Raw Data'!EM21 -> 1914 | E3: ='Raw Data'!EN21 -> 1940 | F3: ='Raw Data'!EO21 -> 1930 | G3: ='Raw Data'!EP21 -> 1902 | H3: ='Raw Data'!EQ21 -> 1859 | I3: ='Raw Data'!ER21 -> 1853 | ... M3: ='Raw Data'!EV21 -> 1569
A4: 2016 | B4: ='Raw Data'!EW21 -> 1598 | C4: ='Raw Data'!EX21 -> 1667 | D4: ='Raw Data'!EY21 -> 1765 | E4: ='Raw Data'!EZ21 -> 1821 | F4: ='Raw Data'!FA21 -> 1742 | G4: ='Raw Data'!FB21 -> 1744 | H4: ='Raw Data'!FC21 -> 1685 | I4: ='Raw Data'!FD21 -> 1644 | ... M4: ='Raw Data'!FH21 -> 1418
A5: 2017 | B5: ='Raw Data'!FI21 -> 1454 | C5: ='Raw Data'!FJ21 -> 1506 | D5: ='Raw Data'!FK21 -> 1513 | E5: ='Raw Data'!FL21 -> 1545 | F5: ='Raw Data'!FM21 -> 1555 | G5: ='Raw Data'!FN21 -> 1526 | H5: ='Raw Data'!FO21 -> 1513 | I5: ='Raw Data'!FP21 -> 1513 | ... M5: ='Raw Data'!FT21 -> 1354
A6: 2018 | B6: ='Raw Data'!FU21 -> 1369 | C6: ='Raw Data'!FV21 -> 1434 | D6: ='Raw Data'!FW21 -> 1508 | E6: ='Raw Data'!FX21 -> 1496 | F6: ='Raw Data'!FY21 -> 1514 | G6: ='Raw Data'!FZ21 -> 1469 | H6: ='Raw Data'!GA21 -> 1463 | I6: ='Raw Data'!GB21 -> 1528 | ... M6: ='Raw Data'!GF21 -> 1441
A7: 2019 | B7: ='Raw Data'!GG21 -> 1496 | C7: ='Raw Data'!GH21 -> 1558 | D7: ='Raw Data'!GI21 -> 1651 | E7: ='Raw Data'!GJ21 -> 1673 | F7: ='Raw Data'!GK21 -> 1627 | G7: ='Raw Data'!GL21 -> 1579 | H7: ='Raw Data'!GM21 -> 1506 | I7: ='Raw Data'!GN21 -> 1499 | ... M7: ='Raw Data'!GR21 -> 1341
A8: 2020 | B8: ='Raw Data'!GS21 -> 1336 | C8: ='Raw Data'!GT21 -> 1330 | D8: ='Raw Data'!GU21 -> 1360 | E8: ='Raw Data'!GV21 -> 1324 | F8: ='Raw Data'!GW21 -> 1247 | G8: ='Raw Data'!GX21 -> 975 | H8: ='Raw Data'!GY21 -> 881 | I8: ='Raw Data'!GZ21 -> 723 | ... M8: ='Raw Data'!HD21 -> 560
A9: 2021 | B9: ='Raw Data'!HE21 -> 447 | C9: ='Raw Data'!HF21 -> 418 | D9: ='Raw Data'!HG21 -> 380 | E9: ='Raw Data'!HH21 -> 392 | F9: ='Raw Data'!HI21 -> 402 | G9: ='Raw Data'!HJ21 -> 424 | H9: ='Raw Data'!HK21 -> 477 | I9: ='Raw Data'!HL21 -> 501 | ... M9: ='Raw Data'!HP21 -> 311
A10: 2022 | B10: ='Raw Data'!HQ21 -> 284 | C10: ='Raw Data'!HR21 -> 267 | D10: ='Raw Data'!HS21 -> 266 | E10: ='Raw Data'!HT21 -> 326 | F10: ='Raw Data'!HU21 -> 413 | G10: ='Raw Data'!HV21 -> 529 | H10: ='Raw Data'!HW21 -> 561 | I10: ='Raw Data'!HX21 -> 548 | ... M10: ='Raw Data'!IB21 -> 455
A11: 2023 | B11: ='Raw Data'!IC21 -> 391 | C11: ='Raw Data'!ID21 -> 373 | D11: ='Raw Data'!IE21 -> 356 | E11: ='Raw Data'!IF21 -> 371 | F11: ='Raw Data'!IG21 -> 382 | G11: ='Raw Data'!IH21 -> 412 | H11: ='Raw Data'!II21 -> 456 | I11: ='Raw Data'!IJ21 -> 474 | ... M11: ='Raw Data'!IN21 -> 492
A12: 2024 | B12: =('Raw Data'!IO21) -> 508 | C12: =('Raw Data'!IP21) -> 496 | D12: =('Raw Data'!IQ21) -> 563 | E12: =('Raw Data'!IR21) -> 583 | F12: =('Raw Data'!IS21) -> 639 | G12: =('Raw Data'!IT21) -> 669 | H12: =('Raw Data'!IU21) -> 691 | I12: =('Raw Data'!IV21) -> 718 | ... M12: =('Raw Data'!IZ21) -> 708
A13: 2025 | B13: ='Raw Data'!JA21 -> 752 | C13: ='Raw Data'!JB21 -> 775 | D13: ='Raw Data'!JC21 -> 815 | E13: ='Raw Data'!JD21 -> 0 | F13: ='Raw Data'!JE21 -> 0 | G13: ='Raw Data'!JF21 -> 0 | H13: ='Raw Data'!JG21 -> 0 | I13: ='Raw Data'!JH21 -> 0 | ... M13: ='Raw Data'!JL21 -> 0
K15: Residential Inventory
K16: Month / Year | L16: Count | M16: %Chg
K17: Mar'25 | L17: =D13 -> 815 | M17: =(L17-L18)/L18 -> 0.44760213
K18: Mar'24 | L18: =D12 -> 563 | M18: =(L19-L20)/L19 -> 0.25280899
K19: Mar'23 | L19: =D11 -> 356 | M19: =(L19-L20)/L20 -> 0.33834586
K20: Mar'22 | L20: =D10 -> 266
A21: Lots / Land
B22: Jan | C22: Feb | D22: Mar | E22: Apr | F22: May | G22: Jun | H22: July | I22: Aug | J22: Sep | K22: Oct | L22: Nov | M22: Dec
A23: 2015 | B23: ='Raw Data'!EK20 -> 956 | C23: ='Raw Data'!EL20 -> 987 | D23: ='Raw Data'!EM20 -> 979 | E23: ='Raw Data'!EN20 -> 1018 | F23: ='Raw Data'!EO20 -> 1058 | G23: ='Raw Data'!EP20 -> 1068 | H23: ='Raw Data'!EQ20 -> 1060 | I23: ='Raw Data'!ER20 -> 1052 | J23: ='Raw Data'!ES20 -> 1056 | K23: Oct | L23: Nov | M23: Dec
A24: 2016 | B24: ='Raw Data'!EW20 -> 929 | C24: ='Raw Data'!EX20 -> 946 | D24: ='Raw Data'!EY20 -> 940 | E24: ='Raw Data'!EZ20 -> 972 | F24: ='Raw Data'!FA20 -> 940 | G24: ='Raw Data'!FB20 -> 952 | H24: ='Raw Data'!FC20 -> 927 | I24: ='Raw Data'!FD20 -> 897 | J24: ='Raw Data'!FE20 -> 882 | K24: ='Raw Data'!ET20 -> 1064 | L24: ='Raw Data'!EU20 -> 1044 | M24: ='Raw Data'!EV20 -> 955
A25: 2017 | B25: ='Raw Data'!FI20 -> 784 | C25: ='Raw Data'!FJ20 -> 804 | D25: ='Raw Data'!FK20 -> 824 | E25: ='Raw Data'!FL20 -> 817 | F25: ='Raw Data'!FM20 -> 811 | G25: ='Raw Data'!FN20 -> 800 | H25: ='Raw Data'!FO20 -> 808 | I25: ='Raw Data'!FP20 -> 795 | J25: ='Raw Data'!FQ20 -> 764 | K25: ='Raw Data'!FF20 -> 852 | L25: ='Raw Data'!FG20 -> 823 | M25: ='Raw Data'!FH20 -> 764
A26: 2018 | B26: ='Raw Data'!FU20 -> 680 | C26: ='Raw Data'!FV20 -> 658 | D26: ='Raw Data'!FW20 -> 680 | E26: ='Raw Data'!FX20 -> 695 | F26: ='Raw Data'!FY20 -> 708 | G26: ='Raw Data'!FZ20 -> 740 | H26: ='Raw Data'!GA20 -> 739 | I26: ='Raw Data'!GB20 -> 746 | J26: ='Raw Data'!GC20 -> 748 | K26: ='Raw Data'!FR20 -> 760 | L26: ='Raw Data'!FS20 -> 741 | M26: ='Raw Data'!FT20 -> 679
A27: 2019 | B27: ='Raw Data'!GG20 -> 722 | C27: ='Raw Data'!GH20 -> 763 | D27: ='Raw Data'!GI20 -> 785 | E27: ='Raw Data'!GJ20 -> 835 | F27: ='Raw Data'!GK20 -> 866 | G27: ='Raw Data'!GL20 -> 841 | H27: ='Raw Data'!GM20 -> 841 | I27: ='Raw Data'!GN20 -> 854 | J27: ='Raw Data'!GO20 -> 839 | K27: ='Raw Data'!GD20 -> 763 | L27: ='Raw Data'!GE20 -> 774 | M27: ='Raw Data'!GF20 -> 702
A28: 2020 | B28: ='Raw Data'!GS20 -> 732 | C28: ='Raw Data'!GT20 -> 752 | D28: ='Raw Data'!GU20 -> 763 | E28: ='Raw Data'!GV20 -> 756 | F28: ='Raw Data'!GW20 -> 763 | G28: ='Raw Data'!GX20 -> 722 | H28: ='Raw Data'!GY20 -> 699 | I28: ='Raw Data'!GZ20 -> 664 | J28: ='Raw Data'!HA20 -> 669 | K28: ='Raw Data'!GP20 -> 819 | L28: ='Raw Data'!GQ20 -> 793 | M28: ='Raw Data'!GR20 -> 707
A29: 2021 | B29: ='Raw Data'!HE20 -> 541 | C29: ='Raw Data'!HF20 -> 586 | D29: ='Raw Data'!HG20 -> 561 | E29: ='Raw Data'!HH20 -> 576 | F29: ='Raw Data'!HI20 -> 572 | G29: ='Raw Data'!HJ20 -> 590 | H29: ='Raw Data'!HK20 -> 583 | I29: ='Raw Data'!HL20 -> 568 | J29: ='Raw Data'!HM20 -> 532 | K29: ='Raw Data'!HB20 -> 627 | L29: ='Raw Data'!HC20 -> 603 | M29: ='Raw Data'!HD20 -> 541
A30: 2022 | B30: ='Raw Data'!HQ20 -> 404 | C30: ='Raw Data'!HR20 -> 385 | D30: ='Raw Data'!HS20 -> 424 | E30: ='Raw Data'!HT20 -> 400 | F30: ='Raw Data'!HU20 -> 435 | G30: ='Raw Data'!HV20 -> 465 | H30: ='Raw Data'!HW20 -> 467 | I30: ='Raw Data'!HX20 -> 470 | J30: ='Raw Data'!HY20 -> 451 | K30: ='Raw Data'!HN20 -> 476 | L30: ='Raw Data'!HO20 -> 466 | M30: ='Raw Data'!HP20 -> 411
A31: 2023 | B31: ='Raw Data'!IC20 -> 381 | C31: ='Raw Data'!ID20 -> 382 | D31: ='Raw Data'!IE20 -> 373 | E31: ='Raw Data'!IF20 -> 372 | F31: ='Raw Data'!IG20 -> 357 | G31: ='Raw Data'!IH20 -> 343 | H31: ='Raw Data'!II20 -> 352 | I31: ='Raw Data'!IJ20 -> 333 | J31: ='Raw Data'!IK20 -> 320 | K31: ='Raw Data'!HZ20 -> 448 | L31: ='Raw Data'!IA20 -> 390 | M31: ='Raw Data'!IB20 -> 384
A32: 2024 | B32: ='Raw Data'!IO20 -> 340 | C32: ='Raw Data'!IP20 -> 355 | D32: ='Raw Data'!IQ20 -> 378 | E32: ='Raw Data'!IR20 -> 395 | F32: ='Raw Data'!IS20 -> 409 | G32: ='Raw Data'!IT20 -> 420 | H32: ='Raw Data'!IU20 -> 425 | I32: ='Raw Data'!IV20 -> 412 | ... M32: ='Raw Data'!IZ20 -> 327
A33: 2025 | B33: ='Raw Data'!JA20 -> 342 | C33: ='Raw Data'!JB20 -> 355 | D33: ='Raw Data'!JC20 -> 362 | E33: ='Raw Data'!JD20 -> 0 | F33: ='Raw Data'!JE20 -> 0 | G33: ='Raw Data'!JF20 -> 0 | H33: ='Raw Data'!JG20 -> 0 | I33: ='Raw Data'!JH20 -> 0 | ... M33: ='Raw Data'!JL20 -> 0
G36: Lots / Land Inventory | K36: Lots / Land Inventory
G37: Month / Year | H37: Count | I37: %Chg | K37: Month / Year | L37: Count | M37: %Chg
G38: Mar'25 | H38: =D33 -> 362 | I38: =(H38-H39)/H39 -> -0.042328042 | K38: 1st Qtr'25 | L38: =SUM(B33:D33) -> 1059 | M38: =(L38-L39)/L39 -> -0.01304753
G39: Mar'24 | H39: =D32 -> 378 | I39: =(H39-H40)/H40 -> 0.013404826 | K39: 1st Qtr-24 | L39: =SUM(B32:D32) -> 1073 | M39: =(L39-L40)/L40 -> -0.055457746
G40: Mar'23 | H40: =D31 -> 373 | I40: =(H40-H41)/H41 -> -0.12028302 | K40: 1st Qtr'23 | L40: =SUM(B31:D31) -> 1136 | M40: =(L40-L41)/L41 -> -0.063478978
G41: Mar'22 | H41: =D30 -> 424 | K41: 1st Qtr'22 | L41: =SUM(B30:D30) -> 1213
A43: Commercial
B44: Jan | C44: Feb | D44: Mar | E44: Apr | F44: May | G44: Jul | H44: July | I44: Aug | J44: Sep
A45: 2015 | B45: ='Raw Data'!EK19 -> 119 | C45: ='Raw Data'!EL19 -> 115 | D45: ='Raw Data'!EM19 -> 105 | E45: ='Raw Data'!EN19 -> 103 | F45: ='Raw Data'!EO19 -> 105 | G45: ='Raw Data'!EP19 -> 101 | H45: ='Raw Data'!EQ19 -> 105 | I45: ='Raw Data'!ER19 -> 95 | J45: ='Raw Data'!ES19 -> 99 | K45: Oct | L45: Nov | M45: Dec
A46: 2016 | B46: ='Raw Data'!EW19 -> 89 | C46: ='Raw Data'!EX19 -> 75 | D46: ='Raw Data'!EY19 -> 78 | E46: ='Raw Data'!EZ19 -> 78 | F46: ='Raw Data'!FA19 -> 74 | G46: ='Raw Data'!FB19 -> 74 | H46: ='Raw Data'!FC19 -> 83 | I46: ='Raw Data'!FD19 -> 75 | J46: ='Raw Data'!FE19 -> 73 | K46: ='Raw Data'!ET19 -> 94 | L46: ='Raw Data'!EU19 -> 98 | M46: ='Raw Data'!EV19 -> 88
A47: 2017 | B47: ='Raw Data'!FI19 -> 71 | C47: ='Raw Data'!FJ19 -> 73 | D47: ='Raw Data'!FK19 -> 67 | E47: ='Raw Data'!FL19 -> 68 | F47: ='Raw Data'!FM19 -> 68 | G47: ='Raw Data'!FN19 -> 63 | H47: ='Raw Data'!FO19 -> 65 | I47: ='Raw Data'!FP19 -> 63 | J47: ='Raw Data'!FQ19 -> 57 | K47: ='Raw Data'!FF19 -> 74 | L47: ='Raw Data'!FG19 -> 85 | M47: ='Raw Data'!FH19 -> 69
A48: 2018 | B48: ='Raw Data'!FU19 -> 58 | C48: ='Raw Data'!FV19 -> 57 | D48: ='Raw Data'!FW19 -> 58 | E48: ='Raw Data'!FX19 -> 54 | F48: ='Raw Data'!FY19 -> 50 | G48: ='Raw Data'!FZ19 -> 55 | H48: ='Raw Data'!GA19 -> 53 | I48: ='Raw Data'!GB19 -> 59 | J48: ='Raw Data'!GC19 -> 58 | K48: ='Raw Data'!FR19 -> 64 | L48: ='Raw Data'!FS19 -> 65 | M48: ='Raw Data'!FT19 -> 58
A49: 2019 | B49: ='Raw Data'!GG19 -> 56 | C49: ='Raw Data'!GH19 -> 54 | D49: ='Raw Data'!GI19 -> 59 | E49: ='Raw Data'!GJ19 -> 61 | F49: ='Raw Data'!GK19 -> 57 | G49: ='Raw Data'!GL19 -> 51 | H49: ='Raw Data'!GM19 -> 55 | I49: ='Raw Data'!GN19 -> 62 | J49: ='Raw Data'!GO19 -> 68 | K49: ='Raw Data'!GD19 -> 58 | L49: ='Raw Data'!GE19 -> 59 | M49: ='Raw Data'!GF19 -> 54
A50: 2020 | B50: ='Raw Data'!GS19 -> 46 | C50: ='Raw Data'!GT19 -> 45 | D50: ='Raw Data'!GU19 -> 43 | E50: ='Raw Data'!GV19 -> 44 | F50: ='Raw Data'!GW19 -> 46 | G50: ='Raw Data'!GX19 -> 49 | H50: ='Raw Data'!GY19 -> 50 | I50: ='Raw Data'!GZ19 -> 49 | J50: ='Raw Data'!HA19 -> 52 | K50: ='Raw Data'!GP19 -> 67 | L50: ='Raw Data'!GQ19 -> 61 | M50: ='Raw Data'!GR19 -> 50
A51: 2021 | B51: ='Raw Data'!HE19 -> 46 | C51: ='Raw Data'!HF19 -> 51 | D51: ='Raw Data'!HG19 -> 47 | E51: ='Raw Data'!HH19 -> 48 | F51: ='Raw Data'!HI19 -> 55 | G51: ='Raw Data'!HJ19 -> 58 | H51: ='Raw Data'!HK19 -> 54 | I51: ='Raw Data'!HL19 -> 46 | J51: ='Raw Data'!HM19 -> 46 | K51: ='Raw Data'!HB19 -> 54 | L51: ='Raw Data'!HC19 -> 53 | M51: ='Raw Data'!HD19 -> 45
A52: 2022 | B52: ='Raw Data'!HQ19 -> 43 | C52: ='Raw Data'!HR19 -> 41 | D52: ='Raw Data'!HS19 -> 45 | E52: ='Raw Data'!HT19 -> 46 | F52: ='Raw Data'!HU19 -> 49 | G52: ='Raw Data'!HV19 -> 45 | H52: ='Raw Data'!HW19 -> 45 | I52: ='Raw Data'!HX19 -> 37 | J52: ='Raw Data'!HY19 -> 38 | K52: ='Raw Data'!HN19 -> 41 | L52: ='Raw Data'!HO19 -> 41 | M52: ='Raw Data'!HP19 -> 37
A53: 2023 | B53: ='Raw Data'!IC19 -> 36 | C53: ='Raw Data'!ID19 -> 35 | D53: ='Raw Data'!IE19 -> 30 | E53: ='Raw Data'!IF19 -> 25 | F53: ='Raw Data'!IG19 -> 28 | G53: ='Raw Data'!IH19 -> 31 | H53: ='Raw Data'!II19 -> 31 | I53: ='Raw Data'!IJ19 -> 35 | J53: ='Raw Data'!IK19 -> 34 | K53: ='Raw Data'!HZ19 -> 35 | L53: ='Raw Data'!IA19 -> 36 | M53: ='Raw Data'!IB19 -> 33
A54: 2024 | B54: ='Raw Data'!IO19 -> 29 | C54: ='Raw Data'!IP19 -> 26 | D54: ='Raw Data'!IQ19 -> 28 | E54: ='Raw Data'!IR19 -> 28 | F54: ='Raw Data'!IS19 -> 30 | G54: ='Raw Data'!IT19 -> 32 | H54: ='Raw Data'!IU19 -> 30 | I54: ='Raw Data'!IV19 -> 30 | ... M54: ='Raw Data'!IZ19 -> 21
A55: 2025 | B55: ='Raw Data'!JA19 -> 21 | C55: ='Raw Data'!JB19 -> 19 | D55: ='Raw Data'!JC19 -> 17 | E55: ='Raw Data'!JD19 -> 0 | F55: ='Raw Data'!JE19 -> 0 | G55: ='Raw Data'!JF19 -> 0 | H55: ='Raw Data'!JG19 -> 0 | I55: ='Raw Data'!JH19 -> 0 | ... M55: ='Raw Data'!JL19 -> 0
A57: Total
B58: Jan | C58: Feb | D58: Mar | E58: Apr | F58: May | G58: Jun | H58: Jul | I58: Aug | J58: Sep | K58: Oct | L58: Nov | M58: Dec
A59: 2015 | B59: =B3+B23+B45 -> 2945 | C59: =C3+C23+C45 -> 3056 | D59: =D3+D23+D45 -> 2998 | E59: =E3+E23+E45 -> 3061 | F59: =F3+F23+F45 -> 3093 | G59: =G3+G23+G45 -> 3071 | H59: =H3+H23+H45 -> 3024 | I59: =I3+I23+I45 -> 3000 | J59: =J3+J23+J45 -> 2974 | K59: Oct | L59: Nov | M59: Dec
A60: 2016 | B60: =B4+B24+B46 -> 2616 | C60: =C4+C24+C46 -> 2688 | D60: =D4+D24+D46 -> 2783 | E60: =E4+E24+E46 -> 2871 | F60: =F4+F24+F46 -> 2756 | G60: =G4+G24+G46 -> 2770 | H60: =H4+H24+H46 -> 2695 | I60: =I4+I24+I46 -> 2616 | J60: =J4+J24+J46 -> 2597 | K60: =K3+K24+K46 -> 2938 | L60: =L3+L24+L46 -> 2859 | M60: =M3+M24+M46 -> 2612
A61: 2017 | B61: =B5+B25+B47 -> 2309 | C61: =C5+C25+C47 -> 2383 | D61: =D5+D25+D47 -> 2404 | E61: =E5+E25+E47 -> 2430 | F61: =F5+F25+F47 -> 2434 | G61: =G5+G25+G47 -> 2389 | H61: =H5+H25+H47 -> 2386 | I61: =I5+I25+I47 -> 2371 | J61: =J5+J25+J47 -> 2305 | K61: =K4+K25+K47 -> 2547 | L61: =L4+L25+L47 -> 2439 | M61: =M4+M25+M47 -> 2251
A62: 2018 | B62: =B6+B26+B48 -> 2107 | C62: =C6+C26+C48 -> 2149 | D62: =D6+D26+D48 -> 2246 | E62: =E6+E26+E48 -> 2245 | F62: =F6+F26+F48 -> 2272 | G62: =G6+G26+G48 -> 2264 | H62: =H6+H26+H48 -> 2255 | I62: =I6+I26+I48 -> 2333 | J62: =J6+J26+J48 -> 2312 | K62: =K5+K26+K48 -> 2321 | L62: =L5+L26+L48 -> 2258 | M62: =M5+M26+M48 -> 2091
A63: 2019 | B63: =B49+B27+B7 -> 2274 | C63: =C49+C27+C7 -> 2375 | D63: =D49+D27+D7 -> 2495 | E63: =E49+E27+E7 -> 2569 | F63: =F49+F27+F7 -> 2550 | G63: =G49+G27+G7 -> 2471 | H63: =H49+H27+H7 -> 2402 | I63: =I49+I27+I7 -> 2415 | J63: =J49+J27+J7 -> 2379 | K63: =K6+K27+K49 -> 2352 | L63: =L6+L27+L49 -> 2352 | M63: =M6+M27+M49 -> 2197
A64: 2020 | B64: =B50+B28+B8 -> 2114 | C64: =C50+C28+C8 -> 2127 | D64: =D50+D28+D8 -> 2166 | E64: =E50+E28+E8 -> 2124 | F64: =F50+F28+F8 -> 2056 | G64: =G50+G28+G8 -> 1746 | H64: =H50+H28+H8 -> 1630 | I64: =I50+I28+I8 -> 1436 | J64: =J50+J28+J8 -> 1410 | K64: =K50+K28+K7 -> 2376 | L64: =L50+L28+L7 -> 2354 | M64: =M50+M28+M7 -> 2098
A65: 2021 | B65: =SUM(B9+B29+B51) -> 1034 | C65: =SUM(C9+C29+C51) -> 1055 | D65: =SUM(D9+D29+D51) -> 988 | E65: =SUM(E9+E29+E51) -> 1016 | F65: =SUM(F9+F29+F51) -> 1029 | G65: =SUM(G9+G29+G51) -> 1072 | H65: =SUM(H9+H29+H51) -> 1114 | I65: =SUM(I9+I29+I51) -> 1115 | J65: =SUM(J9+J29+J51) -> 1062 | K65: =K51+K29+K8 -> 1337 | L65: =L51+L29+L8 -> 1279 | M65: =M51+M29+M8 -> 1146
A66: 2022 | B66: =SUM(B10+B30+B52) -> 731 | C66: =SUM(C10+C30+C52) -> 693 | D66: =SUM(D10+D30+D52) -> 735 | E66: =SUM(E10+E30+E52) -> 772 | F66: =SUM(F10+F30+F52) -> 897 | G66: =SUM(G10+G30+G52) -> 1039 | H66: =SUM(H10+H30+H52) -> 1073 | I66: =SUM(I10+I30+I52) -> 1055 | J66: =SUM(J10+J30+J52) -> 999 | K66: =SUM(K9+K30+K52) -> 945 | L66: =SUM(L9+L30+L52) -> 887 | M66: =SUM(M9+M30+M52) -> 759
A67: 2023 | B67: =SUM(B11+B31+B53) -> 808 | C67: =SUM(C11+C31+C53) -> 790 | D67: =SUM(D11+D31+D53) -> 759 | E67: =SUM(E11+E31+E53) -> 768 | F67: =SUM(F11+F31+F53) -> 767 | G67: =SUM(G11+G31+G53) -> 786 | H67: =SUM(H11+H31+H53) -> 839 | I67: =SUM(I11+I31+I53) -> 842 | J67: =SUM(J11+J31+J53) -> 843 | K67: =SUM(K10+K31+K53) -> 992 | L67: =SUM(L10+L31+L53) -> 955 | M67: =SUM(M10+M31+M53) -> 872
A68: 2024 | B68: =+SUM(B12+B32+B54) -> 877 | C68: =SUM(C12+C32+C54) -> 877 | D68: =+SUM(D12+D32+D54) -> 969 | E68: =SUM(E12+E32+E54) -> 1006 | F68: =+SUM(F12+F32+F54) -> 1078 | G68: =SUM(G12+G32+G54) -> 1121 | H68: =+SUM(H12+H32+H54) -> 1146 | I68: =SUM(I12+I32+I54) -> 1160 | J68: =+SUM(J12+J32+J54) -> 1185 | K68: =SUM(K12+K32+K54) -> 1175 | L68: =+SUM(L12+L32+L54) -> 1153 | M68: =SUM(M12+M32+M54) -> 1056 | V68: Quarterly Total Active Inventory
A69: 2025 | B69: =+SUM(B13+B33+B55) -> 1115 | C69: =+SUM(C13+C33+C55) -> 1149 | D69: =+SUM(D13+D33+D55) -> 1194 | E69: =+SUM(E13+E33+E55) -> 0 | F69: =+SUM(F13+F33+F55) -> 0 | G69: =+SUM(G13+G33+G55) -> 0 | H69: =+SUM(H13+H33+H55) -> 0 | I69: =+SUM(I13+I33+I55) -> 0 | ... M69: =+SUM(M13+M33+M55) -> 0
W70: 1 st Qtr | X70: 2nd Qtr | Y70: 3 rd Qtr | Z70: 4 th Qtr
V71: 2022 | W71: =SUM(B66:D66) -> 2159 | X71: =SUM(E66:G66) -> 2708 | Y71: =SUM(H66:J66) -> 3127 | Z71: =SUM(K67:M67) -> 2819
K72: Total Active Inventory | V72: 2023 | W72: =SUM(B67:D67) -> 2357 | X72: =SUM(E67:G67) -> 2321 | Y72: =SUM(H67:J67) -> 2524 | Z72: =SUM(K68:M68) -> 3384
K73: Month / Year | L73: Count | M73: %Chg | V73: 2024 | W73: =SUM(B68:D68) -> 2723 | X73: =SUM(E68:G68) -> 3205 | Y73: =SUM(H68:J68) -> 3491 | Z73: =SUM(K68:M68) -> 3384
K74: Mar'25 | L74: =D69 -> 1194 | M74: =(L74-L75)/L75 -> 0.23219814 | V74: 2025 | W74: =SUM(B69:D69) -> 3458 | X74: =SUM(E69:G69) -> 0 | Y74: =SUM(H69:J69) -> 0 | Z74: =SUM(K69:M69) -> 0
K75: Mar'24 | L75: =D68 -> 969 | M75: =(L75-L76)/L76 -> 0.27667984
K76: Mar'23 | L76: =D67 -> 759 | M76: =(L76-L77)/L77 -> 0.032653061
K77: Mar'22 | L77: =D66 -> 735
A80: Residential
B81: =B86 -> 39295 | C81: =C86 -> 39326 | D81: =D86 -> 39356 | E81: =E86 -> 39387 | F81: =F86 -> 39417 | G81: =G86 -> 39448 | H81: =H86 -> 39479 | I81: =I86 -> 39508 | J81: =J86 -> 39539 | N81: =N86 -> 39661 | O81: =O86 -> 39692 | P81: =P86 -> 39722 | Q81: =Q86 -> 39753 | R81: =R86 -> 39783 | S81: =S86 -> 39814 | T81: =T86 -> 39845 | U81: =U86 -> 39873 | ... HU81: =HU86 -> 0
B82: ='Raw Data'!AZ21 -> 2719 | C82: ='Raw Data'!BA21 -> 2712 | D82: ='Raw Data'!BB21 -> 2667 | E82: ='Raw Data'!BC21 -> 2657 | F82: ='Raw Data'!BD21 -> 2599 | G82: ='Raw Data'!BE21 -> 2350 | H82: ='Raw Data'!BF21 -> 2454 | I82: ='Raw Data'!BG21 -> 2499 | J82: ='Raw Data'!BH21 -> 2627 | K82: =K86 -> 39569 | L82: =L86 -> 39600 | M82: =M86 -> 39630 | N82: ='Raw Data'!BL21 -> 2420 | O82: ='Raw Data'!BM21 -> 2500 | P82: ='Raw Data'!BN21 -> 2500 | Q82: ='Raw Data'!BO21 -> 2487 | R82: ='Raw Data'!BP21 -> 2226 | S82: ='Raw Data'!BQ21 -> 2331 | T82: ='Raw Data'!BR21 -> 2373 | U82: ='Raw Data'!BS21 -> 2468 | ... HB82: ='Raw Data'!IZ21 -> 708
K83: ='Raw Data'!BI21 -> 2527 | L83: ='Raw Data'!BJ21 -> 2553 | M83: ='Raw Data'!BK21 -> 2559
A85: Lots / Land
B86: 39295 | C86: 39326 | D86: 39356 | E86: 39387 | F86: 39417 | G86: 39448 | H86: 39479 | I86: 39508 | J86: 39539 | K86: 39569 | L86: 39600 | M86: 39630 | N86: 39661 | O86: 39692 | P86: 39722 | Q86: 39753 | R86: 39783 | S86: 39814 | T86: 39845 | U86: 39873 | V86: 39904 | W86: 39934 | X86: 39965 | Y86: 39995 | Z86: 40026 | AA86: 40057 | AB86: 40087 | AC86: 40118 | AD86: 40148 | AE86: 40179 | AF86: 40210 | AG86: 40238 | AH86: 40269 | AI86: 40299 | AJ86: 40330 | AK86: 40360 | AL86: 40391 | AM86: 40422 | AN86: 40452 | AO86: 40483 | AP86: 40513 | AQ86: 40544 | AR86: 40575 | AS86: 40603 | AT86: 40634 | AU86: 40664 | AV86: 40695 | AW86: 40725 | AX86: 40756 | AY86: 40787 | AZ86: 40817 | BA86: 40848 | BB86: 40878 | BC86: 40909 | BD86: 40940 | BE86: 40969 | BF86: 41000 | BG86: 41030 | BH86: 41061 | BI86: 41091 | BJ86: 41122 | BK86: 41153 | BL86: 41183 | BM86: 41214 | BN86: 41244 | BO86: 41275 | BP86: 41306 | BQ86: 41334 | BR86: 41365 | BS86: 41395 | BT86: 41426 | BU86: 41456 | BV86: 41487 | BW86: 41518 | BX86: 41548 | BY86: 41579 | BZ86: 41609 | CA86: 41640 | CB86: 41671 | CC86: 41699 | CD86: 41730 | CE86: 41760 | CF86: 41791 | CG86: 41821 | CH86: 41852 | CI86: 41883 | CJ86: 41913 | CK86: 41944 | CL86: 41974 | CM86: 42005 | CN86: 42036 | CO86: 42064 | CP86: 42095 | CQ86: 42125 | CR86: 42156 | CS86: 42186 | CT86: 42217 | CU86: 42248 | CV86: 42278 | CW86: 42309 | CX86: 42339 | CY86: 42370 | CZ86: 42401 | DA86: 42430 | DB86: 42461 | DC86: 42491 | DD86: 42522 | DE86: 42552 | DF86: 42583 | DG86: 42614 | DH86: 42644 | DI86: 42675 | DJ86: 42705 | DK86: 42736 | DL86: 42767 | DM86: 42795 | DN86: 42826 | DO86: 42856 | DP86: 42887 | DQ86: 42917 | DR86: 42948 | DS86: 42979 | DT86: 43009 | DU86: 43040 | DV86: 43070 | DW86: 43101 | DX86: 43132 | DY86: 43160 | DZ86: 43191 | EA86: 43221 | EB86: 43252 | EC86: 43282 | ED86: 43313 | EE86: 43344 | EF86: 43374 | EG86: 43405 | EH86: 43435 | EI86: 43466 | EJ86: 43497 | EK86: 43525 | EL86: 43556 | EM86: 43586 | EN86: 43617 | EO86: 43647 | EP86: 43678 | EQ86: 43709 | ER86: 43739 | ES86: 43770 | ET86: 43800 | EU86: 43831 | EV86: 43862 | EW86: 43891 | EX86: 43922 | EY86: 43952 | EZ86: 43983 | FA86: 44013 | FB86: 44044 | FC86: 44075 | FD86: 44105 | FE86: 44136 | FF86: 44166 | FG86: 44197 | FH86: 44228 | FI86: 44256 | FJ86: 44287 | FK86: 44317 | FL86: 44348 | FM86: 44378 | FN86: 44409 | FO86: 44440 | FP86: 44470 | FQ86: 44501 | FR86: 44531 | FS86: 44562 | FT86: 44593 | FU86: 44621 | FV86: 44652 | FW86: 44682 | FX86: 44713 | FY86: 44743 | FZ86: 44774 | GA86: 44805 | GB86: 44835 | GC86: 44866 | GD86: 44896 | GE86: 44927 | GF86: 44958 | GG86: 44986 | GH86: 45017 | GI86: 45047 | GJ86: 45078 | GK86: 45108 | GL86: 45139 | GM86: 45170 | GN86: 45200 | GO86: 45231 | GP86: 45261 | GQ86: 45292 | GR86: 45323 | GS86: 45352 | GT86: 45383 | GU86: 45413 | GV86: 45444 | GW86: 45474 | GX86: 45505 | GY86: 45536 | GZ86: 45566 | HA86: 45597 | HB86: 45627 | HC86: 45658 | HD86: 45689 | HE86: 45717 | HF86: 45748 | HG86: 45778 | HH86: 45809 | HI86: 45839 | HJ86: 45870 | HK86: 45901 | HL86: 45931 | HM86: 45962
B87: ='Raw Data'!AZ20 -> 1710 | C87: ='Raw Data'!BA20 -> 1631 | D87: ='Raw Data'!BB20 -> 1630 | E87: ='Raw Data'!BC20 -> 1667 | F87: ='Raw Data'!BD20 -> 1611 | G87: ='Raw Data'!BE20 -> 1428 | H87: ='Raw Data'!BF20 -> 1477 | I87: ='Raw Data'!BG20 -> 1508 | ... GF87: ='Raw Data'!ID20 -> 382 | GG87: ='Raw Data'!IE21 -> 356 | GH87: ='Raw Data'!IF20 -> 372 | GI87: ='Raw Data'!IG20 -> 357 | GJ87: ='Raw Data'!IH20 -> 343 | GK87: ='Raw Data'!II20 -> 352 | GL87: ='Raw Data'!IJ20 -> 333 | GM87: ='Raw Data'!IK20 -> 320 | GN87: ='Raw Data'!IL20 -> 310 | GO87: ='Raw Data'!IM20 -> 317 | ... GR87: ='Raw Data'!IP20 -> 355

Sheet Sold Price per SF data
B1: ='Raw Data'!IC111 -> January | C1: ='Raw Data'!ID111 -> February | D1: ='Raw Data'!IE111 -> March | E1: ='Raw Data'!IF111 -> April | F1: ='Raw Data'!IG111 -> May | G1: ='Raw Data'!IH111 -> June | H1: July | I1: ='Raw Data'!IJ111 -> August | J1: ='Raw Data'!IK111 -> September | K1: ='Raw Data'!IL111 -> October | L1: ='Raw Data'!IM111 -> November | M1: ='Raw Data'!IN111 -> December
A2: 2009 | B2: ='Raw Data'!JA112 -> 213.32 | C2: ='Raw Data'!JB112 -> 203.73 | D2: ='Raw Data'!JC112 -> 202.1 | E2: ='Raw Data'!JD112 -> 215.98 | F2: ='Raw Data'!JE112 -> 196.85 | G2: ='Raw Data'!JF112 -> 205.7 | H2: ='Raw Data'!JG112 -> 202.33 | I2: ='Raw Data'!JH112 -> 207.43 | ... M2: ='Raw Data'!JL112 -> 211.52
A3: 2010 | B3: ='Raw Data'!JA113 -> 200.29 | C3: ='Raw Data'!JB113 -> 178.04 | D3: ='Raw Data'!JC113 -> 176.08 | E3: ='Raw Data'!JD113 -> 188.89 | F3: ='Raw Data'!JE113 -> 211.08 | G3: ='Raw Data'!JF113 -> 187.99 | H3: ='Raw Data'!JG113 -> 191.37 | I3: ='Raw Data'!JH113 -> 182.79 | ... M3: ='Raw Data'!JL113 -> 180.9
A4: 2011 | B4: ='Raw Data'!JA114 -> 185.85 | C4: ='Raw Data'!JB114 -> 183.74 | D4: ='Raw Data'!JC114 -> 197.21 | E4: ='Raw Data'!JD114 -> 183.15 | F4: ='Raw Data'!JE114 -> 186.97 | G4: ='Raw Data'!JF114 -> 162.73 | H4: ='Raw Data'!JG114 -> 162.08 | I4: ='Raw Data'!JH114 -> 162.25 | ... M4: ='Raw Data'!JL114 -> 165.95
A5: 2012 | B5: ='Raw Data'!JA115 -> 163.74 | C5: ='Raw Data'!JB115 -> 158.39 | D5: ='Raw Data'!JC115 -> 177.35 | E5: ='Raw Data'!JD115 -> 176.04 | F5: ='Raw Data'!JE115 -> 171.77 | G5: ='Raw Data'!JF115 -> 158.62 | H5: ='Raw Data'!JG115 -> 158.85 | I5: ='Raw Data'!JH115 -> 163.64 | ... M5: ='Raw Data'!JL115 -> 178.99
A6: 2013 | B6: ='Raw Data'!JA116 -> 153.63 | C6: ='Raw Data'!JB116 -> 143.28 | D6: ='Raw Data'!JC116 -> 167.48 | E6: ='Raw Data'!JD116 -> 156.33 | F6: ='Raw Data'!JE116 -> 182.69 | G6: ='Raw Data'!JF116 -> 165.93 | H6: ='Raw Data'!JG116 -> 167.24 | I6: ='Raw Data'!JH116 -> 172.27 | ... M6: ='Raw Data'!JL116 -> 172.22
A7: ='Raw Data'!A117 -> 2014 | B7: ='Raw Data'!JA117 -> 169.84 | C7: ='Raw Data'!JB117 -> 165.27 | D7: ='Raw Data'!JC117 -> 164.02 | E7: ='Raw Data'!JD117 -> 175 | F7: ='Raw Data'!JE117 -> 180.33 | G7: ='Raw Data'!JF117 -> 175.67 | H7: ='Raw Data'!JG117 -> 159.03 | I7: ='Raw Data'!JH117 -> 164.11 | ... M7: ='Raw Data'!JL117 -> 179.21
A8: ='Raw Data'!A118 -> 2015 | B8: ='Raw Data'!JA118 -> 164.68 | C8: ='Raw Data'!JB118 -> 181.32 | D8: ='Raw Data'!JC118 -> 179.89 | E8: ='Raw Data'!JD118 -> 184.31 | F8: ='Raw Data'!JE118 -> 177.38 | G8: ='Raw Data'!JF118 -> 176.27 | H8: ='Raw Data'!JG118 -> 166.99 | I8: ='Raw Data'!JH118 -> 172.72 | ... M8: ='Raw Data'!JL118 -> 183.29
A9: ='Raw Data'!A119 -> 2016 | B9: ='Raw Data'!JA119 -> 187.52 | C9: ='Raw Data'!JB119 -> 182.08 | D9: ='Raw Data'!JC119 -> 180.7 | E9: ='Raw Data'!JD119 -> 183.47 | F9: ='Raw Data'!JE119 -> 184.88 | G9: ='Raw Data'!JF119 -> 176.61 | H9: ='Raw Data'!JG119 -> 181.42 | I9: ='Raw Data'!JH119 -> 182.96 | ... M9: ='Raw Data'!JL119 -> 188.42
A10: ='Raw Data'!A120 -> 2017 | B10: ='Raw Data'!JA120 -> 188.33 | C10: ='Raw Data'!JB120 -> 190 | D10: ='Raw Data'!JC120 -> 186.32 | E10: ='Raw Data'!JD120 -> 194.52 | F10: ='Raw Data'!JE120 -> 186.88 | G10: ='Raw Data'!JF120 -> 199.37 | H10: ='Raw Data'!JG120 -> 192.57 | I10: ='Raw Data'!JH120 -> 187.96 | ... M10: ='Raw Data'!JL120 -> 205.61
A11: ='Raw Data'!A121 -> 2018 | B11: ='Raw Data'!JA121 -> 188.25 | C11: ='Raw Data'!JB121 -> 199.07 | D11: ='Raw Data'!JC121 -> 192.74 | E11: ='Raw Data'!JD121 -> 197.21 | F11: ='Raw Data'!JE121 -> 190.2 | G11: ='Raw Data'!JF121 -> 201.49 | H11: ='Raw Data'!JG121 -> 192.05 | I11: ='Raw Data'!JH121 -> 196.28 | ... M11: ='Raw Data'!JL121 -> 211.82
A12: 2019 | B12: ='Raw Data'!JA122 -> 193.75 | C12: ='Raw Data'!JB122 -> 184.26 | D12: ='Raw Data'!JC122 -> 205.74 | E12: ='Raw Data'!JD122 -> 193.05 | F12: ='Raw Data'!JE122 -> 193.44 | G12: ='Raw Data'!JF122 -> 195.42 | H12: ='Raw Data'!JG122 -> 184.67 | I12: ='Raw Data'!JH122 -> 204.31 | ... M12: ='Raw Data'!JL122 -> 203.06
A13: 2020 | B13: ='Raw Data'!JA123 -> 196.69 | C13: ='Raw Data'!JB123 -> 195.26 | D13: ='Raw Data'!JC123 -> 207.95 | E13: ='Raw Data'!JD123 -> 209.44 | F13: ='Raw Data'!JE123 -> 198.29 | G13: ='Raw Data'!JF123 -> 194.29 | H13: ='Raw Data'!JG123 -> 209.22 | I13: ='Raw Data'!JH123 -> 213.24 | ... M13: ='Raw Data'!JL123 -> 242.66
A14: 2021 | B14: ='Raw Data'!JA124 -> 237.52 | C14: ='Raw Data'!JB124 -> 245.52 | D14: ='Raw Data'!JC124 -> 252.33 | E14: ='Raw Data'!JD124 -> 255.75 | F14: ='Raw Data'!JE124 -> 262.18 | G14: ='Raw Data'!JF124 -> 275.73 | H14: ='Raw Data'!JG124 -> 268.09 | I14: ='Raw Data'!JH124 -> 281.8 | ... M14: ='Raw Data'!JL124 -> 302.05
A15: 2022 | B15: ='Raw Data'!JA125 -> 310.64 | C15: ='Raw Data'!JB125 -> 340.41 | D15: ='Raw Data'!JC125 -> 319.95 | E15: ='Raw Data'!JD125 -> 342.32 | F15: ='Raw Data'!JE125 -> 335.53 | G15: ='Raw Data'!JF125 -> 331.96 | H15: ='Raw Data'!JG125 -> 331.11 | I15: ='Raw Data'!JH125 -> 318.64 | ... M15: ='Raw Data'!JL125 -> 320.14
A16: 2023 | B16: ='Raw Data'!JA126 -> 332.14 | C16: ='Raw Data'!JB126 -> 317.22 | D16: ='Raw Data'!JC126 -> 336.5 | E16: ='Raw Data'!JD126 -> 336.21 | F16: ='Raw Data'!JE126 -> 344.38 | G16: ='Raw Data'!JF126 -> 342.46 | H16: ='Raw Data'!JG126 -> 311.96 | I16: ='Raw Data'!JH126 -> 317.32 | ... M16: ='Raw Data'!JL126 -> 351.13
A17: 2024 | B17: ='Raw Data'!JA127 -> 331.05 | C17: ='Raw Data'!JB127 -> 361.83 | D17: ='Raw Data'!JC127 -> 356.38 | E17: ='Raw Data'!JD127 -> 350.93 | F17: ='Raw Data'!JE127 -> 358.48 | G17: ='Raw Data'!JF127 -> 351.37 | H17: ='Raw Data'!JG127 -> 352.31 | I17: ='Raw Data'!JH127 -> 368.88 | ... M17: ='Raw Data'!JL127 -> 354.36
A18: 2025 | B18: ='Raw Data'!JA128 -> 344.12 | C18: ='Raw Data'!JB128 -> 362.81 | D18: ='Raw Data'!JC128 -> 390.84 | E18: ='Raw Data'!JD128 -> 0 | F18: ='Raw Data'!JE128 -> 0 | G18: ='Raw Data'!JF128 -> 0 | H18: ='Raw Data'!JG128 -> 0 | I18: ='Raw Data'!JH128 -> 0 | ... M18: ='Raw Data'!JL128 -> 0

Sheet Absorption Rate data
A2: Residential Property Absorption Rate | B2: ='Raw Data'!AZ1 -> 39300 | C2: ='Raw Data'!BA1 -> 39331 | D2: ='Raw Data'!BB1 -> 39361 | E2: ='Raw Data'!BC1 -> 39392 | F2: ='Raw Data'!BD1 -> 39422 | G2: ='Raw Data'!BE1 -> 39453 | H2: ='Raw Data'!BF1 -> 39484 | I2: ='Raw Data'!BG1 -> 39513 | ... DM2: ='Raw Data'!FK1 -> 42800 | DN2: 42826 | DO2: 42856 | DP2: 42887 | DQ2: 42917 | DR2: 42948 | DS2: 42979 | DT2: 43009 | DU2: 43040 | DV2: 43070 | DW2: 43101 | DX2: 43132 | DY2: 43160 | DZ2: 43191 | EA2: 43221 | EB2: 43252 | EC2: 43282 | ED2: 43313 | EE2: 43344 | EF2: 43374 | EG2: 43405 | EH2: 43435 | EI2: 43466 | EJ2: 43497 | EK2: 43525 | EL2: 43556 | EM2: 43586 | EN2: 43617 | EO2: 43647 | EP2: 43678 | EQ2: 43709 | ER2: 43739 | ES2: 43770 | ET2: 43800 | EU2: 43831 | EV2: 43862 | EW2: 43891 | EX2: 43922 | EY2: 43952 | EZ2: 43983 | FA2: 44013 | FB2: 44044 | FC2: 44075 | FD2: 44105 | FE2: 44136 | FF2: 44166 | FG2: 44197 | FH2: 44228 | FI2: 44256 | FJ2: 44287 | FK2: 44317 | FL2: 44348 | FM2: 44378 | FN2: 44409 | FO2: 44440 | FP2: 44470 | FQ2: 44501 | FR2: 44531 | FS2: 44562 | FT2: 44593 | FU2: 44621 | FV2: 44652 | FW2: 44682 | FX2: 44713 | FY2: 44743 | FZ2: 44774 | GA2: 44805 | GB2: 44835 | GC2: 44866 | GD2: 44896 | GE2: 44927 | GF2: 44958 | GG2: 44986 | GH2: 45017 | GI2: 45047 | GJ2: 45078 | GK2: 45108 | GL2: 45139 | GM2: 45170 | GN2: 45200 | GO2: 45231 | GP2: 45261 | GQ2: 45292 | GR2: 45323 | GS2: 45352 | GT2: 45383 | GU2: 45413 | GV2: 45444 | GW2: 45474 | GX2: 45505 | GY2: 45536 | GZ2: 45566 | HA2: 45597 | HB2: 45627 | HC2: 45658 | HD2: 45689 | HE2: 45717 | HF2: 45748
A3: Absorption Rate in Weeks | B3: ='Raw Data'!AZ21/(('Raw Data'!AZ45*12)/52) -> 111.15409 | C3: ='Raw Data'!BA21/(('Raw Data'!BA45*12)/52) -> 113 | D3: ='Raw Data'!BB21/(('Raw Data'!BB45*12)/52) -> 121.65263 | E3: ='Raw Data'!BC21/(('Raw Data'!BC45*12)/52) -> 123.80287 | F3: ='Raw Data'!BD21/(('Raw Data'!BD45*12)/52) -> 137.34553 | G3: ='Raw Data'!BE21/(('Raw Data'!BE45*12)/52) -> 178.65497 | H3: ='Raw Data'!BF21/(('Raw Data'!BF45*12)/52) -> 141.78667 | I3: ='Raw Data'!BG21/(('Raw Data'!BG45*12)/52) -> 112.80208 | ... HF3: ='Raw Data'!JD21/(('Raw Data'!JD45*12)/52) -> #DIV/0!

Sheet Avg DOM
EI1: ='Raw Data'!IC130 -> Jan | EJ1: ='Raw Data'!ID130 -> Feb | EK1: ='Raw Data'!IE130 -> Mar | EL1: ='Raw Data'!IF130 -> Apr | EM1: ='Raw Data'!IG130 -> May | EN1: ='Raw Data'!IH130 -> Jun | EO1: July | EP1: ='Raw Data'!IJ130 -> Aug | EQ1: ='Raw Data'!IK130 -> Sep | ER1: ='Raw Data'!IL130 -> Oct | ES1: ='Raw Data'!IM130 -> Nov | ET1: ='Raw Data'!IN130 -> Dec
A5: 2012 | EI5: 274 | EJ5: 241 | EK5: 274 | EL5: 207 | EM5: 195 | EN5: 215 | EO5: 190 | EP5: 240 | EQ5: 213 | ER5: 208 | ES5: 228 | ET5: 252
A6: ='Raw Data'!A138 -> 2013 | EI6: ='Raw Data'!JA138 -> 0 | EJ6: ='Raw Data'!JB138 -> 178 | EK6: ='Raw Data'!JC138 -> 201 | EL6: ='Raw Data'!JD138 -> 246 | EM6: ='Raw Data'!JE138 -> 215 | EN6: ='Raw Data'!JF138 -> 213 | EO6: ='Raw Data'!JG138 -> 232 | EP6: ='Raw Data'!JH138 -> 219 | ... ET6: ='Raw Data'!JL138 -> 216
A7: ='Raw Data'!#REF! -> #REF! | EI7: ='Raw Data'!JA139 -> 206 | EJ7: ='Raw Data'!JB139 -> 202 | EK7: ='Raw Data'!JC139 -> 206 | EL7: ='Raw Data'!JD139 -> 231 | EM7: ='Raw Data'!JE139 -> 212 | EN7: ='Raw Data'!JF139 -> 227 | EO7: ='Raw Data'!JG139 -> 218 | EP7: ='Raw Data'!JH139 -> 191 | ... ET7: ='Raw Data'!JL139 -> 234
A8: ='Raw Data'!A139 -> 2014 | EG8: 2015 | EI8: ='Raw Data'!JA140 -> 237 | EJ8: ='Raw Data'!JB140 -> 233 | EK8: ='Raw Data'!JC140 -> 212 | EL8: ='Raw Data'!JD140 -> 237 | EM8: ='Raw Data'!JE140 -> 197 | EN8: ='Raw Data'!JF140 -> 218 | EO8: ='Raw Data'!JG140 -> 212 | EP8: ='Raw Data'!JH140 -> 190 | ... ET8: ='Raw Data'!JL140 -> 216
A9: 2016 | EG9: 2016 | EI9: ='Raw Data'!JA141 -> 214 | EJ9: ='Raw Data'!JB141 -> 197 | EK9: ='Raw Data'!JC141 -> 198 | EL9: ='Raw Data'!JD141 -> 207 | EM9: ='Raw Data'!JE141 -> 209 | EN9: ='Raw Data'!JF141 -> 182 | EO9: ='Raw Data'!JG141 -> 224 | EP9: ='Raw Data'!JH141 -> 197 | ... ET9: ='Raw Data'!JL141 -> 211
A10: 2017 | EG10: 2017 | EI10: ='Raw Data'!JA142 -> 223 | EJ10: ='Raw Data'!JB142 -> 191 | EK10: ='Raw Data'!JC142 -> 192 | EL10: ='Raw Data'!JD142 -> 160 | EM10: ='Raw Data'!JE142 -> 135 | EN10: ='Raw Data'!JF142 -> 137 | EO10: ='Raw Data'!JG142 -> 119 | EP10: ='Raw Data'!JH142 -> 142 | ... ET10: ='Raw Data'!JL142 -> 120
A11: 2018 | EG11: 2018 | EI11: ='Raw Data'!JA143 -> 170 | EJ11: ='Raw Data'!JB143 -> 117 | EK11: ='Raw Data'!JC143 -> 123 | EL11: ='Raw Data'!JD143 -> 133 | EM11: ='Raw Data'!JE143 -> 132 | EN11: ='Raw Data'!JF143 -> 126 | EO11: ='Raw Data'!JG143 -> 129 | EP11: ='Raw Data'!JH143 -> 137 | ... ET11: ='Raw Data'!JL143 -> 110
A12: 2019 | EG12: 2019 | EI12: ='Raw Data'!JA144 -> 104 | EJ12: ='Raw Data'!JB144 -> 122 | EK12: ='Raw Data'!JC144 -> 106 | EL12: ='Raw Data'!JD144 -> 118 | EM12: ='Raw Data'!JE144 -> 108 | EN12: ='Raw Data'!JF144 -> 127 | EO12: ='Raw Data'!JG144 -> 119 | EP12: ='Raw Data'!JH144 -> 136 | ... ET12: ='Raw Data'!JL144 -> 125
A13: 2020 | EG13: 2020 | EI13: 108 | EJ13: ='Raw Data'!JB145 -> 119 | EK13: ='Raw Data'!JC145 -> 121 | EL13: ='Raw Data'!JD145 -> 96 | EM13: 114 | EN13: ='Raw Data'!JF145 -> 97 | EO13: ='Raw Data'!JG145 -> 126 | EP13: 132 | EQ13: 113 | ER13: ='Raw Data'!JJ145 -> 115 | ES13: 93 | ET13: 80
A14: 2021 | EI14: ='Raw Data'!JA146 -> 92 | EJ14: ='Raw Data'!JB146 -> 71 | EK14: ='Raw Data'!JC146 -> 71 | EL14: ='Raw Data'!JD146 -> 52 | EM14: ='Raw Data'!JE146 -> 51 | EN14: ='Raw Data'!JF146 -> 46 | EO14: ='Raw Data'!JG146 -> 34 | EP14: ='Raw Data'!JH146 -> 41 | ... ET14: ='Raw Data'!JL146 -> 50
A15: 2022 | EI15: ='Raw Data'!JA147 -> 44 | EJ15: ='Raw Data'!JB147 -> 43 | EK15: ='Raw Data'!JC147 -> 39 | EL15: ='Raw Data'!JD147 -> 38 | EM15: ='Raw Data'!JE147 -> 27 | EN15: ='Raw Data'!JF147 -> 23 | EO15: ='Raw Data'!JG147 -> 33 | EP15: ='Raw Data'!JH147 -> 27 | ... ET15: ='Raw Data'!JL147 -> 51
A16: 2023 | EI16: ='Raw Data'!JA148 -> 64 | EJ16: ='Raw Data'!JB148 -> 55 | EK16: ='Raw Data'!JC148 -> 64 | EL16: ='Raw Data'!JD148 -> 45 | EM16: ='Raw Data'!JE148 -> 53 | EN16: ='Raw Data'!JF148 -> 50 | EO16: ='Raw Data'!JG148 -> 41 | EP16: ='Raw Data'!JH148 -> 38 | ... ET16: ='Raw Data'!JL148 -> 60
A17: 2024 | EI17: ='Raw Data'!JA149 -> 55 | EJ17: ='Raw Data'!JB149 -> 65 | EK17: ='Raw Data'!JC149 -> 52 | EL17: ='Raw Data'!JD149 -> 60 | EM17: ='Raw Data'!JE149 -> 54 | EN17: ='Raw Data'!JF149 -> 49 | EO17: ='Raw Data'!JG149 -> 56 | EP17: ='Raw Data'!JH149 -> 48 | ... ET17: ='Raw Data'!JL149 -> 57
A18: 2025 | EI18: ='Raw Data'!JA150 -> 72 | EJ18: ='Raw Data'!JB150 -> 68 | EK18: ='Raw Data'!JC150 -> 76 | EL18: ='Raw Data'!JD150 -> 0 | EM18: ='Raw Data'!JE150 -> 0 | EN18: ='Raw Data'!JF150 -> 0 | EO18: ='Raw Data'!JG150 -> 0 | EP18: ='Raw Data'!JH150 -> 0 | ... ET18: ='Raw Data'!JL150 -> 0
EI20: Qtr 1 | EJ20: Qtr 2 | EK20: Qtr3 | EL20: Qtr4
A21: 2021 | EI21: =SUM(EI14:EK14)/3 -> 78 | EJ21: =SUM(EL14:EN14)/3 -> 49.666667 | EK21: =SUM(EO14:EQ14)/3 -> 34.333333 | EL21: =SUM(ER14:ET14)/3 -> 45
A22: 2022 | EI22: =SUM(EI15:EK15)/3 -> 42 | EJ22: =SUM(EL15:EN15)/3 -> 29.333333 | EK22: =SUM(EO15:EQ15)/3 -> 31.666667 | EL22: =SUM(ER15:ET15)/3 -> 46.333333
A23: 2023 | EI23: =SUM(EI16:EK16)/3 -> 61 | EJ23: =SUM(EL16:EN16)/3 -> 49.333333 | EK23: =SUM(EO16:EQ16)/3 -> 46 | EL23: =SUM(ER16:ET16)/3 -> 48.333333
A24: 2024 | EI24: =SUM(EI17:EK17)/3 -> 57.333333 | EJ24: =SUM(EL17:EN17)/3 -> 54.333333 | EK24: =SUM(EO17:EQ17)/3 -> 52.333333 | EL24: =SUM(ER17:ET17)/3 -> 61
A25: 2025 | EI25: =SUM(EI18:EK18)/3 -> 72 | EJ25: =SUM(EL18:EN18) -> 0 | EK25: =SUM(EO18:EQ18) -> 0 | EL25: =SUM(ER18:ET18) -> 0
EP26: Resindential Avg Days on Market | ET26: Resindential Avg Days on Market | EX26: Quarterly Avg Days on Market
EP27: Month / Year | EQ27: Count | ER27: %Chg | ET27: Month / Year | EU27: Count | EV27: %Chg | EX27: Month / Year | EY27: Count | EZ27: %Chg
EP28: Mar'25 | EQ28: =EK18 -> 76 | ER28: =(EQ28-EQ29)/EQ29 -> 0.46153846 | ET28: 2025 | EU28: =SUM(EI18:JK18)/3 -> 72 | EV28: =(EU28-EU29)/EU29 -> 0.25581395
EP29: Mar'24 | EQ29: =EK17 -> 52 | ER29: =(EQ29-EQ30)/EQ30 -> -0.1875 | ET29: 2024 | EU29: =SUM(EI17:EK17)/3 -> 57.333333 | EV29: =(EU29-EU30)/EU30 -> -0.06010929 | EX29: 2024 Qtr 2 | EY29: =SUM(EL17:EN17)/3 -> 54.333333 | EZ29: =(EY29-EY30)/EY30 -> 0.10135135
EP30: Mar'23 | EQ30: =EK16 -> 64 | ER30: =(EQ30-EQ31)/EQ31 -> 0.64102564 | ET30: 2023 | EU30: =SUM(EI16:EK16)/3 -> 61 | EV30: =(EU30-EU31)/EU31 -> 0.45238095 | EX30: 2023 Qtr 2 | EY30: =SUM(EL16:EN16)/3 -> 49.333333 | EZ30: =(EY30-EY31)/EY31 -> 0.68181818
EP31: Mar'22 | EQ31: =EK15 -> 39 | ET31: 2022 | EU31: =SUM(EI15:EK15)/3 -> 42 | EX31: 2022 Qtr 2 | EY31: =SUM(EL15:EN15)/3 -> 29.333333 | EZ31: =(EY31-EY32)/EY32 -> -0.40939597
EX32: 2021 Qtr 2 | EY32: =SUM(EL14:EN14)/3 -> 49.666667
A35: LOTS / LAND DOM
B36: ='Raw Data'!IC153 -> Jan | C36: ='Raw Data'!ID153 -> Feb | D36: ='Raw Data'!IE153 -> Mar | E36: ='Raw Data'!IF153 -> Apr | F36: ='Raw Data'!IG153 -> May | G36: ='Raw Data'!IH153 -> Jun | H36: ='Raw Data'!II153 -> Jul | I36: ='Raw Data'!IJ153 -> Aug | ... M36: ='Raw Data'!IN153 -> Dec | N36: ='Raw Data'!#REF! -> #REF! | O36: ='Raw Data'!#REF! -> #REF! | P36: ='Raw Data'!#REF! -> #REF! | Q36: ='Raw Data'!#REF! -> #REF! | R36: ='Raw Data'!#REF! -> #REF! | S36: ='Raw Data'!#REF! -> #REF! | T36: ='Raw Data'!#REF! -> #REF! | U36: ='Raw Data'!#REF! -> #REF! | ... AK36: ='Raw Data'!#REF! -> #REF! | AL36: ='Raw Data'!IO153 -> Jan | AM36: ='Raw Data'!IP153 -> Feb | AN36: ='Raw Data'!IQ153 -> Mar | AO36: ='Raw Data'!IR153 -> Apr | AP36: ='Raw Data'!IS153 -> May | AQ36: ='Raw Data'!IT153 -> Jun | AR36: ='Raw Data'!IU153 -> Jul | AS36: ='Raw Data'!IV153 -> Aug | ... EH36: ='Raw Data'!MK153 -> 0 | EI36: ='Raw Data'!IC153 -> Jan | EJ36: ='Raw Data'!ID153 -> Feb | EK36: ='Raw Data'!IE153 -> Mar | EL36: ='Raw Data'!IF153 -> Apr | EM36: ='Raw Data'!IG153 -> May | EN36: ='Raw Data'!IH153 -> Jun | EO36: July | EP36: Aug | EQ36: ='Raw Data'!IK153 -> Sep | ER36: ='Raw Data'!IL153 -> Oct | ES36: ='Raw Data'!IM153 -> Nov | ET36: ='Raw Data'!IN153 -> Dec
A37: ='Raw Data'!IZ160 -> 2017 | EI37: ='Raw Data'!JA160 -> 244 | EJ37: ='Raw Data'!JB160 -> 284 | EK37: ='Raw Data'!JC160 -> 238 | EL37: ='Raw Data'!JD160 -> 235 | EM37: ='Raw Data'!JE160 -> 284 | EN37: ='Raw Data'!JF160 -> 196 | EO37: ='Raw Data'!JG160 -> 304 | EP37: ='Raw Data'!JH160 -> 192 | ... ET37: ='Raw Data'!JL160 -> 196
A38: ='Raw Data'!IZ161 -> 2018 | EI38: ='Raw Data'!JA161 -> 296 | EJ38: ='Raw Data'!JB161 -> 172 | EK38: ='Raw Data'!JC161 -> 200 | EL38: ='Raw Data'!JD161 -> 311 | EM38: ='Raw Data'!JE161 -> 249 | EN38: ='Raw Data'!JF161 -> 246 | EO38: ='Raw Data'!JG161 -> 200 | EP38: ='Raw Data'!JH161 -> 173 | ... ET38: ='Raw Data'!JL161 -> 203
A39: ='Raw Data'!IZ162 -> 2019 | EI39: ='Raw Data'!JA162 -> 141 | EJ39: ='Raw Data'!JB162 -> 224 | EK39: ='Raw Data'!JC162 -> 162 | EL39: ='Raw Data'!JD162 -> 279 | EM39: ='Raw Data'!JE162 -> 253 | EN39: ='Raw Data'!JF162 -> 195 | EO39: ='Raw Data'!JG162 -> 237 | EP39: ='Raw Data'!JH162 -> 370 | ... ET39: ='Raw Data'!JL162 -> 245
A40: ='Raw Data'!IZ163 -> 2020 | B40: ='Raw Data'!JA163 -> 174 | C40: ='Raw Data'!JB163 -> 104 | D40: ='Raw Data'!JC163 -> 195 | E40: ='Raw Data'!JD163 -> 189 | F40: ='Raw Data'!JE163 -> 150 | G40: ='Raw Data'!JF163 -> 189 | H40: ='Raw Data'!JG163 -> 282 | ... M40: ='Raw Data'!JL163 -> 176 | N40: ='Raw Data'!#REF! -> #REF! | O40: ='Raw Data'!#REF! -> #REF! | P40: ='Raw Data'!#REF! -> #REF! | Q40: ='Raw Data'!#REF! -> #REF! | R40: ='Raw Data'!#REF! -> #REF! | S40: ='Raw Data'!#REF! -> #REF! | T40: ='Raw Data'!#REF! -> #REF! | U40: ='Raw Data'!#REF! -> #REF! | ... BI40: ='Raw Data'!#REF! -> #REF! | BJ40: ='Raw Data'!JM164 -> 0 | BK40: ='Raw Data'!JN164 -> 0 | BL40: ='Raw Data'!JO164 -> 0 | BM40: ='Raw Data'!JP164 -> 0 | BN40: ='Raw Data'!JQ164 -> 0 | BO40: ='Raw Data'!JR164 -> 0 | BP40: ='Raw Data'!JS164 -> 0 | BQ40: ='Raw Data'!JT164 -> 0 | ... EH40: ='Raw Data'!MK164 -> 0 | EI40: ='Raw Data'!JA163 -> 174 | EJ40: ='Raw Data'!JB163 -> 104 | EK40: ='Raw Data'!JC163 -> 195 | EL40: ='Raw Data'!JD163 -> 189 | EM40: ='Raw Data'!JE163 -> 150 | EN40: ='Raw Data'!JF163 -> 189 | EO40: ='Raw Data'!JG163 -> 282 | EP40: ='Raw Data'!JH163 -> 189 | ... ET40: ='Raw Data'!JL163 -> 176
A41: ='Raw Data'!IZ164 -> 2021 | B41: ='Raw Data'!JA164 -> 184 | C41: ='Raw Data'!JB164 -> 203 | D41: ='Raw Data'!JC164 -> 228 | E41: ='Raw Data'!JD164 -> 203 | F41: ='Raw Data'!JE164 -> 119 | G41: ='Raw Data'!JF164 -> 158 | H41: ='Raw Data'!JG164 -> 145 | ... M41: ='Raw Data'!JL164 -> 165 | N41: ='Raw Data'!#REF! -> #REF! | O41: ='Raw Data'!#REF! -> #REF! | P41: ='Raw Data'!#REF! -> #REF! | Q41: ='Raw Data'!#REF! -> #REF! | R41: ='Raw Data'!#REF! -> #REF! | S41: ='Raw Data'!#REF! -> #REF! | T41: ='Raw Data'!#REF! -> #REF! | U41: ='Raw Data'!#REF! -> #REF! | ... BI41: ='Raw Data'!#REF! -> #REF! | BJ41: ='Raw Data'!JM165 -> 0 | BK41: ='Raw Data'!JN165 -> 0 | BL41: ='Raw Data'!JO165 -> 0 | BM41: ='Raw Data'!JP165 -> 0 | BN41: ='Raw Data'!JQ165 -> 0 | BO41: ='Raw Data'!JR165 -> 0 | BP41: ='Raw Data'!JS165 -> 0 | BQ41: ='Raw Data'!JT165 -> 0 | ... EH41: ='Raw Data'!MK165 -> 0 | EI41: ='Raw Data'!JA164 -> 184 | EJ41: ='Raw Data'!JB164 -> 203 | EK41: ='Raw Data'!JC164 -> 228 | EL41: ='Raw Data'!JD164 -> 203 | EM41: ='Raw Data'!JE164 -> 119 | EN41: ='Raw Data'!JF164 -> 158 | EO41: ='Raw Data'!JG164 -> 145 | EP41: ='Raw Data'!JH164 -> 139 | ... ET41: ='Raw Data'!JL164 -> 165
A42: 2022 | EI42: ='Raw Data'!JA165 -> 190 | EJ42: ='Raw Data'!JB165 -> 121 | EK42: ='Raw Data'!JC165 -> 199 | EL42: ='Raw Data'!JD165 -> 217 | EM42: ='Raw Data'!JE165 -> 182 | EN42: ='Raw Data'!JF165 -> 126 | EO42: ='Raw Data'!JG165 -> 88 | EP42: ='Raw Data'!JH165 -> 116 | ... ET42: ='Raw Data'!JL165 -> 233
A43: 2023 | EI43: ='Raw Data'!JA166 -> 101 | EJ43: ='Raw Data'!JB166 -> 207 | EK43: ='Raw Data'!JC166 -> 138 | EL43: ='Raw Data'!JD166 -> 118 | EM43: ='Raw Data'!JE166 -> 133 | EN43: ='Raw Data'!JF166 -> 191 | EO43: ='Raw Data'!JG166 -> 89 | EP43: ='Raw Data'!JH166 -> 96 | ... ET43: ='Raw Data'!JL166 -> 85
A44: 2024 | EI44: ='Raw Data'!JA167 -> 121 | EJ44: ='Raw Data'!JB167 -> 151 | EK44: ='Raw Data'!JC149 -> 52 | EL44: ='Raw Data'!JD149 -> 60 | EM44: ='Raw Data'!JE149 -> 54 | EN44: ='Raw Data'!JF149 -> 49 | EO44: ='Raw Data'!JG149 -> 56 | EP44: ='Raw Data'!JH149 -> 48 | EQ44: ='Raw Data'!JI149 -> 53 | ER44: ='Raw Data'!JJ149 -> 63 | ... ET44: ='Raw Data'!JL149 -> 57
A45: 2025 | EI45: ='Raw Data'!JA150 -> 72 | EJ45: ='Raw Data'!JB150 -> 68 | EK45: ='Raw Data'!JC150 -> 76 | EL45: ='Raw Data'!JD150 -> 0 | EM45: ='Raw Data'!JE150 -> 0 | EN45: ='Raw Data'!JF150 -> 0 | EO45: ='Raw Data'!JG150 -> 0 | EP45: ='Raw Data'!JH150 -> 0 | ... ET45: ='Raw Data'!JL150 -> 0
EP47: Lots / Land Avg Days on Market | ET47: Lots Land Avg Days on Market | EX47: Quarterly Avg Days on Market
EI48: 1st Qtr | EJ48: 2nd Qtr | EK48: 4th Qtr | EL48: 4th Qtr | EP48: Month / Year | EQ48: Count | ER48: %Chg | ET48: Month / Year | EU48: Count | EV48: %Chg | EX48: Month / Year | EY48: Count | EZ48: %Chg
A49: 2021 | EI49: =SUM(EI41:EK41)/3 -> 205 | EJ49: =SUM(EL41:EN41)/3 -> 160 | EK49: =SUM(EO41:EQ41)/3 -> 143.33333 | EL49: =SUM(ER41:ET41)/3 -> 178.33333 | EP49: Mar'25 | EQ49: =EK45 -> 76 | ER49: =(EQ49-EQ50)/EQ50 -> 0.46153846 | ET49: 2025 | EU49: =SUM(EI45:EK45)/3 -> 72 | EV49: =(EU49-EU50)/EU50 -> -0.33333333 | EX49: 1st Qtr'25 | EY49: =SUM(EI45:EK45) -> 216 | EZ49: =(EY49-EY50)/EY50 -> -0.33333333
A50: 2022 | EI50: =SUM(EI42:EK42)/3 -> 170 | EJ50: =SUM(EL42:EN42)/3 -> 175 | EK50: =SUM(EO42:EQ42)/3 -> 96 | EL50: =SUM(ER42:ET42)/3 -> 194 | EP50: Mar'24 | EQ50: =EK44 -> 52 | ER50: =(EQ50-EQ51)/EQ51 -> -0.62318841 | ET50: 2024 | EU50: =SUM(EI44:EK44)/3 -> 108 | EV50: =(EU50-EU51)/EU51 -> -0.2735426 | EX50: 1st Qtr'24 | EY50: =SUM(EI44:EK44) -> 324 | EZ50: =(EY50-EY51)/EY51 -> -0.2735426
A51: 2023 | EI51: =SUM(EI43:EK43)/3 -> 148.66667 | EJ51: =SUM(EL43:EN43)/3 -> 147.33333 | EK51: =SUM(EO43:EQ43)/3 -> 113.33333 | EL51: =SUM(ER43:ET43)/3 -> 84.666667 | EP51: Mar'23 | EQ51: =EK43 -> 138 | ER51: =(EQ51-EQ52)/EQ52 -> -0.30653266 | ET51: 2023 | EU51: =SUM(EI43:EK43)/3 -> 148.66667 | EV51: =(EU51-EU52)/EU52 -> -0.1254902 | EX51: 1st Qtr'23 | EY51: =SUM(EI43:EK43) -> 446 | EZ51: =(EY51-EY52)/EY52 -> -0.1254902
A52: 2024 | EI52: =SUM(EI44:EK44)/3 -> 108 | EJ52: =SUM(EL44:EN44)/3 -> 54.333333 | EK52: =SUM(EO44:EQ44)/3 -> 52.333333 | EL52: =SUM(ER44:ET44)/3 -> 61 | EP52: Mar'22 | EQ52: =EK42 -> 199 | ET52: 2022 | EU52: =SUM(EI42:EK42)/3 -> 170 | EV52: =(EU52-EU53)/EU53 -> -0.17073171 | EX52: 1st Qtr'22 | EY52: =SUM(EI42:EK42) -> 510
A53: 2025 | EI53: =SUM(EI45:EK45) -> 216 | EJ53: =SUM(EL45:EN45) -> 0 | EK53: =SUM(EO45:EQ45) -> 0 | EL53: =SUM(ER45:ET45) -> 0 | ET53: 2021 | EU53: =SUM(EI41:EK41)/3 -> 205

Sheet Total Under Contract
A1: Total Under Contract
B2: Jan | C2: Feb | D2: Mar | E2: Apr | F2: May | G2: Jun | H2: July | I2: Aug | J2: Sep | K2: Oct | L2: Nov | M2: Dec
A3: 2013 | J3: ='Raw Data'!DU29 -> 363 | K3: ='Raw Data'!DV29 -> 379 | L3: ='Raw Data'!DW29 -> 377 | M3: ='Raw Data'!DX29 -> 271
A4: 2014 | B4: ='Raw Data'!DY29 -> 333 | C4: ='Raw Data'!DZ29 -> 366 | D4: ='Raw Data'!EA29 -> 447 | E4: ='Raw Data'!EB29 -> 462 | F4: ='Raw Data'!EC29 -> 423 | G4: ='Raw Data'!ED29 -> 385 | H4: ='Raw Data'!EE29 -> 368 | I4: ='Raw Data'!EF29 -> 403 | ... M4: ='Raw Data'!EJ29 -> 269
A5: 2015 | B5: ='Raw Data'!EK29 -> 330 | C5: ='Raw Data'!EL29 -> 367 | D5: ='Raw Data'!EM29 -> 412 | E5: ='Raw Data'!EN29 -> 475 | F5: ='Raw Data'!EO29 -> 429 | G5: ='Raw Data'!EP29 -> 391 | H5: ='Raw Data'!EQ29 -> 402 | I5: ='Raw Data'!ER29 -> 407 | ... M5: ='Raw Data'!EV29 -> 335
A6: 2016 | B6: ='Raw Data'!EW29 -> 345 | C6: ='Raw Data'!EX29 -> 370 | D6: ='Raw Data'!EY29 -> 395 | E6: ='Raw Data'!EZ29 -> 434 | F6: ='Raw Data'!FA29 -> 445 | G6: ='Raw Data'!FB29 -> 389 | H6: ='Raw Data'!FC29 -> 416 | I6: ='Raw Data'!FD29 -> 431 | ... M6: ='Raw Data'!FH29 -> 267
A7: 2017 | B7: ='Raw Data'!FI29 -> 330 | C7: ='Raw Data'!FJ29 -> 367 | D7: ='Raw Data'!FK29 -> 451 | E7: ='Raw Data'!FL29 -> 473 | F7: ='Raw Data'!FM29 -> 461 | G7: ='Raw Data'!FN29 -> 410 | H7: ='Raw Data'!FO29 -> 422 | I7: ='Raw Data'!FP29 -> 419 | ... M7: ='Raw Data'!FT29 -> 280
A8: 2018 | B8: ='Raw Data'!FU29 -> 304 | C8: ='Raw Data'!FV29 -> 394 | D8: ='Raw Data'!FW29 -> 414 | E8: ='Raw Data'!FX29 -> 439 | F8: ='Raw Data'!FY29 -> 435 | G8: ='Raw Data'!FZ29 -> 390 | H8: ='Raw Data'!GA29 -> 424 | I8: ='Raw Data'!GB29 -> 416 | ... M8: ='Raw Data'!GF29 -> 254
A9: 2019 | B9: ='Raw Data'!GG29 -> 323 | C9: ='Raw Data'!GH29 -> 380 | D9: ='Raw Data'!GI29 -> 451 | E9: ='Raw Data'!GJ29 -> 459 | F9: ='Raw Data'!GK29 -> 423 | G9: ='Raw Data'!GL29 -> 405 | H9: ='Raw Data'!GM29 -> 454 | I9: ='Raw Data'!GN29 -> 435 | ... M9: ='Raw Data'!GR29 -> 327
A10: 2020 | B10: ='Raw Data'!GS29 -> 381 | C10: ='Raw Data'!GT29 -> 500 | D10: ='Raw Data'!GU29 -> 442 | E10: ='Raw Data'!GV29 -> 374 | F10: ='Raw Data'!GW29 -> 549 | G10: ='Raw Data'!GX29 -> 843 | H10: ='Raw Data'!GY29 -> 914 | I10: ='Raw Data'!GZ29 -> 989 | ... M10: ='Raw Data'!HD29 -> 709
A11: 2021 | B11: ='Raw Data'!HE29 -> 766 | C11: ='Raw Data'!HF29 -> 825 | D11: ='Raw Data'!HG29 -> 883 | E11: ='Raw Data'!HH29 -> 923 | F11: ='Raw Data'!HI29 -> 856 | G11: ='Raw Data'!HJ29 -> 728 | H11: ='Raw Data'!HK29 -> 708 | I11: ='Raw Data'!HL29 -> 739 | ... M11: ='Raw Data'!HP29 -> 614
A12: 2022 | B12: ='Raw Data'!HQ29 -> 651 | C12: ='Raw Data'!HR29 -> 711 | D12: ='Raw Data'!HS29 -> 686 | E12: ='Raw Data'!HT29 -> 663 | F12: ='Raw Data'!HU29 -> 557 | G12: ='Raw Data'!HV29 -> 482 | H12: ='Raw Data'!HW29 -> 488 | I12: ='Raw Data'!HX29 -> 483 | ... M12: ='Raw Data'!IB29 -> 308
A13: 2023 | B13: ='Raw Data'!IC29 -> 402 | C13: ='Raw Data'!ID29 -> 430 | D13: ='Raw Data'!IE29 -> 419 | E13: ='Raw Data'!IF29 -> 418 | F13: ='Raw Data'!IG29 -> 399 | G13: ='Raw Data'!IH29 -> 353 | H13: ='Raw Data'!II29 -> 373 | I13: ='Raw Data'!IJ29 -> 405 | ... M13: ='Raw Data'!IN29 -> 251
A14: 2024 | B14: ='Raw Data'!IO29 -> 285 | C14: ='Raw Data'!IP29 -> 370 | D14: ='Raw Data'!IQ29 -> 344 | E14: ='Raw Data'!IR29 -> 343 | F14: ='Raw Data'!IS29 -> 324 | G14: ='Raw Data'!IT29 -> 324 | H14: ='Raw Data'!IU29 -> 311 | I14: ='Raw Data'!IV29 -> 324 | ... M14: ='Raw Data'!IZ29 -> 228
A15: 2025 | B15: ='Raw Data'!JA29 -> 247 | C15: ='Raw Data'!JB29 -> 304 | D15: ='Raw Data'!JC29 -> 313 | E15: ='Raw Data'!JD29 -> 0 | F15: ='Raw Data'!JE29 -> 0 | G15: ='Raw Data'!JF29 -> 0 | H15: ='Raw Data'!JG29 -> 0 | I15: ='Raw Data'!JH29 -> 0 | ... M15: ='Raw Data'!JL29 -> 0
G18: Total Under Contact
G19: Month / Year | H19: Count | I19: %Chg
G20: Mar'25 | H20: =D15 -> 313 | I20: =(H20-H21)/H21 -> -0.090116279
G21: Mar'24 | H21: =D14 -> 344 | I21: =(H21-H22)/H22 -> -0.17899761
G22: Mar'23 | H22: =D13 -> 419 | I22: =(H22-H23)/H23 -> -0.38921283
G23: Mar'22 | H23: =D12 -> 686
B28: 41287 | C28: 41318 | D28: 41346 | E28: 41377 | F28: 41407 | G28: 41438 | H28: 41468 | I28: 41499 | J28: 41530 | K28: 41560 | L28: 41591 | M28: 41621 | N28: 41652 | O28: 41683 | P28: 41711 | Q28: 41742 | R28: 41772 | S28: 41803 | T28: 41833 | U28: 41864 | V28: 41895 | W28: 41925 | X28: 41956 | Y28: 41986 | Z28: 42017 | AA28: 42048 | AB28: 42076 | AC28: 42107 | AD28: 42137 | AE28: 42168 | AF28: 42198 | AG28: 42229 | AH28: 42260 | AI28: 42290 | AJ28: 42321 | AK28: 42351 | AL28: 42382 | AM28: 42413 | AN28: 42442 | AO28: 42473 | AP28: 42503 | AQ28: 42534 | AR28: 42564 | AS28: 42595 | AT28: 42626 | AU28: 42656 | AV28: 42687 | AW28: 42717 | AX28: 42748 | AY28: 42779 | AZ28: 42807 | BA28: 42838 | BB28: 42868 | BC28: 42899 | BD28: 42929 | BE28: 42960 | BF28: 42991 | BG28: 43021 | BH28: 43052 | BI28: 43082 | BJ28: 43113 | BK28: 43144 | BL28: 43172 | BM28: 43203 | BN28: 43233 | BO28: 43264 | BP28: 43294 | BQ28: 43325 | BR28: 43356 | BS28: 43386 | BT28: 43417 | BU28: 43447 | BV28: 43478 | BW28: 43509 | BX28: 43537 | BY28: 43568 | BZ28: 43598 | CA28: 43629 | CB28: 43659 | CC28: 43690 | CD28: 43721 | CE28: 43751 | CF28: 43782 | CG28: 43812 | CH28: 43843 | CI28: 43874 | CJ28: 43903 | CK28: 43934 | CL28: 43964 | CM28: 43995 | CN28: 44025 | CO28: 44056 | CP28: 44087 | CQ28: 44117 | CR28: 44148 | CS28: 44178 | CT28: 44209 | CU28: 44240 | CV28: 44268 | CW28: 44299 | CX28: 44329 | CY28: 44360 | CZ28: 44390 | DA28: 44421 | DB28: 44452 | DC28: 44482 | DD28: 44513 | DE28: 44543 | DF28: 44574 | DG28: 44605 | DH28: 44633 | DI28: 44664 | DJ28: 44694 | DK28: 44725 | DL28: 44755 | DM28: 44786 | DN28: 44817 | DO28: 44847 | DP28: 44878 | DQ28: 44908 | DR28: 44939 | DS28: 44970 | DT28: 44998 | DU28: 45029 | DV28: 45059 | DW28: 45090 | DX28: 45120 | DY28: 45151 | DZ28: 45182 | EA28: 45212 | EB28: 45243 | EC28: 45273 | ED28: 45304 | EE28: 45335 | EF28: 45364 | EG28: 45395 | EH28: 45425 | EI28: 45456 | EJ28: 45486 | EK28: 45517 | EL28: 45548 | EM28: 45578 | EN28: 45609 | EO28: 45639 | EP28: 45670 | EQ28: 45701 | ER28: 45729 | ES28: 45760 | ET28: 45790 | EU28: 45821 | EV28: 45851 | EW28: 45882 | EX28: 45913 | EY28: 45943 | EZ28: 45974 | FA28: 46004
A29: Under Contracts | B29: =B4 -> 333 | C29: =C4 -> 366 | D29: =D4 -> 447 | E29: =E4 -> 462 | F29: =F4 -> 423 | G29: =G4 -> 385 | H29: =H4 -> 368 | I29: =I4 -> 403 | ... M29: =M4 -> 269 | N29: =B5 -> 330 | O29: =C5 -> 367 | P29: =D5 -> 412 | Q29: =E5 -> 475 | R29: =F5 -> 429 | S29: =G5 -> 391 | T29: =H5 -> 402 | U29: =I5 -> 407 | ... Y29: =M5 -> 335 | Z29: =B5 -> 330 | AA29: =C5 -> 367 | AB29: =D5 -> 412 | AC29: =E5 -> 475 | AD29: =F5 -> 429 | AE29: =G5 -> 391 | AF29: =H5 -> 402 | AG29: =I5 -> 407 | ... AK29: =M5 -> 335 | AL29: =B6 -> 345 | AM29: =C6 -> 370 | AN29: =D6 -> 395 | AO29: =E6 -> 434 | AP29: =F6 -> 445 | AQ29: =G6 -> 389 | AR29: =H6 -> 416 | AS29: =I6 -> 431 | ... AW29: =M6 -> 267 | AX29: =B7 -> 330 | AY29: =C7 -> 367 | AZ29: =D7 -> 451 | BA29: =E7 -> 473 | BB29: =F7 -> 461 | BC29: =G7 -> 410 | BD29: =H7 -> 422 | BE29: =I7 -> 419 | ... BI29: =M7 -> 280 | BJ29: =B8 -> 304 | BK29: =C8 -> 394 | BL29: =D8 -> 414 | BM29: =E8 -> 439 | BN29: =F8 -> 435 | BO29: =G8 -> 390 | BP29: =H8 -> 424 | BQ29: =I8 -> 416 | ... BU29: =M8 -> 254 | BV29: =B9 -> 323 | BW29: =C9 -> 380 | BX29: =D9 -> 451 | BY29: =E9 -> 459 | BZ29: =F9 -> 423 | CA29: =G9 -> 405 | CB29: =H9 -> 454 | CC29: =I9 -> 435 | ... CG29: =M9 -> 327 | CH29: =B10 -> 381 | CI29: =C10 -> 500 | CJ29: =D10 -> 442 | CK29: =E10 -> 374 | CL29: =F10 -> 549 | CM29: =G10 -> 843 | CN29: =H10 -> 914 | CO29: =I10 -> 989 | ... CS29: =M10 -> 709 | CT29: =B11 -> 766 | CU29: =C11 -> 825 | CV29: =D11 -> 883 | CW29: =E11 -> 923 | CX29: =F11 -> 856 | CY29: =G11 -> 728 | CZ29: =H11 -> 708 | DA29: =I11 -> 739 | ... DE29: =M11 -> 614 | DF29: =B12 -> 651 | DG29: =C12 -> 711 | DH29: =D12 -> 686 | DI29: =E12 -> 663 | DJ29: =F12 -> 557 | DK29: =G12 -> 482 | DL29: =H12 -> 488 | DM29: =I12 -> 483 | ... DQ29: =M12 -> 308 | DR29: =B13 -> 402 | DS29: =C13 -> 430 | DT29: =D13 -> 419 | DU29: =E13 -> 418 | DV29: =F13 -> 399 | DW29: =G13 -> 353 | DX29: =H13 -> 373 | DY29: =I13 -> 405 | ... EC29: =M13 -> 251 | ED29: =B14 -> 285 | EE29: =C14 -> 370 | EF29: =D14 -> 344 | EG29: =E14 -> 343 | EH29: =F14 -> 324 | EI29: =G14 -> 324 | EJ29: =H14 -> 311 | EK29: =I14 -> 324 | ... EO29: =M14 -> 228 | EP29: =B15 -> 247 | EQ29: =C15 -> 304 | ER29: =D15 -> 313 | ES29: =E15 -> 0 | ET29: =F15 -> 0 | EU29: =G15 -> 0 | EV29: =H15 -> 0 | EW29: =I15 -> 0 | ... FA29: =M15 -> 0

Sheet NC Numbers
B1: 45681 | C1: 45712 | D1: 45740 | E1: 45771 | F1: 45801 | G1: 45832 | H1: 45862 | I1: 45893 | J1: 45924 | K1: 45954 | L1: 45985 | M1: 46015 | N1: Total Building Permits
A2: Manteo-25 | B2: 1 | C2: 0 | N2: =SUM(B2:M2) -> 1 | O2: Manteo-25
A3: Manteo-24 | B3: 0 | C3: 0 | N3: =SUM(B3:M3) -> 0 | O3: Manteo-24
A4: Southern Shores - 25 | B4: 1 | C4: 2 | N4: =SUM(B4:M4) -> 3 | O4: Southern Shores - 25
A5: Southern Shores - 24 | B5: 0 | C5: 1 | N5: =SUM(B5:M5) -> 1 | O5: Southern Shores - 24
A6: Nags Head - 25 | B6: 3 | C6: 1 | N6: =SUM(B6:M6) -> 4 | O6: Nags Head - 25
A7: Nags Head - 24 | B7: 1 | C7: 3 | N7: =SUM(B7:M7) -> 4 | O7: Nags Head - 24
A8: Kill Devil Hills - 25 | B8: 1 | C8: 3 | N8: =SUM(B8:M8) -> 4 | O8: Kill Devil Hills - 25
A9: Kill Devil Hills - 24 | B9: 5 | C9: 2 | N9: =SUM(B9:M9) -> 7 | O9: Kill Devil Hills - 24
A10: Kitty Hawk - 25 | B10: 3 | C10: 2 | N10: =SUM(B10:M10) -> 5 | O10: Kitty Hawk - 25
A11: Kitty Hawk - 24 | B11: 2 | C11: 0 | N11: =SUM(B11:M11) -> 2 | O11: Kitty Hawk - 24
A12: Duck -25 | B12: 1 | C12: 1 | N12: =SUM(B12:M12) -> 2 | O12: Duck -25
A13: Duck - 24 | B13: 2 | C13: 1 | N13: =SUM(B13:M13) -> 3 | O13: Duck - 24
... A19: KDH - UnIncorporated -24 | B19: 4 | C19: 2 | N19: =SUM(B19:M19) -> 6 | O19: KDH - UnIncorporated -24
A20: 2025 Total | B20: =SUM(B2+B4+B6+B8+B10+B12+B14+B16+B18) -> 18 | C20: =SUM(C2+C4+C6+C8+C10+C12+C14+C16+C18) -> 14 | D20: =SUM(D2+D4+D6+D8+D10+D12+D14+D16+D18) -> 0 | E20: =SUM(E2+E4+E6+E8+E10+E12+E14+E16+E18) -> 0 | F20: =SUM(F2+F4+F6+F8+F10+F12+F14+F16+F18) -> 0 | G20: =SUM(G2+G4+G6+G8+G10+G12+G14+G16+G18) -> 0 | H20: =SUM(H2+H4+H6+H8+H10+H12+H14+H16+H18) -> 0 | I20: =SUM(I2+I4+I6+I8+I10+I12+I14+I16+I18) -> 0 | ... N20: =SUM(N2+N4+N6+N8+N10+N12+N14+N16+N18) -> 32 | O20: 2025 Total
A21: 2024 Total | B21: =SUM(B3+B5+B7+B9+B11+B13+B15+B17+B19) -> 21 | C21: =SUM(C3+C5+C7+C9+C11+C13+C15+C17+C19) -> 14 | D21: =SUM(D3+D5+D7+D9+D11+D13+D15+D17+D19) -> 0 | E21: =SUM(E3+E5+E7+E9+E11+E13+E15+E17+E19) -> 0 | F21: =SUM(F3+F5+F7+F9+F11+F13+F15+F17+F19) -> 0 | G21: =SUM(G3+G5+G7+G9+G11+G13+G15+G17+G19) -> 0 | H21: =SUM(H3+H5+H7+H9+H11+H13+H15+H17+H19) -> 0 | I21: =SUM(I3+I5+I7+I9+I11+I13+I15+I17+I19) -> 0 | ... N21: =SUM(N3+N5+N7+N9+N11+N13+N15+N17+N19) -> 35 | O21: 2024 Total
B25: 45315 | C25: 45346 | D25: 45375 | E25: 45406 | F25: 45436 | G25: 45467 | H25: 45497 | I25: 45528 | J25: 45559 | K25: 45589 | L25: 45620 | M25: 45650 | N25: Total Building Permits
A26: Manteo-24 | B26: 0 | C26: 0 | D26: 0 | E26: 0 | F26: 1 | G26: 1 | H26: 1 | I26: 1 | J26: 0 | K26: 0 | L26: 0 | M26: 1 | N26: =SUM(B26:M26) -> 5 | O26: Manteo-24
A27: Manteo-23 | B27: 0 | C27: 0 | D27: 0 | E27: 0 | F27: 0 | G27: 0 | H27: 0 | I27: 1 | J27: 0 | K27: 2 | L27: 0 | M27: 0 | N27: =SUM(B27:M27) -> 3 | O27: Manteo-23
A28: Southern Shores - 24 | B28: 0 | C28: 1 | D28: 0 | E28: 0 | F28: 1 | G28: 1 | H28: 4 | I28: 1 | J28: 1 | K28: 1 | L28: 1 | M28: 2 | N28: =SUM(B28:M28) -> 13 | O28: Southern Shores - 24
A29: Southern Shores - 23 | B29: 3 | C29: 2 | D29: 1 | E29: 2 | F29: 1 | G29: 2 | H29: 2 | I29: 2 | J29: 1 | K29: 2 | L29: 1 | M29: 2 | N29: =SUM(B29:M29) -> 21 | O29: Southern Shores - 23
A30: Nags Head - 24 | B30: 1 | C30: 3 | D30: 2 | E30: 1 | F30: 3 | G30: 1 | H30: 4 | I30: 3 | J30: 1 | K30: 3 | L30: 5 | M30: 2 | N30: =SUM(B30:M30) -> 29 | O30: Nags Head - 24
A31: Nags Head - 23 | B31: 3 | C31: 0 | D31: 2 | E31: 1 | F31: 1 | G31: 3 | H31: 0 | I31: 1 | J31: 4 | K31: 3 | L31: 4 | M31: 0 | N31: =SUM(B31:M31) -> 22 | O31: Nags Head - 23
A32: Kill Devil Hills - 24 | B32: 5 | C32: 2 | D32: 5 | E32: 2 | F32: 4 | G32: 6 | H32: 3 | I32: 5 | J32: 6 | K32: 1 | L32: 4 | M32: 4 | N32: =SUM(B32:M32) -> 47 | O32: Kill Devil Hills - 24
A33: Kill Devil Hills - 23 | B33: 2 | C33: 8 | D33: 5 | E33: 1 | F33: 3 | G33: 5 | H33: 1 | I33: 8 | J33: 3 | K33: 4 | L33: 3 | M33: 7 | N33: =SUM(B33:M33) -> 50 | O33: Kill Devil Hills - 23
A34: Kitty Hawk - 24 | B34: 2 | C34: 0 | D34: 0 | E34: 0 | F34: 0 | G34: 1 | H34: 1 | I34: 0 | J34: 0 | K34: 4 | L34: 1 | M34: 0 | N34: =SUM(B34:M34) -> 9 | O34: Kitty Hawk - 24
A35: Kitty Hawk - 23 | B35: 1 | C35: 3 | D35: 1 | E35: 2 | F35: 1 | G35: 1 | H35: 0 | I35: 0 | J35: 2 | K35: 3 | L35: 3 | M35: 3 | N35: =SUM(B35:M35) -> 20 | O35: Kitty Hawk - 23
A36: Duck -24 | B36: 2 | C36: 1 | D36: 1 | E36: 0 | F36: 0 | G36: 1 | H36: 0 | I36: 0 | J36: 0 | K36: 1 | L36: 2 | M36: 0 | N36: =SUM(B36:M36) -> 8 | O36: Duck -24
A37: Duck - 23 | B37: 1 | C37: 0 | D37: 1 | E37: 2 | F37: 1 | G37: 0 | H37: 1 | I37: 1 | J37: 2 | K37: 2 | L37: 2 | M37: 1 | N37: =SUM(B37:M37) -> 14 | O37: Duck - 23
... A43: KDH - UnIncorporated -23 | B43: 4 | C43: 9 | D43: 2 | E43: 1 | F43: 2 | G43: 4 | H43: 1 | I43: 2 | J43: 4 | K43: 1 | L43: 1 | M43: 1 | N43: =SUM(B43:M43) -> 32 | O43: KDH - UnIncorporated -23
A44: 2024 Total | B44: =SUM(B26+B28+B30+B32+B34+B36+B38+B40+B42) -> 21 | C44: =SUM(C26+C28+C30+C32+C34+C36+C38+C40+C42) -> 14 | D44: =SUM(D26+D28+D30+D32+D34+D36+D38+D40+D42) -> 18 | E44: =SUM(E26+E28+E30+E32+E34+E36+E38+E40+E42) -> 19 | F44: =SUM(F26+F28+F30+F32+F34+F36+F38+F40+F42) -> 21 | G44: =SUM(G26+G28+G30+G32+G34+G36+G38+G40+G42) -> 23 | H44: =SUM(H26+H28+H30+H32+H34+H36+H38+H40+H42) -> 23 | I44: =SUM(I26+I28+I30+I32+I34+I36+I38+I40+I42) -> 21 | ... N44: =SUM(N26+N28+N30+N32+N34+N36+N38+N40+N42) -> 243
A45: 2023 Total | B45: =SUM(B27+B29+B31+B33+B35+B37+B39+B41+B43) -> 23 | C45: =SUM(C27+C29+C31+C33+C35+C37+C39+C41+C43) -> 28 | D45: =SUM(D27+D29+D31+D33+D35+D37+D39+D41+D43) -> 18 | E45: =SUM(E27+E29+E31+E33+E35+E37+E39+E41+E43) -> 19 | F45: =SUM(F27+F29+F31+F33+F35+F37+F39+F41+F43) -> 23 | G45: =SUM(G27+G29+G31+G33+G35+G37+G39+G41+G43) -> 32 | H45: =SUM(H27+H29+H31+H33+H35+H37+H39+H41+H43) -> 13 | I45: =SUM(I27+I29+I31+I33+I35+I37+I39+I41+I43) -> 29 | ... N45: =SUM(N27+N29+N31+N33+N35+N37+N39+N41+N43) -> 288
B48: 44946 | C48: 44958 | D48: 45010 | E48: 45042 | F48: 45074 | G48: 45106 | H48: 45138 | I48: 45139 | J48: 45172 | K48: 45203 | L48: 45253 | M48: 45283 | N48: Total Building Permits
A49: Manteo-23 | B49: 0 | C49: 0 | D49: 0 | E49: 0 | F49: 0 | G49: 0 | H49: 0 | I49: 1 | J49: 0 | K49: 2 | L49: 0 | M49: 0 | N49: =SUM(B49:M49) -> 3 | O49: Manteo-23
A50: Manteo-22 | B50: 1 | C50: 2 | D50: 2 | E50: 1 | F50: 3 | G50: 1 | H50: 0 | I50: 2 | J50: 0 | K50: 0 | L50: 0 | M50: 0 | N50: =SUM(B50:M50) -> 12 | O50: Manteo-22
A51: Southern Shores - 23 | B51: 3 | C51: 2 | D51: 1 | E51: 2 | F51: 1 | G51: 2 | H51: 2 | I51: 2 | J51: 1 | K51: 2 | L51: 1 | M51: 2 | N51: =SUM(B51:M51) -> 21 | O51: Southern Shores - 23
A52: Southern Shores - 22 | B52: 3 | C52: 4 | D52: 2 | E52: 5 | F52: 2 | G52: 1 | H52: 1 | I52: 4 | J52: 1 | K52: 4 | L52: 3 | M52: 2 | N52: =SUM(B52:M52) -> 32 | O52: Southern Shores - 22
A53: Nags Head - 23 | B53: 3 | C53: 0 | D53: 2 | E53: 1 | F53: 1 | G53: 3 | H53: 0 | I53: 1 | J53: 4 | K53: 3 | L53: 4 | M53: 0 | N53: =SUM(B53:M53) -> 22 | O53: Nags Head - 23
A54: Nags Head - 22 | B54: 0 | C54: 1 | D54: 2 | E54: 1 | F54: 1 | G54: 1 | H54: 0 | I54: 5 | J54: 3 | K54: 3 | L54: 1 | M54: 2 | N54: =SUM(B54:M54) -> 20 | O54: Nags Head - 22
A55: Kill Devil Hills - 23 | B55: 2 | C55: 8 | D55: 5 | E55: 1 | F55: 3 | G55: 5 | H55: 1 | I55: 8 | J55: 3 | K55: 4 | L55: 3 | M55: 7 | N55: =SUM(B55:M55) -> 50 | O55: Kill Devil Hills - 23
A56: Kill Devil Hills - 22 | B56: 11 | C56: 6 | D56: 10 | E56: 7 | F56: 8 | G56: 6 | H56: 3 | I56: 19 | J56: 4 | K56: 7 | L56: 6 | M56: 3 | N56: =SUM(B56:M56) -> 90 | O56: Kill Devil Hills - 22
A57: Kitty Hawk - 23 | B57: 1 | C57: 3 | D57: 1 | E57: 2 | F57: 1 | G57: 1 | H57: 0 | I57: 0 | J57: 2 | K57: 3 | L57: 3 | M57: 3 | N57: =SUM(B57:M57) -> 20 | O57: Kitty Hawk - 23
A58: Kitty Hawk - 22 | B58: 4 | C58: 4 | D58: 1 | E58: 1 | F58: 1 | G58: 3 | H58: 2 | I58: 0 | J58: 2 | K58: 5 | L58: 3 | M58: 3 | N58: =SUM(B58:M58) -> 29 | O58: Kitty Hawk - 22
A59: Duck -23 | B59: 1 | C59: 0 | D59: 1 | E59: 2 | F59: 1 | G59: 0 | H59: 1 | I59: 1 | J59: 2 | K59: 2 | L59: 2 | M59: 1 | N59: =SUM(B59:M59) -> 14 | O59: Duck -23
A60: Duck - 22 | B60: 2 | C60: 2 | D60: 4 | E60: 3 | F60: 0 | G60: 1 | H60: 1 | I60: 4 | J60: 2 | K60: 3 | L60: 0 | M60: 0 | N60: =SUM(B60:M60) -> 22 | O60: Duck - 22
... A66: KDH - UnIncorporated -22 | B66: 2 | C66: 9 | D66: 7 | E66: 1 | F66: 0 | G66: 0 | H66: 1 | I66: 3 | J66: 2 | K66: 7 | L66: 2 | M66: 0 | N66: =SUM(B66:M66) -> 34 | O66: KDH - UnIncorporated -22
A67: 2023 Total | B67: =SUM(B49+B51+B53+B55+B57+B59+B61+B63+B65) -> 23 | C67: =SUM(C49+C51+C53+C55+C57+C59+C61+C63+C65) -> 28 | D67: =SUM(D49+D51+D53+D55+D57+D59+D61+D63+D65) -> 18 | E67: =SUM(E49+E51+E53+E55+E57+E59+E61+E63+E65) -> 19 | F67: =SUM(F49+F51+F53+F55+F57+F59+F61+F63+F65) -> 23 | G67: =SUM(G49+G51+G53+G55+G57+G59+G61+G63+G65) -> 32 | H67: =SUM(H49+H51+H53+H55+H57+H59+H61+H63+H65) -> 13 | I67: =SUM(I49+I51+I53+I55+I57+I59+I61+I63+I65) -> 29 | ... M67: =SUM(M49+M51+M53+M55+M57+M59+M61+M63+M65) -> 26 | N67: =SUM(B67:M67) -> 288
A68: 2022 Total | B68: =SUM(B50+B52+B54+B56+B58+B60+B62+B64+B66) -> 34 | C68: =SUM(C50+C52+C54+C56+C58+C60+C62+C64+C66) -> 35 | D68: =SUM(D50+D52+D54+D56+D58+D60+D62+D64+D66) -> 45 | E68: =SUM(E50+E52+E54+E56+E58+E60+E62+E64+E66) -> 26 | F68: =SUM(F50+F52+F54+F56+F58+F60+F62+F64+F66) -> 25 | G68: =SUM(G50+G52+G54+G56+G58+G60+G62+G64+G66) -> 26 | H68: =SUM(H50+H52+H54+H56+H58+H60+H62+H64+H66) -> 18 | I68: =SUM(I50+I52+I54+I56+I58+I60+I62+I64+I66) -> 50 | ... M68: =SUM(M50+M52+M54+M56+M58+M60+M62+M64+M66) -> 19 | N68: =SUM(B68:M68) -> 367
B70: 44581 | C70: 44613 | D70: 44645 | E70: 44677 | F70: 44709 | G70: 44741 | H70: 44773 | I70: 44774 | J70: 44807 | K70: 44838 | L70: 44871 | M70: 44902 | N70: Total Building Permits
A71: Manteo-22 | B71: 1 | C71: 2 | D71: 2 | E71: 1 | F71: 3 | G71: 1 | H71: 0 | I71: 2 | J71: 0 | K71: 0 | L71: 0 | M71: 0 | N71: =SUM(B71:K71) -> 12 | O71: Manteo-22
A72: Manteo-21 | B72: 1 | C72: 3 | D72: 1 | E72: 0 | F72: 1 | G72: 0 | H72: 0 | I72: 0 | J72: 1 | K72: 2 | L72: 1 | M72: 2 | N72: =SUM(B72:K72) -> 9 | O72: Manteo-21
A73: Southern Shores - 22 | B73: 3 | C73: 4 | D73: 2 | E73: 5 | F73: 2 | G73: 1 | H73: 1 | I73: 4 | J73: 1 | K73: 4 | L73: 3 | M73: 2 | N73: =SUM(B73:K73) -> 27 | O73: Southern Shores - 22
A74: Southern Shores - 21 | B74: 2 | C74: 3 | D74: 3 | E74: 3 | F74: 3 | G74: 0 | H74: 0 | I74: 3 | J74: 2 | K74: 4 | L74: 1 | M74: 2 | N74: =SUM(B74:K74) -> 23 | O74: Southern Shores - 21
A75: Nags Head - 22 | B75: 0 | C75: 1 | D75: 2 | E75: 1 | F75: 1 | G75: 1 | H75: 0 | I75: 5 | J75: 3 | K75: 3 | L75: 1 | M75: 2 | N75: =SUM(B75:K75) -> 17 | O75: Nags Head - 22
A76: Nags Head - 21 | B76: 1 | C76: 1 | D76: 2 | E76: 0 | F76: 3 | G76: 2 | H76: 2 | I76: 1 | J76: 5 | K76: 3 | L76: 2 | M76: 4 | N76: =SUM(B76:K76) -> 20 | O76: Nags Head - 21
A77: Kill Devil Hills - 22 | B77: 11 | C77: 6 | D77: 10 | E77: 7 | F77: 8 | G77: 6 | H77: 3 | I77: 19 | J77: 4 | K77: 7 | L77: 6 | M77: 3 | N77: =SUM(B77:K77) -> 81 | O77: Kill Devil Hills - 22
A78: Kill Devil Hills - 21 | B78: 8 | C78: 9 | D78: 9 | E78: 3 | F78: 9 | G78: 10 | H78: 6 | I78: 4 | J78: 9 | K78: 4 | L78: 7 | M78: 4 | N78: =SUM(B78:K78) -> 71 | O78: Kill Devil Hills - 21
A79: Kitty Hawk - 22 | B79: 4 | C79: 4 | D79: 1 | E79: 1 | F79: 1 | G79: 3 | H79: 2 | I79: 0 | J79: 2 | K79: 5 | L79: 3 | M79: 3 | N79: =SUM(B79:K79) -> 23 | O79: Kitty Hawk - 22
A80: Kitty Hawk - 21 | B80: 2 | C80: 2 | D80: 0 | E80: 1 | F80: 0 | G80: 1 | H80: 5 | I80: 2 | J80: 5 | K80: 2 | L80: 4 | M80: 6 | N80: =SUM(B80:K80) -> 20 | O80: Kitty Hawk - 21
A81: Duck -22 | B81: 2 | C81: 2 | D81: 4 | E81: 3 | F81: 0 | G81: 1 | H81: 1 | I81: 4 | J81: 2 | K81: 3 | L81: 0 | M81: 0 | N81: =SUM(B81:K81) -> 22 | O81: Duck -22
A82: Duck - 21 | B82: 1 | C82: 2 | D82: 1 | E82: 1 | F82: 0 | G82: 4 | H82: 0 | I82: 0 | J82: 0 | K82: 2 | L82: 3 | M82: 1 | N82: =SUM(B82:K82) -> 11 | O82: Duck - 21
... A88: KDH - UnIncorporated -21 | B88: 3 | C88: 8 | D88: 4 | E88: 6 | F88: 1 | G88: 2 | H88: 1 | I88: 2 | J88: 1 | K88: 3 | L88: 3 | M88: 1 | N88: =SUM(B88:K88) -> 31 | O88: KDH - UnIncorporated -21
A89: 2022 Total | B89: =SUM(B71+B73+B75+B77+B79+B81+B83+B85+B87) -> 34 | C89: =SUM(C71+C73+C75+C77+C79+C81+C83+C85+C87) -> 35 | D89: =SUM(D71+D73+D75+D77+D79+D81+D83+D85+D87) -> 45 | E89: =SUM(E71+E73+E75+E77+E79+E81+E83+E85+E87) -> 26 | F89: =SUM(F71+F73+F75+F77+F79+F81+F83+F85+F87) -> 25 | G89: =SUM(G71+G73+G75+G77+G79+G81+G83+G85+G87) -> 26 | H89: =SUM(H71+H73+H75+H77+H79+H81+H83+H85+H87) -> 18 | I89: =SUM(I71+I73+I75+I77+I79+I81+I83+I85+I87) -> 50 | ... M89: =SUM(M71+M73+M75+M77+M79+M81+M83+M85+M87) -> 19 | N89: =SUM(B89:K89) -> 327
A90: 2021 Total | B90: =SUM(B72+B74+B76+B78+B80+B82+B84+B86+B88) -> 30 | C90: =SUM(C72+C74+C76+C78+C80+C82+C84+C86+C88) -> 35 | D90: =SUM(D72+D74+D76+D78+D80+D82+D84+D86+D88) -> 32 | E90: =SUM(E72+E74+E76+E78+E80+E82+E84+E86+E88) -> 25 | F90: =SUM(F72+F74+F76+F78+F80+F82+F84+F86+F88) -> 25 | G90: =SUM(G72+G74+G76+G78+G80+G82+G84+G86+G88) -> 30 | H90: =SUM(H72+H74+H76+H78+H80+H82+H84+H86+H88) -> 21 | I90: =SUM(I72+I74+I76+I78+I80+I82+I84+I86+I88) -> 21 | ... M90: =SUM(M72+M74+M76+M78+M80+M82+M84+M86+M88) -> 35 | N90: =SUM(B90:K90) -> 275
B92: 44216 | C92: 44248 | D92: 44280 | E92: 44312 | F92: 44344 | G92: 44376 | H92: 44408 | I92: 44429 | J92: 44460 | K92: 44490 | L92: 44521 | M92: 44551 | N92: Total Building Permits
A93: Manteo-21 | B93: 1 | C93: 3 | D93: 1 | E93: 0 | F93: 1 | G93: 0 | H93: 0 | I93: 0 | J93: 1 | K93: 2 | L93: 1 | M93: 2 | N93: =SUM(B93:M93) -> 12
A94: Manteo-20 | B94: 1 | C94: 0 | D94: 0 | E94: 0 | F94: 1 | G94: 1 | H94: 1 | I94: 1 | J94: 0 | K94: 0 | L94: 1 | M94: 1 | N94: =SUM(B94:M94) -> 7
A95: Southern Shores - 21 | B95: 2 | C95: 3 | D95: 3 | E95: 3 | F95: 3 | G95: 0 | H95: 0 | I95: 3 | J95: 2 | K95: 4 | L95: 1 | M95: 2 | N95: =SUM(B95:M95) -> 26
A96: Southern Shores - 20 | B96: 2 | C96: 2 | D96: 5 | E96: 1 | F96: 1 | G96: 5 | H96: 4 | I96: 0 | J96: 3 | K96: 4 | L96: 3 | M96: 3 | N96: =SUM(B96:M96) -> 33
A97: Nags Head - 21 | B97: 1 | C97: 1 | D97: 2 | E97: 0 | F97: 3 | G97: 2 | H97: 2 | I97: 1 | J97: 5 | K97: 3 | L97: 2 | M97: 4 | N97: =SUM(B97:M97) -> 26
A98: Nags Head - 20 | B98: 1 | C98: 2 | D98: 0 | E98: 1 | F98: 0 | G98: 0 | H98: 2 | I98: 2 | J98: 4 | K98: 3 | L98: 4 | M98: 4 | N98: =SUM(B98:M98) -> 23
A99: Kill Devil Hills - 21 | B99: 8 | C99: 9 | D99: 9 | E99: 3 | F99: 9 | G99: 10 | H99: 6 | I99: 4 | J99: 9 | K99: 4 | L99: 7 | M99: 4 | N99: =SUM(B99:M99) -> 82
A100: Kill Devil Hills - 20 | B100: 7 | C100: 9 | D100: 4 | E100: 5 | F100: 3 | G100: 7 | H100: 3 | I100: 5 | J100: 11 | K100: 5 | L100: 2 | M100: 2 | N100: =SUM(B100:M100) -> 63
A101: Kitty Hawk - 21 | B101: 2 | C101: 2 | D101: 0 | E101: 1 | F101: 0 | G101: 1 | H101: 5 | I101: 2 | J101: 5 | K101: 2 | L101: 4 | M101: 6 | N101: =SUM(B101:M101) -> 30
A102: Kitty Hawk - 20 | B102: 0 | C102: 2 | D102: 3 | E102: 1 | F102: 2 | G102: 2 | H102: 3 | I102: 0 | J102: 2 | K102: 0 | L102: 2 | M102: 2 | N102: =SUM(B102:M102) -> 19
A103: Duck -21 | B103: 1 | C103: 2 | D103: 1 | E103: 1 | F103: 0 | G103: 4 | H103: 0 | I103: 0 | J103: 0 | K103: 2 | L103: 3 | M103: 1 | N103: =SUM(B103:M103) -> 15
A104: Duck - 20 | B104: 0 | C104: 1 | D104: 2 | E104: 2 | F104: 1 | G104: 0 | H104: 1 | I104: 1 | J104: 0 | K104: 3 | L104: 4 | M104: 4 | N104: =SUM(B104:M104) -> 19
... A110: KDH - UnIncorporated -20 | B110: 0 | C110: 1 | D110: 4 | E110: 0 | F110: 1 | G110: 1 | H110: 5 | I110: 8 | J110: 8 | K110: 2 | L110: 2 | M110: 2 | N110: =SUM(B110:M110) -> 34
A111: 2021 Total | B111: =SUM(B93+B95+B97+B99+B101+B103+B105+B107+B109) -> 30 | C111: =SUM(C93+C95+C97+C99+C101+C103+C105+C107+C109) -> 35 | D111: =SUM(D93+D95+D97+D99+D101+D103+D105+D107+D109) -> 32 | E111: =SUM(E93+E95+E97+E99+E101+E103+E105+E107+E109) -> 25 | F111: =SUM(F93+F95+F97+F99+F101+F103+F105+F107+F109) -> 25 | G111: =SUM(G93+G95+G97+G99+G101+G103+G105+G107+G109) -> 30 | H111: =SUM(H93+H95+H97+H99+H101+H103+H105+H107+H109) -> 21 | I111: =SUM(I93+I95+I97+I99+I101+I103+I105+I107+I109) -> 21 | ... N111: =SUM(N93+N95+N97+N99+N101+N103+N105+N107+N109) -> 340
A112: 2020 Total | B112: =SUM(B94+B96+B98+B100+B102+B104+B106+B108+B110) -> 19 | C112: =SUM(C94+C96+C98+C100+C102+C104+C106+C108+C110) -> 22 | D112: =SUM(D94+D96+D98+D100+D102+D104+D106+D108+D110) -> 26 | E112: =SUM(E94+E96+E98+E100+E102+E104+E106+E108+E110) -> 16 | F112: =SUM(F94+F96+F98+F100+F102+F104+F106+F108+F110) -> 15 | G112: =SUM(G94+G96+G98+G100+G102+G104+G106+G108+G110) -> 22 | H112: =SUM(H94+H96+H98+H100+H102+H104+H106+H108+H110) -> 25 | I112: =SUM(I94+I96+I98+I100+I102+I104+I106+I108+I110) -> 23 | ... N112: =SUM(N94+N96+N98+N100+N102+N104+N106+N108+N110) -> 276
B114: 43850 | C114: 43881 | D114: 43910 | E114: 43941 | F114: 43971 | G114: 44002 | H114: 44032 | I114: 44063 | J114: 44094 | K114: 44124 | L114: 44155 | M114: 44185 | N114: Total Building Permits
A115: Manteo-20 | B115: 1 | C115: 0 | D115: 0 | E115: 0 | F115: 1 | G115: 1 | H115: 1 | I115: 1 | J115: 0 | K115: 0 | L115: 3 | M115: 1 | N115: =SUM(B115:M115) -> 9
A116: Manteo-19 | B116: 1 | C116: 0 | D116: 0 | E116: 2 | F116: 0 | G116: 0 | H116: 0 | I116: 1 | J116: 0 | K116: 0 | L116: 0 | M116: 0 | N116: =SUM(B116:M116) -> 4
A117: Southern Shores - 20 | B117: 2 | C117: 2 | D117: 5 | E117: 1 | F117: 1 | G117: 5 | H117: 4 | I117: 0 | J117: 3 | K117: 4 | L117: 0 | M117: 3 | N117: =SUM(B117:M117) -> 30
A118: Southern Shores - 19 | B118: 3 | C118: 0 | D118: 0 | E118: 3 | F118: 2 | G118: 2 | H118: 0 | I118: 3 | J118: 0 | K118: 5 | L118: 3 | M118: 0 | N118: =SUM(B118:M118) -> 21
A119: Nags Head - 20 | B119: 1 | C119: 2 | D119: 0 | E119: 1 | F119: 0 | G119: 0 | H119: 2 | I119: 2 | J119: 4 | K119: 3 | L119: 0 | M119: 4 | N119: =SUM(B119:M119) -> 19
A120: Nags Head - 19 | B120: 1 | C120: 1 | D120: 1 | E120: 3 | F120: 0 | G120: 1 | H120: 2 | I120: 1 | J120: 0 | K120: 2 | L120: 1 | M120: 0 | N120: =SUM(B120:M120) -> 13
A121: Kill Devil Hills - 20 | B121: 7 | C121: 9 | D121: 4 | E121: 5 | F121: 3 | G121: 7 | H121: 3 | I121: 5 | J121: 11 | K121: 5 | L121: 8 | M121: 2 | N121: =SUM(B121:M121) -> 69
A122: Kill Devil Hills - 19 | B122: 3 | C122: 1 | D122: 4 | E122: 2 | F122: 3 | G122: 7 | H122: 1 | I122: 6 | J122: 2 | K122: 6 | L122: 10 | M122: 4 | N122: =SUM(B122:M122) -> 49
A123: Kitty Hawk - 20 | B123: 0 | C123: 2 | D123: 3 | E123: 1 | F123: 2 | G123: 2 | H123: 3 | I123: 0 | J123: 2 | K123: 0 | L123: 3 | M123: 2 | N123: =SUM(B123:M123) -> 20
A124: Kitty Hawk - 19 | B124: 3 | C124: 2 | D124: 1 | E124: 2 | F124: 3 | G124: 2 | H124: 1 | I124: 1 | J124: 0 | K124: 0 | L124: 2 | M124: 1 | N124: =SUM(B124:M124) -> 18
A125: Duck -20 | B125: 0 | C125: 1 | D125: 2 | E125: 2 | F125: 1 | G125: 0 | H125: 1 | I125: 1 | J125: 0 | K125: 3 | L125: 1 | M125: 4 | N125: =SUM(B125:M125) -> 16
A126: Duck - 19 | B126: 3 | C126: 1 | D126: 0 | E126: 0 | F126: 0 | G126: 4 | H126: 0 | I126: 1 | J126: 0 | K126: 2 | L126: 0 | M126: 1 | N126: =SUM(B126:M126) -> 12
... A132: KDH - UnIncorporated -19 | B132: 1 | C132: 3 | D132: 4 | E132: 2 | F132: 0 | G132: 2 | H132: 1 | I132: 3 | J132: 2 | K132: 1 | L132: 3 | M132: 3 | N132: =SUM(B132:M132) -> 25
A133: 2020 Total | B133: =SUM(B115+B117+B119+B121+B123+B125+B127+B129+B131) -> 19 | C133: =SUM(C115+C117+C119+C121+C123+C125+C127+C129+C131) -> 22 | D133: =SUM(D115+D117+D119+D121+D123+D125+D127+D129+D131) -> 26 | E133: =SUM(E115+E117+E119+E121+E123+E125+E127+E129+E131) -> 16 | F133: =SUM(F115+F117+F119+F121+F123+F125+F127+F129+F131) -> 15 | G133: =SUM(G115+G117+G119+G121+G123+G125+G127+G129+G131) -> 22 | H133: =SUM(H115+H117+H119+H121+H123+H125+H127+H129+H131) -> 25 | I133: =SUM(I115+I117+I119+I121+I123+I125+I127+I129+I131) -> 23 | ... N133: =SUM(N115+N117+N119+N121+N123+N125+N127+N129+N131) -> 282
A134: 2019 Total | B134: =SUM(B116+B118+B120+B122+B124+B126+B128+B130+B132) -> 17 | C134: =SUM(C116+C118+C120+C122+C124+C126+C128+C130+C132) -> 16 | D134: =SUM(D116+D118+D120+D122+D124+D126+D128+D130+D132) -> 15 | E134: =SUM(E116+E118+E120+E122+E124+E126+E128+E130+E132) -> 18 | F134: =SUM(F116+F118+F120+F122+F124+F126+F128+F130+F132) -> 9 | G134: =SUM(G116+G118+G120+G122+G124+G126+G128+G130+G132) -> 23 | H134: =SUM(H116+H118+H120+H122+H124+H126+H128+H130+H132) -> 14 | I134: =SUM(I116+I118+I120+I122+I124+I126+I128+I130+I132) -> 22 | ... N134: =SUM(N116+N118+N120+N122+N124+N126+N128+N130+N132) -> 217
B138: 43483 | C138: 43514 | D138: 43542 | E138: 43573 | F138: 43603 | G138: 43634 | H138: 43664 | I138: 43695 | J138: 43726 | K138: 43756 | L138: 43787 | M138: 43817 | N138: Total Building Permits
A139: Manteo-19 | B139: 1 | C139: 0 | D139: 0 | E139: 2 | F139: 0 | G139: 0 | H139: 0 | I139: 1 | J139: 0 | K139: 0 | L139: 0 | M139: 0 | N139: =SUM(B139:M139) -> 4
A140: Manteo-18 | B140: 0 | C140: 0 | D140: 0 | E140: 2 | F140: 1 | G140: 0 | H140: 0 | I140: 0 | J140: 3 | K140: 1 | L140: 0 | M140: 0 | N140: =SUM(B140:M140) -> 7
A141: Southern Shores - 19 | B141: 3 | C141: 0 | D141: 0 | E141: 3 | F141: 2 | G141: 2 | H141: 0 | I141: 3 | J141: 0 | K141: 5 | L141: 3 | M141: 0 | N141: =SUM(B141:M141) -> 21
...

Sheet New Const Permits
B1: 43101 | C1: 43132 | D1: 43160 | E1: 43191 | F1: 43221 | G1: 43252 | H1: 43282 | I1: 43313 | J1: 43344 | K1: 43374 | L1: 43405 | M1: 43435 | N1: Total Building Permits
A2: Manteo | B2: ='NC Numbers'!B163 -> 0 | C2: 0 | D2: 0 | E2: 2 | F2: 1 | G2: ='NC Numbers'!G163 -> 0 | H2: 0 | I2: ='NC Numbers'!I163 -> 0 | J2: 3 | K2: 1 | L2: 0 | M2: 0 | N2: =SUM(B2:M2) -> 7
A3: Southern Shores | B3: ='NC Numbers'!B165 -> 1 | C3: 1 | D3: 1 | E3: 5 | F3: 3 | G3: ='NC Numbers'!G165 -> 1 | H3: 3 | I3: ='NC Numbers'!I165 -> 2 | J3: 2 | K3: 2 | L3: 2 | M3: 3 | N3: =SUM(B3:M3) -> 26
A4: Nags Head | B4: ='NC Numbers'!B167 -> 4 | C4: 6 | D4: 2 | E4: 1 | F4: 3 | G4: ='NC Numbers'!G167 -> 2 | H4: 6 | I4: ='NC Numbers'!I167 -> 4 | J4: 1 | K4: 3 | L4: 3 | M4: 1 | N4: =SUM(B4:M4) -> 36
A5: Kill Devil Hills | B5: ='NC Numbers'!B169 -> 4 | C5: 7 | D5: 7 | E5: 3 | F5: 4 | G5: ='NC Numbers'!G169 -> 10 | H5: 5 | I5: ='NC Numbers'!I169 -> 6 | J5: 7 | K5: 10 | L5: 4 | M5: 13 | N5: =SUM(B5:M5) -> 80
A6: Kitty Hawk | B6: ='NC Numbers'!B171 -> 5 | C6: 6 | D6: 3 | E6: 2 | F6: 4 | G6: ='NC Numbers'!G171 -> 1 | H6: 0 | I6: ='NC Numbers'!I171 -> 4 | J6: 1 | K6: 5 | L6: 3 | M6: 7 | N6: =SUM(B6:M6) -> 41
A7: Duck | B7: ='NC Numbers'!B173 -> 0 | C7: 1 | D7: 2 | E7: 0 | F7: 1 | G7: ='NC Numbers'!G173 -> 0 | H7: 2 | I7: ='NC Numbers'!I173 -> 1 | J7: 2 | K7: 1 | L7: 1 | M7: 1 | N7: =SUM(B7:M7) -> 12
A8: Hatteras Island | B8: ='NC Numbers'!B175 -> 3 | C8: 2 | D8: 2 | E8: 3 | F8: 4 | G8: ='NC Numbers'!G175 -> 4 | H8: 5 | I8: ='NC Numbers'!I175 -> 4 | J8: 2 | K8: 1 | L8: 3 | M8: 2 | N8: =SUM(B8:M8) -> 35
A9: Roanoke Island | B9: ='NC Numbers'!B177 -> 0 | C9: 3 | D9: 7 | E9: 3 | F9: 5 | G9: ='NC Numbers'!G177 -> 3 | H9: ='NC Numbers'!H177 -> 0 | I9: ='NC Numbers'!I177 -> 6 | J9: 2 | K9: 1 | L9: 5 | M9: 0 | N9: =SUM(B9:M9) -> 35
A10: KDH - UnIncorporated | B10: ='NC Numbers'!B179 -> 6 | C10: 4 | D10: 6 | E10: 2 | F10: 2 | G10: ='NC Numbers'!G179 -> 5 | H10: 2 | I10: ='NC Numbers'!I179 -> 3 | J10: 2 | K10: 3 | L10: 4 | M10: 0 | N10: =SUM(B10:M10) -> 39
A11: Total | B11: =SUM(B2:B10) -> 23 | C11: =SUM(C2:C10) -> 30 | D11: =SUM(D2:D10) -> 30 | E11: =SUM(E2:E10) -> 21 | F11: =SUM(F2:F10) -> 27 | G11: =SUM(G2:G10) -> 26 | H11: =SUM(H2:H10) -> 23 | I11: =SUM(I2:I10) -> 30 | ... M11: =SUM(M2:M10) -> 27 | N11: =SUM(B11:M11) -> 311
B13: 42736 | C13: 42767 | D13: 42795 | E13: 42826 | F13: 42856 | G13: 42887 | H13: 42917 | I13: 42948 | J13: 42979 | K13: 43009 | L13: 43040 | M13: 43070 | N13: Total Building Permits
A14: Manteo | B14: 3 | C14: 2 | D14: 0 | E14: 1 | F14: 1 | G14: 0 | H14: 0 | I14: 0 | J14: 0 | K14: 1 | L14: 1 | M14: 0 | N14: =SUM(B14:M14) -> 9
A15: Southern Shores | B15: 2 | C15: 2 | D15: 1 | E15: 3 | F15: 5 | G15: 3 | H15: 2 | I15: 2 | J15: 3 | K15: 4 | L15: 4 | M15: 0 | N15: =SUM(B15:M15) -> 31
A16: Nags Head | B16: 3 | C16: 2 | D16: 3 | E16: 1 | F16: 2 | G16: 0 | H16: 2 | I16: 0 | J16: 6 | K16: 7 | L16: 4 | M16: 7 | N16: =SUM(B16:M16) -> 37
A17: Kill Devil Hills | B17: 2 | C17: 3 | D17: 11 | E17: 3 | F17: 5 | G17: 4 | H17: 15 | I17: 3 | J17: 12 | K17: 5 | L17: 6 | M17: 5 | N17: =SUM(B17:M17) -> 74
A18: Kitty Hawk | B18: 2 | C18: 0 | D18: 2 | E18: 2 | F18: 5 | G18: 0 | H18: 1 | I18: 1 | J18: 1 | K18: 2 | L18: 4 | M18: 2 | N18: =SUM(B18:M18) -> 22
A19: Duck | B19: 0 | C19: 3 | D19: 0 | E19: 0 | F19: 0 | G19: 3 | H19: 1 | I19: 0 | J19: 1 | K19: 1 | L19: 0 | M19: 2 | N19: =SUM(B19:M19) -> 11
A20: Hatteras Island | B20: 0 | C20: 2 | D20: 4 | E20: 2 | F20: 2 | G20: 8 | H20: 2 | I20: 4 | J20: 3 | K20: 4 | L20: 5 | M20: 2 | N20: =SUM(B20:M20) -> 38
A21: Roanoke Island | B21: 1 | C21: 1 | D21: 6 | E21: 2 | F21: 2 | G21: 4 | H21: 7 | I21: 3 | J21: 3 | K21: 6 | L21: 3 | M21: 0 | N21: =SUM(B21:M21) -> 38
A22: KDH - UnIncorporated | B22: 4 | C22: 6 | D22: 4 | E22: 4 | F22: 3 | G22: 1 | H22: 5 | I22: 1 | J22: 3 | K22: 4 | L22: 4 | M22: 1 | N22: =SUM(B22:M22) -> 40
A23: Total | B23: =SUM(B14:B22) -> 17 | C23: =SUM(C14:C22) -> 21 | D23: =SUM(D14:D22) -> 31 | E23: =SUM(E14:E22) -> 18 | F23: =SUM(F14:F22) -> 25 | G23: =SUM(G14:G22) -> 23 | H23: =SUM(H14:H22) -> 35 | I23: =SUM(I14:I22) -> 14 | ... N23: =SUM(N14:N22) -> 300 | P23: =SUM(B23:K23) -> 250
B25: 42370 | C25: 42401 | D25: 42430 | E25: 42461 | F25: 42491 | G25: 42522 | H25: 42552 | I25: 42583 | J25: 42614 | K25: 42644 | L25: 42675 | M25: 42705 | N25: Total Building Permits
A26: Manteo | B26: 2 | C26: 3 | D26: 1 | E26: 4 | F26: 0 | G26: 4 | H26: 3 | I26: 1 | J26: 3 | K26: 3 | L26: 0 | M26: 5 | N26: =SUM(B26:M26) -> 29
A27: Southern Shores | B27: 2 | C27: 3 | D27: 0 | E27: 0 | F27: 0 | G27: 5 | H27: 5 | I27: 1 | J27: 2 | K27: 0 | L27: 3 | M27: 1 | N27: =SUM(B27:M27) -> 22
A28: Nags Head | B28: 3 | C28: 1 | D28: 3 | E28: 4 | F28: 3 | G28: 5 | H28: 4 | I28: 7 | J28: 0 | K28: 1 | L28: 4 | M28: 5 | N28: =SUM(B28:M28) -> 40
A29: Kill Devil Hills | B29: 5 | C29: 8 | D29: 6 | E29: 9 | F29: 5 | G29: 4 | H29: 9 | I29: 8 | J29: 10 | K29: 6 | L29: 2 | M29: 5 | N29: =SUM(B29:M29) -> 77
A30: Kitty Hawk | B30: 3 | C30: 0 | D30: 0 | E30: 0 | F30: 5 | G30: 6 | H30: 1 | I30: 3 | J30: 3 | K30: 0 | L30: 1 | M30: 2 | N30: =SUM(B30:M30) -> 24
A31: Duck | B31: 0 | C31: 1 | D31: 1 | E31: 0 | F31: 0 | G31: 1 | H31: 2 | I31: 0 | J31: 1 | K31: 3 | L31: 0 | M31: 1 | N31: =SUM(B31:M31) -> 10
A32: Total | B32: =SUM(B26:B31) -> 15 | C32: =SUM(C26:C31) -> 16 | D32: =SUM(D26:D31) -> 11 | E32: =SUM(E26:E31) -> 17 | F32: =SUM(F26:F31) -> 13 | G32: =SUM(G26:G31) -> 25 | H32: =SUM(H26:H31) -> 24 | I32: =SUM(I26:I31) -> 20 | ... M32: =SUM(M26:M31) -> 19 | N32: =SUM(B32:M32) -> 202 | P32: =SUM(B41:L41) -> 292
B34: 42370 | C34: 42401 | D34: 42430 | E34: 42461 | F34: 42491 | G34: 42522 | H34: 42552 | I34: 42583 | J34: 42614 | K34: 42644 | L34: 42675 | M34: 42705
A35: Hatteras Island | B35: 5 | C35: 2 | D35: 4 | E35: 4 | F35: 7 | G35: 3 | H35: 5 | I35: 3 | J35: 3 | K35: 4 | L35: 7 | M35: 5 | N35: =SUM(B35:M35) -> 52
A36: Roanoke Island | B36: 2 | C36: 1 | D36: 1 | E36: 1 | F36: 4 | G36: 5 | H36: 2 | I36: 3 | J36: 3 | K36: 4 | L36: 1 | M36: 2 | N36: =SUM(B36:M36) -> 29
A37: KDH - UnIncorporated | B37: 6 | C37: 4 | D37: 2 | E37: 2 | F37: 4 | G37: 5 | H37: 3 | I37: 1 | J37: 2 | K37: 5 | L37: 1 | M37: 1 | N37: =SUM(B37:M37) -> 36
B38: =SUM(B35:B37) -> 13 | C38: =SUM(C35:C37) -> 7 | D38: =SUM(D35:D37) -> 7 | E38: =SUM(E35:E37) -> 7 | F38: =SUM(F35:F37) -> 15 | G38: =SUM(G35:G37) -> 13 | H38: =SUM(H35:H37) -> 10 | I38: =SUM(I35:I37) -> 7 | ... M38: =SUM(M35:M37) -> 8 | N38: =SUM(B38:M38) -> 117
P40: January | Q40: February | R40: March | S40: April | T40: May | U40: June
A41: Total | B41: =B32+B38 -> 28 | C41: =C32+C38 -> 23 | D41: =D32+D38 -> 18 | E41: =E32+E38 -> 24 | F41: =F32+F38 -> 28 | G41: =G32+G38 -> 38 | H41: =H32+H38 -> 34 | I41: =I32+I38 -> 27 | ... M41: =M32+M38 -> 27 | N41: =SUM(B41:M41) -> 319 | P41: =B41 -> 28 | Q41: =SUM(B41:C41) -> 51 | R41: =SUM(B41:D41) -> 69 | S41: =SUM(B41:E41) -> 93 | T41: =SUM(B41:F41) -> 121 | U41: =U32+U38 -> 0

Sheet DC New Const Value
B1: 45680 | C1: 45711 | D1: 45739 | E1: 45770 | F1: 45800 | G1: 45831 | H1: 45861 | I1: 45892 | J1: 45923 | K1: 45953 | L1: 45984 | M1: 46014
A2: Manteo - 25 | B2: 750000 | C2: 0 | N2: =SUM(B2:M2) -> 750000 | P2: =A2 -> Manteo - 25
A3: Southern Shores-25 | B3: 864000 | C3: 2190000 | N3: =SUM(B3:M3) -> 3054000 | P3: =A3 -> Southern Shores-25
A4: Nags Head-25 | B4: 1447000 | C4: 200000 | N4: =SUM(B4:M4) -> 1647000 | P4: =A4 -> Nags Head-25
A5: Kill Devil Hills -25 | B5: 250000 | C5: 1937829 | N5: =SUM(B5:M5) -> 2187829 | P5: =A5 -> Kill Devil Hills -25
A6: Kitty Hawk-25 | B6: 2540191 | C6: 1575000 | N6: =SUM(B6:M6) -> 4115191 | P6: =A6 -> Kitty Hawk-25
A7: Duck - 25 | B7: 650000 | C7: 1605000 | N7: =SUM(B7:M7) -> 2255000 | P7: =A7 -> Duck - 25
A8: Hatteras Island -25 | B8: 945000 | C8: 2234335 | N8: =SUM(B8:M8) -> 3179335 | P8: =A8 -> Hatteras Island -25
A9: Roanoke Island -25 | B9: 1350000 | C9: 400000 | N9: =SUM(B9:M9) -> 1750000 | P9: =A9 -> Roanoke Island -25
A10: KDH - UnIncorporated - 25 | B10: 0 | C10: 0 | N10: =SUM(B10:M10) -> 0 | P10: =A10 -> KDH - UnIncorporated - 25
N11: =SUM(N2:N10) -> 18938355
B13: 45314 | C13: 45345 | D13: 45374 | E13: 45405 | F13: 45435 | G13: 45466 | H13: 45496 | I13: 45527 | J13: 45558 | K13: 45588 | L13: 45619 | M13: 45649
A14: Manteo - 24 | B14: 0 | C14: 0 | D14: 0 | E14: 0 | F14: 750000 | G14: 500000 | H14: 250000 | I14: 1008509 | J14: 0 | K14: 0 | L14: 0 | M14: 2000606 | N14: =SUM(B14:C14) -> 0 | P14: =A14 -> Manteo - 24
A15: Southern Shores-24 | B15: 0 | C15: 742472 | D15: 0 | E15: 0 | F15: 1200000 | G15: 500000 | H15: 3781742 | I15: 1350000 | J15: 650000 | K15: 887097 | L15: 726000 | M15: 4100927 | N15: =SUM(B15:C15) -> 742472 | P15: =A15 -> Southern Shores-24
A16: Nags Head-24 | B16: 469000 | C16: 2857158 | D16: 1915500 | E16: 560000 | F16: 2650000 | G16: 975000 | H16: 2634157 | I16: 2396000 | J16: 727000 | K16: 1755200 | L16: 3235000 | M16: 1350000 | N16: =SUM(B16:C16) -> 3326158 | P16: =A16 -> Nags Head-24
A17: Kill Devil Hills -24 | B17: 2215000 | C17: 773566 | D17: 1550000 | E17: 1667244 | F17: 1603000 | G17: 1875000 | H17: 1471000 | I17: 1920000 | J17: 4708000 | K17: 417060 | L17: 2117671 | M17: 2600000 | N17: =SUM(B17:C17) -> 2988566 | P17: =A17 -> Kill Devil Hills -24
A18: Kitty Hawk-24 | B18: 1579100 | C18: 0 | D18: 0 | E18: 0 | F18: 0 | G18: 696000 | H18: 1615000 | I18: 0 | J18: 0 | K18: 3028200 | L18: 925000 | M18: 0 | N18: =SUM(B18:C18) -> 1579100 | P18: =A18 -> Kitty Hawk-24
A19: Duck - 24 | B19: 1083000 | C19: 1566930 | D19: 1150150 | E19: 0 | F19: 0 | G19: 750000 | H19: 0 | I19: 0 | J19: 0 | K19: 1100000 | L19: 1680000 | M19: 0 | N19: =SUM(B19:C19) -> 2649930 | P19: =A19 -> Duck - 24
A20: Hatteras Island -24 | B20: 2783976 | C20: 1010500 | D20: 2910000 | E20: 2612600 | F20: 3516800 | G20: 5081031 | H20: 1477796 | I20: 2730536 | J20: 3790750 | K20: 1885000 | L20: 2034500 | M20: 3205600 | N20: =SUM(B20:C20) -> 3794476 | P20: =A20 -> Hatteras Island -24
A21: Roanoke Island -24 | B21: 335000 | C21: 1143000 | D21: 1850000 | E21: 1400000 | F21: 3077000 | G21: 680000 | H21: 439600 | I21: 1536500 | J21: 2117650 | K21: 1715188 | L21: 1573914 | M21: 1548102 | N21: =SUM(B21:C21) -> 1478000 | P21: =A21 -> Roanoke Island -24
A22: KDH - UnIncorporated - 24 | B22: 1725000 | C22: 815000 | D22: 0 | E22: 2131875 | F22: 0 | G22: 170000 | H22: 1000000 | I22: 302640 | J22: 300000 | K22: 813000 | L22: 0 | M22: 348500 | N22: =SUM(B22:C22) -> 2540000 | P22: =A22 -> KDH - UnIncorporated - 24
N23: =SUM(N14:N22) -> 19098702
B25: 44949 | C25: 44980 | D25: 45008 | E25: 45039 | F25: 45069 | G25: 45100 | H25: 45130 | I25: 45161 | J25: 45192 | K25: 45222 | L25: 45253 | M25: 45283
A26: Manteo - 23 | B26: 0 | C26: 0 | D26: 0 | E26: 0 | F26: 0 | G26: 0 | H26: 0 | I26: 900000 | J26: 0 | K26: 1394171 | L26: 0 | M26: 0 | N26: =SUM(B26:M26) -> 2294171 | P26: =A26 -> Manteo - 23
A27: Southern Shores-23 | B27: 3001164 | C27: 2376750 | D27: 1000000 | E27: 1800000 | F27: 650000 | G27: 1499233 | H27: 1456000 | I27: 4358900 | J27: 492740 | K27: 1251000 | L27: 400000 | M27: 945000 | N27: =SUM(B27:M27) -> 19230787 | P27: =A27 -> Southern Shores-23
A28: Nags Head-23 | B28: 1408426 | C28: 0 | D28: 2102000 | E28: 575000 | F28: 280000 | G28: 1687121 | H28: 0 | I28: 535000 | J28: 1974282 | K28: 1421000 | L28: 1775000 | M28: 0 | N28: =SUM(B28:M28) -> 11757829 | P28: =A28 -> Nags Head-23
A29: Kill Devil Hills -23 | B29: 795000 | C29: 2230000 | D29: 1150000 | E29: 250000 | F29: 895000 | G29: 2243000 | I29: 4322984 | J29: 1650000 | K29: 1875000 | L29: 1767133 | M29: 2090000 | N29: =SUM(B29:M29) -> 19268117 | P29: =A29 -> Kill Devil Hills -23
A30: Kitty Hawk-23 | B30: 186000 | C30: 1183000 | D30: 250000 | E30: 745680 | F30: 446491 | G30: 400000 | H30: 425000 | I30: 0 | J30: 825000 | K30: 1353382 | L30: 2110523 | M30: 1244900 | N30: =SUM(B30:M30) -> 9169976 | P30: =A30 -> Kitty Hawk-23
A31: Duck - 23 | B31: 850000 | C31: 0 | D31: 503000 | E31: 1700333 | F31: 1200000 | G31: 0 | H31: 0 | I31: 700000 | J31: 1914468 | K31: 1387237 | L31: 2657124 | M31: 850000 | N31: =SUM(B31:M31) -> 11762162 | P31: =A31 -> Duck - 23
A32: Hatteras Island -23 | B32: 3225100 | C32: 2431220 | D32: 653000 | E32: 3189711 | F32: 3546424 | G32: 6085250 | H32: 2963700 | I32: 1850068 | J32: 3675598 | K32: 3176640 | L32: 3178926 | M32: 1488500 | N32: =SUM(B32:M32) -> 35464137 | P32: =A32 -> Hatteras Island -23
A33: Roanoke Island -23 | B33: 855000 | C33: 895000 | D33: 758525 | E33: 1778286 | F33: 2502367 | G33: 1913948 | H33: 891298 | I33: 2026685 | J33: 2277561 | K33: 785000 | L33: 1060000 | M33: 2418410 | N33: =SUM(B33:M33) -> 18162080 | P33: =A33 -> Roanoke Island -23
A34: KDH - UnIncorporated - 23 | B34: 2060000 | C34: 2025000 | D34: 610400 | E34: 135000 | F34: 885000 | G34: 1754000 | H34: 300000 | I34: 1036000 | J34: 3165000 | K34: 585000 | L34: 2400000 | M34: 387664 | N34: =SUM(B34:M34) -> 15343064 | P34: =A34 -> KDH - UnIncorporated - 23
N35: =SUM(N26:N34) -> 142452323
B37: 44582 | C37: 44613 | D37: 44641 | E37: 44672 | F37: 44702 | G37: 44733 | H37: 44763 | I37: 44794 | J37: 44825 | K37: 44855 | L37: 44886 | M37: 44916
A38: Manteo - 22 | B38: 1300333 | C38: 992626 | D38: 889626 | E38: 169300 | F38: 1300000 | G38: 724000 | H38: 0 | I38: 1215000 | J38: 0 | K38: 0 | L38: 0 | M38: 0 | N38: =SUM(B38:M38) -> 6590885 | P38: =A38 -> Manteo - 22 | Q38: =N38 -> 6590885 | R38: =Q26 -> 0
A39: Southern Shores-22 | B39: 1492849 | C39: 2802305 | D39: 1530500 | E39: 3296800 | F39: 952000 | G39: 250000 | H39: 1609109 | I39: 2485000 | J39: 850000 | K39: 3740600 | L39: 2450000 | M39: 1500217 | N39: =SUM(B39:M39) -> 22959380 | P39: =A39 -> Southern Shores-22 | Q39: =N39 -> 22959380 | R39: =Q27 -> 0
A40: Nags Head-22 | B40: 0 | C40: 315000 | D40: 880000 | E40: 702000 | F40: 640000 | G40: 379000 | H40: 0 | I40: 2568000 | J40: 2910000 | K40: 2184000 | L40: 582000 | M40: 1938733 | N40: =SUM(B40:M40) -> 13098733 | P40: =A40 -> Nags Head-22 | Q40: =N40 -> 13098733 | R40: =Q28 -> 0
A41: Kill Devil Hills -22 | B41: 3760000 | C41: 2055000 | D41: 4591243 | E41: 2146163 | F41: 2387000 | G41: 1940000 | H41: 1035000 | I41: 15116967 | J41: 1573732 | K41: 5690000 | L41: 1948000 | M41: 915000 | N41: =SUM(B41:M41) -> 43158105 | P41: =A41 -> Kill Devil Hills -22 | Q41: =N41 -> 43158105 | R41: =Q29 -> 0
A42: Kitty Hawk-22 | B42: 700000 | C42: 1730000 | D42: 100000 | E42: 425000 | F42: 750000 | G42: 1955000 | H42: 1332000 | I42: 0 | J42: 1453000 | K42: 1738231 | L42: 1101400 | M42: 1997258 | N42: =SUM(B42:M42) -> 13281889 | P42: =A42 -> Kitty Hawk-22 | Q42: =N42 -> 13281889 | R42: =Q30 -> 0
A43: Duck - 22 | B43: 1043245 | C43: 1278400 | D43: 6338000 | E43: 1853553 | F43: 0 | G43: 639000 | H43: 990000 | I43: 4400000 | J43: 2155000 | K43: 2337357 | L43: 0 | M43: 0 | N43: =SUM(B43:M43) -> 21034555 | P43: =A43 -> Duck - 22 | Q43: =N43 -> 21034555 | R43: =Q31 -> 0
A44: Hatteras Island -22 | B44: 3750566 | C44: 2270655 | D44: 4005000 | E44: 2349315 | F44: 3005000 | G44: 4453544 | H44: 3927880 | I44: 6330046 | J44: 2280000 | K44: 2956225 | L44: 2891837 | M44: 439028 | N44: =SUM(B44:M44) -> 38659096 | P44: =A44 -> Hatteras Island -22 | Q44: =N44 -> 38659096 | R44: =Q32 -> 0
A45: Roanoke Island -22 | B45: 997000 | C45: 800000 | D45: 2956854 | E45: 1236928 | F45: 2195000 | G45: 2412000 | H45: 1866000 | I45: 1380465 | J45: 2536000 | K45: 3295690 | L45: 0 | M45: 100238 | N45: =SUM(B45:M45) -> 19776175 | P45: =A45 -> Roanoke Island -22 | Q45: =N45 -> 19776175 | R45: =Q33 -> 0
A46: KDH - UnIncorporated - 22 | B46: 825000 | C46: 3317300 | D46: 2553123 | E46: 400000 | F46: 0 | G46: 0 | H46: 150000 | I46: 1788800 | J46: 1460000 | K46: 2243099 | L46: 1125000 | M46: 0 | N46: =SUM(B46:M46) -> 13862322 | P46: =A46 -> KDH - UnIncorporated - 22 | Q46: =N46 -> 13862322 | R46: =Q34 -> 0
N47: =SUM(N38:N46) -> 192421140 | P47: Total | Q47: =SUM(Q38:Q46) -> 192421140 | R47: =SUM(R38:R46) -> 0
B49: 44582 | C49: 44613 | D49: 44641 | E49: 44672 | F49: 44702 | G49: 44733 | H49: 44763 | I49: 44794 | J49: 44825 | K49: 44855 | L49: 44886 | M49: 44916
A50: Manteo - 22 | B50: 1300333 | C50: 992626 | D50: 889626 | E50: 169300 | F50: 1300000 | G50: 724000 | H50: 0 | I50: 1215000 | J50: 0 | K50: 0 | L50: 0 | M50: 0 | N50: =SUM(B50:M50) -> 6590885 | P50: =A50 -> Manteo - 22 | Q50: =N50 -> 6590885 | R50: =Q38 -> 6590885
A51: Southern Shores-22 | B51: 1492849 | C51: 2802305 | D51: 1530500 | E51: 3296800 | F51: 952000 | G51: 250000 | H51: 1609109 | I51: 2485000 | J51: 850000 | K51: 3740600 | L51: 2450000 | M51: 1500217 | N51: =SUM(B51:M51) -> 22959380 | P51: =A51 -> Southern Shores-22 | Q51: =N51 -> 22959380 | R51: =Q39 -> 22959380
A52: Nags Head-22 | B52: 0 | C52: 315000 | D52: 880000 | E52: 702000 | F52: 640000 | G52: 379000 | H52: 0 | I52: 2568000 | J52: 2910000 | K52: 2184000 | L52: 582000 | M52: 1938733 | N52: =SUM(B52:M52) -> 13098733 | P52: =A52 -> Nags Head-22 | Q52: =N52 -> 13098733 | R52: =Q40 -> 13098733
A53: Kill Devil Hills -22 | B53: 3760000 | C53: 2055000 | D53: 4591243 | E53: 2146163 | F53: 2387000 | G53: 1940000 | H53: 1035000 | I53: 15116967 | J53: 1573732 | K53: 5690000 | L53: 1948000 | M53: 915000 | N53: =SUM(B53:M53) -> 43158105 | P53: =A53 -> Kill Devil Hills -22 | Q53: =N53 -> 43158105 | R53: =Q41 -> 43158105
A54: Kitty Hawk-22 | B54: 700000 | C54: 1730000 | D54: 100000 | E54: 425000 | F54: 750000 | G54: 1955000 | H54: 1332000 | I54: 0 | J54: 1453000 | K54: 1738231 | L54: 1101400 | M54: 1997258 | N54: =SUM(B54:M54) -> 13281889 | P54: =A54 -> Kitty Hawk-22 | Q54: =N54 -> 13281889 | R54: =Q42 -> 13281889
A55: Duck - 22 | B55: 1043245 | C55: 1278400 | D55: 6338000 | E55: 1853553 | F55: 0 | G55: 639000 | H55: 990000 | I55: 4400000 | J55: 2155000 | K55: 2337357 | L55: 0 | M55: 0 | N55: =SUM(B55:M55) -> 21034555 | P55: =A55 -> Duck - 22 | Q55: =N55 -> 21034555 | R55: =Q43 -> 21034555
A56: Hatteras Island -22 | B56: 3750566 | C56: 2270655 | D56: 4005000 | E56: 2349315 | F56: 3005000 | G56: 4453544 | H56: 3927880 | I56: 6330046 | J56: 2280000 | K56: 2956225 | L56: 2891837 | M56: 439028 | N56: =SUM(B56:M56) -> 38659096 | P56: =A56 -> Hatteras Island -22 | Q56: =N56 -> 38659096 | R56: =Q44 -> 38659096
A57: Roanoke Island -22 | B57: 997000 | C57: 800000 | D57: 2956854 | E57: 1236928 | F57: 2195000 | G57: 2412000 | H57: 1866000 | I57: 1380465 | J57: 2536000 | K57: 3295690 | L57: 0 | M57: 100238 | N57: =SUM(B57:M57) -> 19776175 | P57: =A57 -> Roanoke Island -22 | Q57: =N57 -> 19776175 | R57: =Q45 -> 19776175
A58: KDH - UnIncorporated - 22 | B58: 825000 | C58: 3317300 | D58: 2553123 | E58: 400000 | F58: 0 | G58: 0 | H58: 150000 | I58: 1788800 | J58: 1460000 | K58: 2243099 | L58: 1125000 | M58: 0 | N58: =SUM(B58:M58) -> 13862322 | P58: =A58 -> KDH - UnIncorporated - 22 | Q58: =N58 -> 13862322 | R58: =Q46 -> 13862322
P59: Total | Q59: =SUM(Q50:Q58) -> 192421140 | R59: =SUM(R50:R58) -> 192421140
B62: 44217 | C62: 44248 | D62: 44276 | E62: 44307 | F62: 44337 | G62: 44368 | H62: 44398 | I62: 44429 | J62: 44460 | K62: 44490 | L62: 44521 | M62: 44551
A63: Manteo - 21 | B63: 360000 | C63: 1588000 | D63: 380000 | E63: 0 | F63: 855000 | G63: 0 | H63: 0 | I63: 0 | J63: 320000 | K63: 917000 | L63: 800000 | M63: 1590000 | N63: =SUM(B63:M63) -> 6810000 | P63: =A63 -> Manteo - 21 | Q63: =N63 -> 6810000
A64: Southern Shores-21 | B64: 1072000 | C64: 1896000 | D64: 1380000 | E64: 3282393 | F64: 2425212 | G64: 0 | H64: 0 | I64: 2150000 | J64: 2421901 | K64: 2730025 | L64: 605587 | M64: 1466600 | N64: =SUM(B64:M64) -> 19429718 | P64: =A64 -> Southern Shores-21 | Q64: =N64 -> 19429718
A65: Nags Head-21 | B65: 450000 | C65: 1250000 | D65: 1606000 | E65: 0 | F65: 1642628 | G65: 1280000 | H65: 1575000 | I65: 700000 | J65: 1995270 | K65: 1605000 | L65: 1523000 | M65: 2441925 | N65: =SUM(B65:M65) -> 16068823 | P65: =A65 -> Nags Head-21 | Q65: =N65 -> 16068823
A66: Kill Devil Hills -21 | B66: 2605000 | C66: 2315000 | D66: 2165125 | E66: 657410 | F66: 2320000 | G66: 2660000 | H66: 2060000 | I66: 7245000 | J66: 3201000 | K66: 1210000 | L66: 2310000 | M66: 3066181 | N66: =SUM(B66:M66) -> 31814716 | P66: =A66 -> Kill Devil Hills -21 | Q66: =N66 -> 31814716
A67: Kitty Hawk-21 | B67: 845000 | C67: 623000 | D67: 0 | E67: 500000 | F67: 0 | G67: 95000 | H67: 2803847 | I67: 740000 | J67: 1750000 | K67: 780000 | L67: 675000 | M67: 1341622 | N67: =SUM(B67:M67) -> 10153469 | P67: =A67 -> Kitty Hawk-21 | Q67: =N67 -> 10153469
A68: Duck - 21 | B68: 945700 | C68: 1242014 | D68: 612000 | E68: 612000 | F68: 0 | G68: 2235800 | H68: 0 | I68: 0 | J68: 0 | K68: 899000 | L68: 1971478 | M68: 569225 | N68: =SUM(B68:M68) -> 9087217 | P68: =A68 -> Duck - 21 | Q68: =N68 -> 9087217
A69: Hatteras Island -21 | B69: 3653200 | C69: 1541925 | D69: 2038350 | E69: 1694500 | F69: 2195568 | G69: 2072000 | H69: 2251000 | I69: 2448481 | J69: 1292000 | K69: 770000 | L69: 2651214 | M69: 3429973 | N69: =SUM(B69:M69) -> 26038211 | P69: =A69 -> Hatteras Island -21 | Q69: =N69 -> 26038211
A70: Roanoke Island -21 | B70: 153000 | C70: 464624 | D70: 2499000 | E70: 1899382 | F70: 270000 | G70: 830000 | H70: 788000 | I70: 3484581 | J70: 953073 | K70: 1103000 | L70: 955000 | M70: 1870753 | N70: =SUM(B70:M70) -> 15270413 | P70: =A70 -> Roanoke Island -21 | Q70: =N70 -> 15270413
A71: KDH - UnIncorporated - 21 | B71: 792500 | C71: 1908600 | D71: 2025000 | E71: 156000 | F71: 301900 | G71: 380000 | H71: 400000 | I71: 1422000 | J71: 285000 | K71: 1000000 | L71: 1600000 | M71: 481800 | N71: =SUM(B71:M71) -> 10752800 | P71: =A71 -> KDH - UnIncorporated - 21 | Q71: =N71 -> 10752800
N72: =SUM(N63:N71) -> 145425367
B74: 43850 | C74: 43881 | D74: 43910 | E74: 43941 | F74: 43971 | G74: 44002 | H74: 44032 | I74: 44063 | J74: 44094 | K74: 44124 | L74: 44155 | M74: 44185 | N74: Total
A75: Manteo - 20 | B75: 181000 | C75: 0 | D75: 0 | E75: 0 | F75: 450000 | G75: 200000 | H75: 395000 | I75: 492787 | J75: 0 | K75: 0 | L75: 1170000 | M75: 610502 | N75: =SUM(B75:M75) -> 3499289 | P75: =A75 -> Manteo - 20 | Q75: =N75 -> 3499289
A76: Southern Shores-20 | B76: 700000 | C76: 1258285 | D76: 2176830 | E76: 700000 | F76: 175000 | G76: 1545772 | H76: 1912540 | I76: 0 | J76: 1356670 | K76: 3176930 | L76: 0 | M76: 1575400 | N76: =SUM(B76:M76) -> 14577427 | P76: =A76 -> Southern Shores-20 | Q76: =N76 -> 14577427
A77: Nags Head-20 | B77: 367797 | C77: 1150000 | D77: 572000 | E77: 150000 | F77: 0 | G77: 0 | H77: 686336 | I77: 610000 | J77: 1406000 | K77: 1025000 | L77: 0 | M77: 2145000 | N77: =SUM(B77:M77) -> 8112133 | P77: =A77 -> Nags Head-20 | Q77: =N77 -> 8112133
A78: Kill Devil Hills -20 | B78: 1294765 | C78: 2769000 | D78: 1025000 | E78: 1167000 | F78: 515000 | G78: 1645000 | H78: 540000 | I78: 1025000 | J78: 2738700 | K78: 1045000 | L78: 1785000 | M78: 625000 | N78: =SUM(B78:M78) -> 16174465 | P78: =A78 -> Kill Devil Hills -20 | Q78: =N78 -> 16174465
A79: Kitty Hawk-20 | B79: 0 | C79: 743460 | D79: 1175000 | E79: 150000 | F79: 1105200 | G79: 515900 | H79: 965000 | I79: 0 | J79: 1160000 | K79: 0 | L79: 1148957 | M79: 845000 | N79: =SUM(B79:M79) -> 7808517 | P79: =A79 -> Kitty Hawk-20 | Q79: =N79 -> 7808517
A80: Duck - 20 | B80: 0 | C80: 525000 | D80: 1230000 | E80: 1300000 | F80: 468000 | G80: 0 | H80: 443000 | I80: 650000 | J80: 0 | K80: 2849901 | L80: 615000 | M80: 3006215 | N80: =SUM(B80:M80) -> 11087116 | P80: =A80 -> Duck - 20 | Q80: =N80 -> 11087116
A81: Hatteras Island -20 | B81: 1457000 | C81: 0 | D81: 387750 | E81: 1143700 | F81: 750000 | G81: 930000 | H81: 1233570 | I81: 435000 | J81: 345000 | K81: 700000 | L81: 3911000 | M81: 4104000 | N81: =SUM(B81:M81) -> 15397020 | P81: =A81 -> Hatteras Island -20 | Q81: =N81 -> 15397020
A82: Roanoke Island -20 | B82: 645000 | C82: 1015000 | D82: 1528800 | E82: 66800 | F82: 976323 | G82: 1000000 | H82: 395000 | I82: 1748000 | J82: 1160000 | K82: 1140000 | L82: 717000 | M82: 970000 | N82: =SUM(B82:M82) -> 11361923 | P82: =A82 -> Roanoke Island -20 | Q82: =N82 -> 11361923
A83: KDH - UnIncorporated - 20 | B83: 0 | C83: 250000 | D83: 1160500 | E83: 0 | F83: 185000 | G83: 190000 | H83: 1620800 | I83: 1337890 | J83: 2551209 | K83: 4450000 | L83: 1677500 | M83: 420000 | N83: =SUM(B83:M83) -> 13842899 | P83: =A83 -> KDH - UnIncorporated - 20 | Q83: =N83 -> 13842899
B84: =SUM(B75:B83) -> 4645562 | C84: =SUM(C75:C83) -> 7710745 | D84: =SUM(D75:D83) -> 9255880 | E84: =SUM(E75:E83) -> 4677500 | F84: =SUM(F75:F83) -> 4624523 | G84: =SUM(G75:G83) -> 6026672 | H84: =SUM(H75:H83) -> 8191246 | I84: =SUM(I75:I83) -> 6298677 | ... N84: =SUM(N75:N83) -> 101860789
B86: 43466 | C86: 43497 | D86: 43525 | E86: 43556 | F86: 43586 | G86: 43617 | H86: 43647 | I86: 43678 | J86: 43709 | K86: 43739 | L86: 43770 | M86: 43800 | N86: Total
A87: Manteo - 19 | B87: 175261 | C87: 0 | D87: 0 | E87: 1425000 | F87: 0 | G87: 0 | H87: 0 | I87: 335000 | J87: 0 | K87: 0 | L87: 0 | M87: 0 | N87: =SUM(B87:M87) -> 1935261 | P87: =A87 -> Manteo - 19 | Q87: =N87 -> 1935261
A88: Southern Shores-19 | B88: 1710000 | C88: 0 | D88: 0 | E88: 1158000 | F88: 754000 | G88: 639897 | H88: 0 | I88: 2635000 | J88: 0 | K88: 2022920 | L88: 2219138 | M88: 0 | N88: =SUM(B88:M88) -> 11138955 | P88: =A88 -> Southern Shores-19 | Q88: =N88 -> 11138955
A89: Nags Head-19 | B89: 500000 | C89: 185000 | D89: 230000 | E89: 1268000 | F89: 0 | G89: 200000 | H89: 875000 | I89: 900000 | J89: 0 | K89: 1632561 | L89: 200000 | M89: 0 | N89: =SUM(B89:M89) -> 5990561 | P89: =A89 -> Nags Head-19 | Q89: =N89 -> 5990561
A90: Kill Devil Hills -19 | B90: 718000 | C90: 65000 | D90: 755000 | E90: 540000 | F90: 605000 | G90: 8100000 | H90: 150000 | I90: 1856719 | J90: 360000 | K90: 4035000 | L90: 5405000 | M90: 1081000 | N90: =SUM(B90:M90) -> 23670719 | P90: =A90 -> Kill Devil Hills -19 | Q90: =N90 -> 23670719
A91: Kitty Hawk-19 | B91: 963800 | C91: 596246 | D91: 280000 | E91: 452655 | F91: 1078912 | G91: 485200 | H91: 354000 | I91: 360000 | J91: 0 | K91: 0 | L91: 750000 | M91: 350000 | N91: =SUM(B91:M91) -> 5670813 | P91: =A91 -> Kitty Hawk-19 | Q91: =N91 -> 5670813
A92: Duck - 19 | B92: 1534500 | C92: 507000 | D92: 0 | E92: 0 | F92: 0 | G92: 2890476 | H92: 0 | I92: 348000 | J92: 0 | K92: 871850 | L92: 0 | M92: 850938 | N92: =SUM(B92:M92) -> 7002764 | P92: =A92 -> Duck - 19 | Q92: =N92 -> 7002764
A93: Hatteras Island -19 | B93: 975352 | C93: 1000000 | D93: 585000 | E93: 375000 | F93: 1435000 | G93: 1100000 | H93: 1201864 | I93: 3926200 | J93: 3341000 | K93: 1819411 | L93: 1627000 | M93: 1834470 | N93: =SUM(B93:M93) -> 19220297 | P93: =A93 -> Hatteras Island -19 | Q93: =N93 -> 19220297
