Workbook
Name OLE_LINK5: 'Raw Data'!$A$27

Sheet New Listings
A1: 38200 | B1: 38231 | C1: 38261 | D1: 38292 | E1: 38322 | F1: 38353 | G1: 38384 | H1: 38412 | I1: 38443 | J1: 38473 | K1: 38504 | L1: 38534 | M1: 38565 | N1: 38596 | O1: 38626 | P1: 38657 | Q1: 38687 | R1: 38718 | S1: 38749 | T1: 38777 | U1: 38808 | V1: 38838 | W1: 38869 | X1: 38899 | Y1: 38930 | Z1: 38961 | AA1: 38991 | AB1: 39022 | AC1: 39052 | AD1: 39083 | AE1: 39114 | AF1: 39142 | AG1: 39173 | AH1: 39203 | AI1: 39234 | AJ1: 39264 | AK1: 39295 | AL1: 39326 | AM1: 39356 | AN1: 39387 | AO1: 39417 | AP1: 39448 | AQ1: 39479 | AR1: 39508 | AS1: 39539 | AT1: 39569 | AU1: 39600 | AV1: 39630 | AW1: 39661 | AX1: 39692 | AY1: 39722 | AZ1: 39753 | BA1: 39783 | BB1: 39814 | BC1: 39845 | BD1: 39873 | BE1: 39904 | BF1: 39934 | BG1: 39965 | BH1: 39995 | BI1: 40026 | BJ1: 40057 | BK1: 40087 | BL1: 40118 | BM1: 40148 | BN1: 40179 | BO1: 40210 | BP1: 40238 | BQ1: 40269 | BR1: 40299 | BS1: 40330 | BT1: 40360 | BU1: 40391 | BV1: 40422 | BW1: 40452 | BX1: 40483 | BY1: 40513 | BZ1: 40544 | CA1: 40575 | CB1: 40603 | CC1: 40634 | CD1: 40664 | CE1: 40695 | CF1: 40725 | CG1: 40756 | CH1: 40787 | CI1: 40817 | CJ1: 40848 | CK1: 40878 | CL1: 40909 | CM1: 40940 | CN1: 40969 | CO1: 41000 | CP1: 41030 | CQ1: 41061 | CR1: 41091 | CS1: 41122 | CT1: 41153 | CU1: 41183 | CV1: 41214 | CW1: 41244 | CX1: 41275 | CY1: 41306 | CZ1: 41334 | DA1: 41365 | DB1: 41395 | DC1: 41426 | DD1: 41456 | DE1: 41487 | DF1: 41518 | DG1: 41548 | DH1: 41579 | DI1: 41609 | DJ1: 41640 | DK1: 41671 | DL1: 41699 | DM1: 41730 | DN1: 41760 | DO1: 41791 | DP1: 41821 | DQ1: 41852 | DR1: 41883 | DS1: 41913 | DT1: 41944 | DU1: 41974 | DV1: 42005 | DW1: 42036 | DX1: 42064 | DY1: 42095 | DZ1: 42125 | EA1: 42156 | EB1: 42186 | EC1: 42217 | ED1: 42248 | EE1: 42278 | EF1: 42309 | EG1: 42339 | EH1: 42370 | EI1: 42401 | EJ1: 42430 | EK1: 42461 | EL1: 42491 | EM1: 42522 | EN1: 42552 | EO1: 42583 | EP1: 42614 | EQ1: 42644 | ER1: 42675 | ES1: 42705 | ET1: 42736 | EU1: 42767 | EV1: 42795 | EW1: 42826 | EX1: 42856 | EY1: 42887 | EZ1: 42917 | FA1: 42948 | FB1: 42979 | FC1: 43009 | FD1: 43040 | FE1: 43070 | FF1: 43101 | FG1: 43132 | FH1: 43160 | FI1: 43191 | FJ1: 43221 | FK1: 43252 | FL1: 43282 | FM1: 43313 | FN1: 43344 | FO1: 43374 | FP1: 43405 | FQ1: 43435 | FR1: 43466 | FS1: 43497 | FT1: 43525 | FU1: 43556 | FV1: 43586 | FW1: 43617 | FX1: 43647 | FY1: 43678 | FZ1: 43709 | GA1: 43739 | GB1: 43770 | GC1: 43800 | GD1: 43831 | GE1: 43862 | GF1: 43891 | GG1: 43922 | GH1: 43952 | GI1: 43983 | GJ1: 44013 | GK1: 44044 | GL1: 44075 | GM1: 44105 | GN1: 44136 | GO1: 44166 | GP1: 44197 | GQ1: 44228 | GR1: 44256 | GS1: 44287 | GT1: 44317 | GU1: 44348 | GV1: 44378 | GW1: 44409 | GX1: 44440 | GY1: 44470 | GZ1: 44501 | HA1: 44531 | HB1: 44562 | HC1: 44593 | HD1: 44621 | HE1: 44652 | HF1: 44682 | HG1: 44713 | HH1: 44743 | HI1: 44774 | HJ1: 44805 | HK1: 44835 | HL1: 44866 | HM1: 44896 | HN1: 44927 | HO1: 44958 | HP1: 44986 | HQ1: 45017 | HR1: 45047 | HS1: 45078 | HT1: 45108 | HU1: 45139 | HV1: 45170 | HW1: 45200 | HX1: 45231 | HY1: 45261 | HZ1: 45292 | IA1: 45323 | IB1: 45352 | IC1: 45383 | ID1: 45413 | IE1: 45444 | IF1: 45474 | IG1: 45505 | IH1: 45536 | II1: 45566 | IJ1: 45597 | IK1: 45627 | IL1: 45658 | IM1: 45689 | IN1: 45717 | IO1: 45748 | IP1: 45778 | IQ1: 45809 | IR1: 45839 | IS1: 45870 | IT1: 45901 | IU1: 45931 | IV1: 45962 | IW1: 45992
A2: ='Raw Data'!P3 -> 233 | B2: ='Raw Data'!Q3 -> 303 | C2: ='Raw Data'!R3 -> 282 | D2: ='Raw Data'!S3 -> 296 | E2: ='Raw Data'!T3 -> 196 | F2: ='Raw Data'!U3 -> 328 | G2: ='Raw Data'!V3 -> 367 | H2: ='Raw Data'!W3 -> 411 | ... IW2: ='Raw Data'!JL3 -> 0
HZ7: Jan | IA7: Feb | IB7: Mar | IC7: Apr | ID7: May | IE7: Jun | IF7: Jul | IG7: Aug | IH7: Sep | II7: Oct | IJ7: Nov | IK7: Dec
HY8: 2020 | HZ8: =SUM(GD2) -> 401 | IA8: =SUM(GE2) -> 423 | IB8: =SUM(GF2) -> 384 | IC8: =SUM(GG2) -> 151 | ID8: =SUM(GH2) -> 387 | IE8: =SUM(GI2) -> 418 | IF8: =SUM(GJ2) -> 448 | IG8: =SUM(GK2) -> 411 | ... IK8: =SUM(GO2) -> 254
HY9: 2021 | HZ9: =SUM(GP2) -> 357 | IA9: =SUM(GQ2) -> 411 | IB9: =SUM(GR2) -> 478 | IC9: =SUM(GS2) -> 524 | ID9: =SUM(GT2) -> 488 | IE9: =SUM(GU2) -> 395 | IF9: =SUM(GV2) -> 485 | IG9: =SUM(GW2) -> 413 | ... IK9: =SUM(HA2) -> 217
HY10: 2022 | HZ10: =SUM(HB2) -> 321 | IA10: =SUM(HC2) -> 321 | IB10: =SUM(HD2) -> 440 | IC10: =SUM(HE2) -> 426 | ID10: =SUM(HF2) -> 415 | IE10: =SUM(HG2) -> 437 | IF10: =SUM(HH2) -> 367 | IG10: =SUM(HI2) -> 317 | ... IK10: =SUM(HM2) -> 151
HY11: 2023 | HZ11: =SUM(HN2) -> 212 | IA11: =SUM(HO2) -> 255 | IB11: =SUM(HP2) -> 275 | IC11: =SUM(HQ2) -> 264 | ID11: =SUM(HR2) -> 285 | IE11: =SUM(HS2) -> 267 | IF11: =SUM(HT2) -> 312 | IG11: =SUM(HU2) -> 303 | ... IK11: =SUM(HY2) -> 170
HY12: 2024 | HZ12: =SUM(HZ2) -> 304 | IA12: =SUM(IA2) -> 304 | IB12: =SUM(IB2) -> 347 | IC12: =SUM(IC2) -> 342 | ID12: =SUM(ID2) -> 368 | IE12: =SUM(IE2) -> 301 | IF12: =SUM(IF2) -> 309 | IG12: =SUM(IG2) -> 317 | ... IK12: =SUM(IK2) -> 171
HY13: 2025 | HZ13: =IL2 -> 329 | IA13: =IM2 -> 290 | IB13: =IN2 -> 349 | IC13: =IO2 -> 0 | ID13: =IP2 -> 0 | IE13: =IQ2 -> 0 | IF13: =IR2 -> 0 | IG13: =IS2 -> 0 | ... IK13: =IW2 -> 0
HZ25: New Listings | IE25: New Listings | II25: Quarterly Sales | IM25: Yearly New Listings
HZ26: Month / Year | IA26: Count | IB26: %Chg | IE26: Month / Year | IF26: Count | IG26: %Chg | II26: Month / Year | IJ26: Count | IK26: %Chg | IM26: Month / Year | IN26: Count | IO26: %Chg
HZ27: 2025 | IA27: =SUM(HZ13:IA13) -> 619 | IB27: =(IA27-IA28)/IA28 -> 0.018092105 | IE27: Mar'25 | IF27: =IA13 -> 290 | IG27: =(IF27-IF28)/IF28 -> -0.046052632 | II27: 1st Qtr'25 | IJ27: =SUM(HZ13:IB13) -> 968 | IM27: 2025 | IN27: =SUM(HZ13:IK13) -> 968 | IO27: =(IN27-IN28)/IN28 -> 0.59210526
HZ28: 2024 | IA28: =SUM(HZ12:IA12) -> 608 | IB28: =(IA28-IA29)/IA29 -> 0.30192719 | IE28: Mar'24 | IF28: =IA12 -> 304 | IG28: =(IF28-IF29)/IF29 -> 0.19215686 | II28: 1st Qtr'24 | IJ28: =SUM(HZ12:IB12) -> 955 | IK28: =(IJ28-IJ29)/IJ29 -> 0.28706199 | IM28: 2024 | IN28: =SUM(HZ12:IA12) -> 608 | IO28: =(IN28-IN29)/IN29 -> 0.30192719
HZ29: 2023 | IA29: =SUM(HZ11:IA11) -> 467 | IB29: =(IA29-IA30)/IA30 -> -0.27258567 | IE29: Mar'23 | IF29: =IA11 -> 255 | IG29: =(IF29-IF30)/IF30 -> -0.20560748 | II29: 1st Qtr'23 | IJ29: =SUM(HZ11:IB11) -> 742 | IK29: =(IJ29-IJ30)/IJ30 -> -0.3142329 | IM29: 2023 | IN29: =SUM(HZ11:IA11) -> 467 | IO29: =(IN29-IN30)/IN30 -> -0.27258567
HZ30: 2022 | IA30: =SUM(HZ10:IA10) -> 642 | IE30: Mar'22 | IF30: =IA10 -> 321 | II30: 1st Qtr'22 | IJ30: =SUM(HZ10:IB10) -> 1082 | IM30: 2022 | IN30: =SUM(HZ10:IA10) -> 642
II33: 1st qtr | IJ33: 2nd qtr | IK33: 3rd qtr | IL33: 4th qtr
IH34: 2021 | II34: =SUM(HZ9:IB9) -> 1246 | IJ34: =SUM(IC9:IE9) -> 1407 | IK34: =SUM(IF9:IH9) -> 1271 | IL34: =SUM(II9:IK9) -> 848
IH35: 2022 | II35: =SUM(HZ10:IB10) -> 1082 | IJ35: =SUM(IC10:IE10) -> 1278 | IK35: =SUM(IF10:IH10) -> 942 | IL35: =SUM(II10:IK10) -> 614
IH36: 2023 | II36: =SUM(HZ11:IB11) -> 742 | IJ36: =SUM(IC11:IE11) -> 816 | IK36: =SUM(IF11:IH11) -> 887 | IL36: =SUM(II11:IK11) -> 658
IH37: 2024 | II37: =SUM(HZ12:IB12) -> 955 | IJ37: =SUM(IC12:IE12) -> 1011 | IK37: =SUM(IF12:IH12) -> 941 | IL37: =SUM(II12:IK12) -> 686
IH38: 2025 | II38: =SUM(HZ13:IB13) -> 968 | IJ38: =SUM(IC13:IE13) -> 0 | IK38: =SUM(IF13:IH13) -> 0 | IL38: =SUM(II13:IK13) -> 0

Sheet Total Year to Year Sales
A1: Sold Properties | B1: 38353 | C1: 38384 | D1: 38412 | E1: 38443 | F1: 38473 | G1: 38504 | H1: 38534 | I1: 38565 | J1: 38596 | K1: 38626 | L1: 38657 | M1: 38687 | N1: 38718 | O1: 38749 | P1: 38777 | Q1: 38808 | R1: 38838 | S1: 38869 | T1: 38899 | U1: 38930 | V1: 38961 | W1: 38991 | X1: 39022 | Y1: 39052 | Z1: 39083 | AA1: 39114 | AB1: 39142 | AC1: 39173 | AD1: 39203 | AE1: 39234 | AF1: 39264 | AG1: 39295 | AH1: 39326 | AI1: 39356 | AJ1: 39387 | AK1: 39417 | AL1: 39448 | AM1: 39479 | AN1: 39510 | AO1: 39539 | AP1: 39569 | AQ1: 39600 | AR1: 39630 | AS1: 39661 | AT1: 39692 | AU1: 39729 | AV1: 39766 | AW1: 39803 | AX1: 39840 | AY1: 39853 | AZ1: 39881 | BA1: 39912 | BB1: 39942 | BC1: 39973 | BD1: 40003 | BE1: 40034 | BF1: 40065 | BG1: 40095 | BH1: 40126 | BI1: 40156 | BJ1: 40187 | BK1: 40218 | BL1: 40246 | BM1: 40277 | BN1: 40307 | BO1: 40338 | BP1: 40368 | BQ1: 40399 | BR1: 40430 | BS1: 40460 | BT1: 40491 | BU1: 40521 | BV1: 40552 | BW1: 40583 | BX1: 40611 | BY1: 40642 | BZ1: 40672 | CA1: 40703 | CB1: 40733 | CC1: 40764 | CD1: 40795 | CE1: 40825 | CF1: 40856 | CG1: 40886 | CH1: 40917 | CI1: 40948 | CJ1: 40977 | CK1: 41008 | CL1: 41038 | CM1: 41069 | CN1: 41099 | CO1: 41130 | CP1: 41161 | CQ1: 41191 | CR1: 41222 | CS1: 41252 | CT1: 41283 | CU1: 41314 | CV1: 41342 | CW1: 41373 | CX1: 41403 | CY1: 41434 | CZ1: 41464 | DA1: 41495 | DB1: 41526 | DC1: 41556 | DD1: 41587 | DE1: 41617 | DF1: 41648 | DG1: 41679 | DH1: 41707 | DI1: 41738 | DJ1: 41768 | DK1: 41799 | DL1: 41829 | DM1: 41860 | DN1: 41891 | DO1: 41921 | DP1: 41952 | DQ1: 41982 | DR1: 42013 | DS1: 42044 | DT1: 42072 | DU1: 42103 | DV1: 42133 | DW1: 42164 | DX1: 42194 | DY1: 42225 | DZ1: 42256 | EA1: 42286 | EB1: 42317 | EC1: 42347 | ED1: 42378 | EE1: 42409 | EF1: 42438 | EG1: 42469 | EH1: 42499 | EI1: 42530 | EJ1: 42560 | EK1: 42591 | EL1: 42622 | EM1: 42652 | EN1: 42683 | EO1: 42713 | EP1: 42744 | EQ1: 42775 | ER1: 42803 | ES1: 42834 | ET1: 42864 | EU1: 42895 | EV1: 42925 | EW1: 42956 | EX1: 42987 | EY1: 43017 | EZ1: 43048 | FA1: 43078 | FB1: 43109 | FC1: 43140 | FD1: 43168 | FE1: 43199 | FF1: 43229 | FG1: 43260 | FH1: 43290 | FI1: 43321 | FJ1: 43352 | FK1: 43382 | FL1: 43413 | FM1: 43443 | FN1: 43474 | FO1: 43505 | FP1: 43533 | FQ1: 43564 | FR1: 43594 | FS1: 43625 | FT1: 43655 | FU1: 43686 | FV1: 43717 | FW1: 43747 | FX1: 43778 | FY1: 43808 | FZ1: 43839 | GA1: 43870 | GB1: 43899 | GC1: 43930 | GD1: 43960 | GE1: 43991 | GF1: 44021 | GG1: 44052 | GH1: 44083 | GI1: 44113 | GJ1: 44144 | GK1: 44174 | GL1: 44205 | GM1: 44236 | GN1: 44264 | GO1: 44295 | GP1: 44325 | GQ1: 44356 | GR1: 44386 | GS1: 44417 | GT1: 44448 | GU1: 44478 | GV1: 44509 | GW1: 44539 | GX1: 44570 | GY1: 44601 | GZ1: 44629 | HA1: 44660 | HB1: 44690 | HC1: 44721 | HD1: 44751 | HE1: 44782 | HF1: 44813 | HG1: 44843 | HH1: 44874 | HI1: 44904 | HJ1: 44935 | HK1: 44966 | HL1: 44994 | HM1: 45025 | HN1: 45055 | HO1: 45086 | HP1: 45116 | HQ1: 45147 | HR1: 45178 | HS1: 45208 | HT1: 45239 | HU1: 45269 | HV1: 45300 | HW1: 45331 | HX1: 45360 | HY1: 45391 | HZ1: 45421 | IA1: 45452 | IB1: 45482 | IC1: 45513 | ID1: 45544 | IE1: 45574 | IF1: 45605 | IG1: 45635 | IH1: 45666 | II1: 45697 | IJ1: 45725 | IK1: 45756 | IL1: 45786 | IM1: 45817 | IN1: 45847 | IO1: 45878 | IP1: 45909 | IQ1: 45939 | IR1: 45970 | IS1: 46000 | IT1: 46031
A2: Residential | B2: ='Raw Data'!U45 -> 149 | C2: ='Raw Data'!V45 -> 119 | D2: ='Raw Data'!W45 -> 190 | E2: ='Raw Data'!X45 -> 208 | F2: ='Raw Data'!Y45 -> 286 | G2: ='Raw Data'!Z45 -> 234 | H2: ='Raw Data'!AA45 -> 167 | I2: ='Raw Data'!AB45 -> 178 | ... IT2: ='Raw Data'!JM45 -> 0
A3: Land | B3: ='Raw Data'!U46 -> 96 | C3: ='Raw Data'!V46 -> 61 | D3: ='Raw Data'!W46 -> 91 | E3: ='Raw Data'!X46 -> 106 | F3: ='Raw Data'!Y46 -> 111 | G3: ='Raw Data'!Z46 -> 114 | H3: ='Raw Data'!AA46 -> 69 | I3: ='Raw Data'!AB46 -> 83 | ... IT3: ='Raw Data'!JM46 -> 0
A4: Commercial | B4: ='Raw Data'!U47 -> 1 | C4: ='Raw Data'!V47 -> 3 | D4: ='Raw Data'!W47 -> 3 | E4: ='Raw Data'!X47 -> 4 | F4: ='Raw Data'!Y47 -> 4 | G4: ='Raw Data'!Z47 -> 6 | H4: ='Raw Data'!AA47 -> 4 | I4: ='Raw Data'!AB47 -> 4 | ... IT4: ='Raw Data'!JM47 -> 0
A5: Total | B5: ='Raw Data'!U48 -> 246 | C5: ='Raw Data'!V48 -> 183 | D5: ='Raw Data'!W48 -> 284 | E5: ='Raw Data'!X48 -> 318 | F5: ='Raw Data'!Y48 -> 401 | G5: ='Raw Data'!Z48 -> 354 | H5: ='Raw Data'!AA48 -> 240 | I5: ='Raw Data'!AB48 -> 265 | ... IT5: ='Raw Data'!JM48 -> 0
B20: Jan | C20: Feb | D20: Mar | E20: Apr | F20: May | G20: Jun | H20: July | I20: Aug | J20: Sep | K20: Oct | L20: Nov | M20: Dec | N20: Yearly
A21: 2005 | B21: ='Raw Data'!U48 -> 246 | C21: ='Raw Data'!V48 -> 183 | D21: ='Raw Data'!W48 -> 284 | E21: ='Raw Data'!X48 -> 318 | F21: ='Raw Data'!Y48 -> 401 | G21: ='Raw Data'!Z48 -> 354 | H21: ='Raw Data'!AA48 -> 240 | I21: ='Raw Data'!AB48 -> 265 | ... M21: ='Raw Data'!AF48 -> 166 | N21: =SUM(B21:M21) -> 3201
A22: 2006 | B22: ='Raw Data'!AG48 -> 162 | C22: ='Raw Data'!AH48 -> 116 | D22: ='Raw Data'!AI48 -> 176 | E22: ='Raw Data'!AJ48 -> 153 | F22: ='Raw Data'!AK48 -> 207 | G22: ='Raw Data'!AL48 -> 156 | H22: ='Raw Data'!AM48 -> 123 | I22: ='Raw Data'!AN48 -> 139 | ... M22: ='Raw Data'!AR48 -> 125 | N22: =SUM(B22:M22) -> 1757
A23: 2007 | B23: ='Raw Data'!AS48 -> 97 | C23: ='Raw Data'!AT48 -> 122 | D23: ='Raw Data'!AU48 -> 112 | E23: ='Raw Data'!AV48 -> 143 | F23: ='Raw Data'!AW48 -> 171 | G23: ='Raw Data'!AX48 -> 140 | H23: ='Raw Data'!AY48 -> 123 | I23: ='Raw Data'!AZ48 -> 129 | ... M23: ='Raw Data'!BD48 -> 101 | N23: =SUM(B23:M23) -> 1522
A24: 2008 | B24: ='Raw Data'!BE48 -> 87 | C24: ='Raw Data'!BF48 -> 98 | D24: ='Raw Data'!BG48 -> 110 | E24: ='Raw Data'!BH48 -> 124 | F24: ='Raw Data'!BI48 -> 135 | G24: ='Raw Data'!BJ48 -> 136 | H24: ='Raw Data'!BK48 -> 114 | I24: ='Raw Data'!BL48 -> 128 | ... M24: ='Raw Data'!BP48 -> 83 | N24: =SUM(B24:M24) -> 1322
A25: 2009 | B25: ='Raw Data'!BQ48 -> 53 | C25: ='Raw Data'!BR48 -> 78 | D25: ='Raw Data'!BS48 -> 101 | E25: ='Raw Data'!BT48 -> 88 | F25: ='Raw Data'!BU48 -> 126 | G25: ='Raw Data'!BV48 -> 142 | H25: ='Raw Data'!BW48 -> 122 | I25: ='Raw Data'!BX48 -> 134 | ... M25: ='Raw Data'!CB48 -> 135 | N25: =SUM(B25:M25) -> 1385
A26: 2010 | B26: ='Raw Data'!CC48 -> 99 | C26: ='Raw Data'!CD48 -> 93 | D26: ='Raw Data'!CE48 -> 126 | E26: ='Raw Data'!CF48 -> 164 | F26: ='Raw Data'!CG48 -> 170 | G26: ='Raw Data'!CH48 -> 168 | H26: ='Raw Data'!CI48 -> 148 | I26: ='Raw Data'!CJ48 -> 129 | ... M26: ='Raw Data'!CN48 -> 155 | N26: =SUM(B26:M26) -> 1669
A27: 2011 | B27: ='Raw Data'!CO48 -> 99 | C27: ='Raw Data'!CP48 -> 107 | D27: ='Raw Data'!CQ48 -> 169 | E27: ='Raw Data'!CR48 -> 167 | F27: ='Raw Data'!CS48 -> 159 | G27: ='Raw Data'!CT48 -> 177 | H27: ='Raw Data'!CU48 -> 147 | I27: ='Raw Data'!CV48 -> 132 | ... M27: ='Raw Data'!CZ48 -> 140 | N27: =SUM(B27:M27) -> 1689
A28: 2012 | B28: ='Raw Data'!DA48 -> 116 | C28: ='Raw Data'!DB48 -> 143 | D28: ='Raw Data'!DC48 -> 227 | E28: ='Raw Data'!DD48 -> 186 | F28: ='Raw Data'!DE48 -> 206 | G28: ='Raw Data'!DF48 -> 182 | H28: ='Raw Data'!DG48 -> 151 | I28: ='Raw Data'!DH48 -> 173 | ... M28: ='Raw Data'!DL48 -> 140 | N28: =SUM(B28:M28) -> 2042
A29: 2013 | B29: ='Raw Data'!DM48 -> 115 | C29: ='Raw Data'!DN48 -> 146 | D29: ='Raw Data'!DO48 -> 180 | E29: ='Raw Data'!DP48 -> 213 | F29: ='Raw Data'!DQ48 -> 194 | G29: ='Raw Data'!DR48 -> 187 | H29: ='Raw Data'!DS48 -> 202 | I29: ='Raw Data'!DT48 -> 184 | ... M29: ='Raw Data'!DX48 -> 189 | N29: =SUM(B29:M29) -> 2093
A30: 2014 | B30: ='Raw Data'!DY48 -> 133 | C30: ='Raw Data'!DZ48 -> 117 | D30: ='Raw Data'!EA48 -> 146 | E30: ='Raw Data'!EB48 -> 189 | F30: ='Raw Data'!EC48 -> 231 | G30: ='Raw Data'!ED48 -> 200 | H30: ='Raw Data'!EE48 -> 201 | I30: ='Raw Data'!EF48 -> 174 | ... M30: ='Raw Data'!EJ48 -> 202 | N30: =SUM(B30:M30) -> 2139
A31: 2015 | B31: ='Raw Data'!EK48 -> 129 | C31: ='Raw Data'!EL48 -> 142 | D31: ='Raw Data'!EM48 -> 184 | E31: ='Raw Data'!EN48 -> 193 | F31: ='Raw Data'!EO48 -> 241 | G31: ='Raw Data'!EP48 -> 227 | H31: ='Raw Data'!EQ48 -> 218 | I31: ='Raw Data'!ER48 -> 187 | ... M31: ='Raw Data'!EV48 -> 198 | N31: =SUM(B31:M31) -> 2292
A32: 2016 | B32: ='Raw Data'!EW48 -> 145 | C32: ='Raw Data'!EX48 -> 130 | D32: ='Raw Data'!EY48 -> 184 | E32: ='Raw Data'!EZ48 -> 201 | F32: ='Raw Data'!FA48 -> 217 | G32: ='Raw Data'!FB48 -> 238 | H32: ='Raw Data'!FC48 -> 201 | I32: ='Raw Data'!FD48 -> 204 | ... M32: ='Raw Data'!FH48 -> 202 | N32: =SUM(B32:L32) -> 2091
A33: 2017 | B33: ='Raw Data'!FI48 -> 141 | C33: ='Raw Data'!FJ48 -> 149 | D33: ='Raw Data'!FK48 -> 235 | E33: ='Raw Data'!FL48 -> 219 | F33: ='Raw Data'!FM48 -> 254 | G33: ='Raw Data'!FN48 -> 295 | H33: ='Raw Data'!FO48 -> 185 | I33: ='Raw Data'!FP48 -> 224 | ... M33: ='Raw Data'!FT48 -> 208 | O33: =SUM(B33:C33) -> 290
A34: 2018 | B34: ='Raw Data'!FU48 -> 153 | C34: ='Raw Data'!FV48 -> 112 | D34: ='Raw Data'!FW48 -> 232 | E34: ='Raw Data'!FX48 -> 225 | F34: ='Raw Data'!FY48 -> 267 | G34: ='Raw Data'!FZ48 -> 245 | H34: ='Raw Data'!GA48 -> 209 | I34: ='Raw Data'!GB48 -> 228 | ... M34: ='Raw Data'!GF48 -> 192 | O34: =SUM(B34) -> 153
A35: 2019 | B35: ='Raw Data'!GG48 -> 144 | C35: ='Raw Data'!GH48 -> 163 | D35: ='Raw Data'!GI48 -> 218 | E35: ='Raw Data'!GJ48 -> 229 | F35: ='Raw Data'!GK48 -> 253 | G35: ='Raw Data'!GL48 -> 232 | H35: ='Raw Data'!GM48 -> 232 | I35: ='Raw Data'!GN48 -> 243 | ... M35: ='Raw Data'!GR48 -> 219 | O35: =SUM(B35:M35) -> 2606
A36: 2020 | B36: ='Raw Data'!GS48 -> 179 | C36: ='Raw Data'!GT48 -> 181 | D36: ='Raw Data'!GU48 -> 236 | E36: ='Raw Data'!GV48 -> 181 | F36: ='Raw Data'!GW48 -> 179 | G36: ='Raw Data'!GX48 -> 251 | H36: ='Raw Data'!GY48 -> 452 | I36: ='Raw Data'!GZ48 -> 403 | ... M36: ='Raw Data'!HD48 -> 401 | O36: =SUM(B36:M36) -> 3751
A37: 2021 | B37: ='Raw Data'!HE48 -> 335 | C37: ='Raw Data'!HF48 -> 298 | D37: ='Raw Data'!HG48 -> 447 | E37: ='Raw Data'!HH48 -> 445 | F37: ='Raw Data'!HI48 -> 440 | G37: ='Raw Data'!HJ48 -> 432 | H37: ='Raw Data'!HK48 -> 369 | I37: ='Raw Data'!HL48 -> 329 | ... M37: ='Raw Data'!HP48 -> 319 | N37: =SUM(B37:M37) -> 4400
A38: 2022 | B38: ='Raw Data'!HQ48 -> 285 | C38: ='Raw Data'!HR48 -> 248 | D38: ='Raw Data'!HS48 -> 387 | E38: ='Raw Data'!HT48 -> 344 | F38: ='Raw Data'!HU48 -> 331 | G38: ='Raw Data'!HV48 -> 290 | H38: ='Raw Data'!HW48 -> 233 | I38: ='Raw Data'!HX48 -> 265 | ... M38: ='Raw Data'!IB48 -> 168 | N38: =SUM(B38:M38) -> 3184
A39: 2023 | B39: ='Raw Data'!IC48 -> 141 | C39: ='Raw Data'!ID48 -> 174 | D39: ='Raw Data'!IE48 -> 242 | E39: ='Raw Data'!IF48 -> 215 | F39: ='Raw Data'!IG48 -> 228 | G39: ='Raw Data'!IH48 -> 245 | H39: ='Raw Data'!II48 -> 172 | I39: ='Raw Data'!IJ48 -> 191 | ... M39: ='Raw Data'!IN48 -> 146 | N39: =SUM(B39:M39) -> 2330
A40: 2024 | B40: ='Raw Data'!IO48 -> 141 | C40: ='Raw Data'!IP48 -> 137 | D40: ='Raw Data'!IQ48 -> 208 | E40: ='Raw Data'!IR48 -> 218 | F40: ='Raw Data'!IS48 -> 209 | G40: ='Raw Data'!IT48 -> 181 | H40: ='Raw Data'!IU48 -> 209 | I40: ='Raw Data'!IV48 -> 187 | ... M40: ='Raw Data'!IZ48 -> 169 | N40: =SUM(B40:M40) -> 2175
A41: 2025 | B41: ='Raw Data'!JA48 -> 166 | C41: ='Raw Data'!JB48 -> 125 | D41: ='Raw Data'!JC48 -> 176 | E41: ='Raw Data'!JD48 -> 0 | F41: ='Raw Data'!JE48 -> 0 | G41: ='Raw Data'!JF48 -> 0 | H41: ='Raw Data'!JG48 -> 0 | I41: ='Raw Data'!JH48 -> 0 | ... M41: ='Raw Data'!JL48 -> 0 | N41: =SUM(B41:M41) -> 467
E47: Monthly Sales | I47: All Property Sales
E48: Month / Year | F48: Count | G48: %Chg | I48: Month / Year | J48: Count | K48: %Chg
E49: Mar'25 | F49: =D41 -> 176 | G49: =(F49-F50)/F50 -> -0.15384615 | I49: 2025 | J49: =SUM(B41:D41) -> 467 | K49: =(J49-J50)/50 -> -0.38
E50: Mar'24 | F50: =D40 -> 208 | G50: =(F50-F51)/F51 -> -0.14049587 | I50: 2024 | J50: =SUM(B40:D40) -> 486 | K50: =(J50-J51)/J51 -> -0.12746858
E51: Mar'23 | F51: =D39 -> 242 | G51: =(F51-F52)/F52 -> -0.374677 | I51: 2023 | J51: =SUM(B39:D39) -> 557 | K51: =(J51-J52)/J52 -> -0.39456522
E52: Mar'22 | F52: =D38 -> 387 | I52: 2022 | J52: =SUM(B38:D38) -> 920
B55: 1st qtr | C55: 2nd qtr | D55: 3nd qtr | E55: 4th qtr
A56: 2021 | B56: =SUM(B37:D37) -> 1080 | C56: =SUM(E37:G37) -> 1317 | D56: =SUM(H37:J37) -> 1011 | E56: =SUM(K37:M37) -> 992
A57: 2022 | B57: =SUM(B38:D38) -> 920 | C57: =SUM(E38:G38) -> 965 | D57: =SUM(H38:J38) -> 729 | E57: =SUM(K38:M38) -> 570
A58: 2023 | B58: =SUM(B39:D39) -> 557 | C58: =SUM(E39:G39) -> 688 | D58: =SUM(H39:J39) -> 579 | E58: =SUM(K39:M39) -> 506
A59: 2024 | B59: =SUM(B40:D40) -> 486 | C59: =SUM(E40:G40) -> 608 | D59: =SUM(H40:J40) -> 568 | E59: =SUM(K40:M40) -> 513
A60: 2025 | B60: =SUM(B41:D41) -> 467 | C60: =SUM(E41:G41) -> 0 | D60: =SUM(H41:J41) -> 0 | E60: =SUM(K41:M41) -> 0
E63: Quarterly Sales
...

Sheet 3 Yr Snapshot
B1: ='Raw Data'!U36 -> 38357 | C1: ='Raw Data'!V36 -> 38388 | D1: ='Raw Data'!W36 -> 38416 | E1: ='Raw Data'!X36 -> 38447 | F1: ='Raw Data'!Y36 -> 38477 | G1: ='Raw Data'!Z36 -> 38508 | H1: ='Raw Data'!AA36 -> 38538 | I1: ='Raw Data'!AB36 -> 38569 | ... EP1: ='Raw Data'!FI36 -> 42741 | EQ1: 42783 | ER1: 42811 | ES1: 42842 | ET1: 42872 | EU1: 42903 | EV1: 42933 | EW1: 42964 | EX1: 42995 | EY1: 43025 | EZ1: 43056 | FA1: 43086 | FB1: 43117 | FC1: 43148 | FD1: 43176 | FE1: 43207 | FF1: 43237 | FG1: 43268 | FH1: 43298 | FI1: 43329 | FJ1: 43360 | FK1: 43390 | FL1: 43421 | FM1: 43451 | FN1: 43482 | FO1: 43513 | FP1: 43541 | FQ1: 43572 | FR1: 43602 | FS1: 43633 | FT1: 43663 | FU1: 43694 | FV1: 43725 | FW1: 43755 | FX1: 43786 | FY1: 43816 | FZ1: 43847 | GA1: 43878 | GB1: 43907 | GC1: 43938 | GD1: 43968 | GE1: 43999 | GF1: 44029 | GG1: 44060 | GH1: 44091 | GI1: 44121 | GJ1: 44152 | GK1: 44182 | GL1: 44213 | GM1: 44244 | GN1: 44272 | GO1: 44303 | GP1: 44333 | GQ1: 44364 | GR1: 44394 | GS1: 44425 | GT1: 44456 | GU1: 44486 | GV1: 44517 | GW1: 44547 | GX1: 44578 | GY1: 44609 | GZ1: 44637 | HA1: 44668 | HB1: 44698 | HC1: 44729 | HD1: 44759 | HE1: 44790 | HF1: 44821 | HG1: 44851 | HH1: 44882 | HI1: 44912 | HJ1: 44943 | HK1: 44974 | HL1: 45002 | HM1: 45033 | HN1: 45063 | HO1: 45094 | HP1: 45124 | HQ1: 45155 | HR1: 45186 | HS1: 45216 | HT1: 45247 | HU1: 45277 | HV1: 45308 | HW1: 45339 | HX1: 45368 | HY1: 45399 | HZ1: 45429 | IA1: 45460 | IB1: 45490 | IC1: 45521 | ID1: 45552 | IE1: 45582 | IF1: 45613 | IG1: 45643 | IH1: 45674
A2: Sold Residential | B2: ='Raw Data'!U45 -> 149 | C2: ='Raw Data'!V45 -> 119 | D2: ='Raw Data'!W45 -> 190 | E2: ='Raw Data'!X45 -> 208 | F2: ='Raw Data'!Y45 -> 286 | G2: ='Raw Data'!Z45 -> 234 | H2: ='Raw Data'!AA45 -> 167 | I2: ='Raw Data'!AB45 -> 178 | ... IH2: ='Raw Data'!JA45 -> 129
A3: Sold Land | B3: ='Raw Data'!U46 -> 96 | C3: ='Raw Data'!V46 -> 61 | D3: ='Raw Data'!W46 -> 91 | E3: ='Raw Data'!X46 -> 106 | F3: ='Raw Data'!Y46 -> 111 | G3: ='Raw Data'!Z46 -> 114 | H3: ='Raw Data'!AA46 -> 69 | I3: ='Raw Data'!AB46 -> 83 | ... IH3: ='Raw Data'!JA46 -> 34
A4: Sold Commercial | B4: ='Raw Data'!U47 -> 1 | C4: ='Raw Data'!V47 -> 3 | D4: ='Raw Data'!W47 -> 3 | E4: ='Raw Data'!X47 -> 4 | F4: ='Raw Data'!Y47 -> 4 | G4: ='Raw Data'!Z47 -> 6 | H4: ='Raw Data'!AA47 -> 4 | I4: ='Raw Data'!AB47 -> 4 | ... IH4: ='Raw Data'!JA47 -> 3
A5: Total | B5: ='Raw Data'!U48 -> 246 | C5: ='Raw Data'!V48 -> 183 | D5: ='Raw Data'!W48 -> 284 | E5: ='Raw Data'!X48 -> 318 | F5: ='Raw Data'!Y48 -> 401 | G5: ='Raw Data'!Z48 -> 354 | H5: ='Raw Data'!AA48 -> 240 | I5: ='Raw Data'!AB48 -> 265 | ... IH5: ='Raw Data'!JA48 -> 166

Sheet 1 YR Snapshot
B1: ='Raw Data'!U36 -> 38357 | C1: ='Raw Data'!V36 -> 38388 | D1: ='Raw Data'!W36 -> 38416 | E1: ='Raw Data'!X36 -> 38447 | F1: ='Raw Data'!Y36 -> 38477 | G1: ='Raw Data'!Z36 -> 38508 | H1: ='Raw Data'!AA36 -> 38538 | I1: ='Raw Data'!AB36 -> 38569 | ... HV1: ='Raw Data'!IO36 -> 45314 | HW1: 45346 | HX1: 45375 | HY1: ='Raw Data'!IR36 -> 45405 | HZ1: 45406 | IA1: 45436 | IB1: 45467 | IC1: 45497 | ID1: 45528 | IE1: 45559 | IF1: 45589 | IG1: 45620 | IH1: 45650 | II1: 45681 | IJ1: 45712 | IK1: 45740
A2: Sold Residential | B2: ='Raw Data'!U45 -> 149 | C2: ='Raw Data'!V45 -> 119 | D2: ='Raw Data'!W45 -> 190 | E2: ='Raw Data'!X45 -> 208 | F2: ='Raw Data'!Y45 -> 286 | G2: ='Raw Data'!Z45 -> 234 | H2: ='Raw Data'!AA45 -> 167 | I2: ='Raw Data'!AB45 -> 178 | ... IK2: ='Raw Data'!JD45 -> 0
A3: Sold Land | B3: ='Raw Data'!U46 -> 96 | C3: ='Raw Data'!V46 -> 61 | D3: ='Raw Data'!W46 -> 91 | E3: ='Raw Data'!X46 -> 106 | F3: ='Raw Data'!Y46 -> 111 | G3: ='Raw Data'!Z46 -> 114 | H3: ='Raw Data'!AA46 -> 69 | I3: ='Raw Data'!AB46 -> 83 | ... IK3: ='Raw Data'!JD46 -> 0
A4: Sold Commercial | B4: ='Raw Data'!U47 -> 1 | C4: ='Raw Data'!V47 -> 3 | D4: ='Raw Data'!W47 -> 3 | E4: ='Raw Data'!X47 -> 4 | F4: ='Raw Data'!Y47 -> 4 | G4: ='Raw Data'!Z47 -> 6 | H4: ='Raw Data'!AA47 -> 4 | I4: ='Raw Data'!AB47 -> 4 | ... IK4: ='Raw Data'!JD47 -> 0
A5: Total | B5: ='Raw Data'!U48 -> 246 | C5: ='Raw Data'!V48 -> 183 | D5: ='Raw Data'!W48 -> 284 | E5: ='Raw Data'!X48 -> 318 | F5: ='Raw Data'!Y48 -> 401 | G5: ='Raw Data'!Z48 -> 354 | H5: ='Raw Data'!AA48 -> 240 | I5: ='Raw Data'!AB48 -> 265 | ... IK5: ='Raw Data'!JD48 -> 0
HW8: Jan | HX8: Feb | HY8: Mar | HZ8: Apr | IA8: May | IB8: Jun | IC8: July | ID8: Aug | IE8: Sep | IF8: Oct | IG8: Nov | IH8: Dec
HV9: 2005 | HW9: ='Raw Data'!U45 -> 149 | HX9: ='Raw Data'!V45 -> 119 | HY9: ='Raw Data'!W45 -> 190 | HZ9: ='Raw Data'!X45 -> 208 | IA9: ='Raw Data'!Y45 -> 286 | IB9: ='Raw Data'!Z45 -> 234 | IC9: ='Raw Data'!AA45 -> 167 | ID9: ='Raw Data'!AB45 -> 178 | ... IH9: ='Raw Data'!AF45 -> 108 | II9: =SUM(HW9:IH9) -> 2104
HV10: 2006 | HW10: ='Raw Data'!AG45 -> 97 | HX10: ='Raw Data'!AH45 -> 93 | HY10: ='Raw Data'!AI45 -> 122 | HZ10: ='Raw Data'!AJ45 -> 118 | IA10: ='Raw Data'!AK45 -> 151 | IB10: ='Raw Data'!AL45 -> 117 | IC10: ='Raw Data'!AM45 -> 83 | ID10: ='Raw Data'!AN45 -> 106 | ... IH10: ='Raw Data'!AR45 -> 89 | II10: =SUM(HW10:IH10) -> 1269
HV11: 2007 | HW11: ='Raw Data'!AS45 -> 76 | HX11: ='Raw Data'!AT45 -> 103 | HY11: ='Raw Data'!AU45 -> 100 | HZ11: ='Raw Data'!AV45 -> 119 | IA11: ='Raw Data'!AW45 -> 137 | IB11: ='Raw Data'!AX45 -> 117 | IC11: ='Raw Data'!AY45 -> 103 | ID11: ='Raw Data'!AZ45 -> 106 | ... IH11: ='Raw Data'!BD45 -> 82 | II11: =SUM(HW11:IH11) -> 1235
HV12: 2008 | HW12: ='Raw Data'!BE45 -> 57 | HX12: ='Raw Data'!BF45 -> 75 | HY12: ='Raw Data'!BG45 -> 96 | HZ12: ='Raw Data'!BH45 -> 92 | IA12: ='Raw Data'!BI45 -> 111 | IB12: ='Raw Data'!BJ45 -> 110 | IC12: ='Raw Data'!BK45 -> 94 | ID12: ='Raw Data'!BL45 -> 103 | ... IH12: ='Raw Data'!BP45 -> 69 | II12: =SUM(HW12:IH12) -> 1045
HV13: 2009 | HW13: ='Raw Data'!BQ45 -> 42 | HX13: ='Raw Data'!BR45 -> 68 | HY13: ='Raw Data'!BS45 -> 84 | HZ13: ='Raw Data'!BT45 -> 81 | IA13: ='Raw Data'!BU45 -> 111 | IB13: ='Raw Data'!BV45 -> 114 | IC13: ='Raw Data'!BW45 -> 105 | ID13: ='Raw Data'!BX45 -> 105 | ... IH13: ='Raw Data'!CB45 -> 100 | II13: =SUM(HW13:IH13) -> 1126
HV14: 2010 | HW14: ='Raw Data'!CC45 -> 86 | HX14: ='Raw Data'!CD45 -> 72 | HY14: ='Raw Data'!CE45 -> 113 | HZ14: ='Raw Data'!CF45 -> 136 | IA14: ='Raw Data'!CG45 -> 151 | IB14: ='Raw Data'!CH45 -> 137 | IC14: ='Raw Data'!CI45 -> 125 | ID14: ='Raw Data'!CJ45 -> 99 | ... IH14: ='Raw Data'!CN45 -> 125 | II14: =SUM(HW14:IH14) -> 1374
HV15: 2011 | HW15: ='Raw Data'!CO45 -> 83 | HX15: ='Raw Data'!CP45 -> 87 | HY15: ='Raw Data'!CQ45 -> 130 | HZ15: ='Raw Data'!CR45 -> 137 | IA15: ='Raw Data'!CS45 -> 124 | IB15: ='Raw Data'!CT45 -> 142 | IC15: ='Raw Data'!CU45 -> 127 | ID15: ='Raw Data'!CV45 -> 105 | ... IH15: ='Raw Data'!CZ45 -> 102 | II15: =SUM(HW15:IH15) -> 1333
HV16: 2012 | HW16: ='Raw Data'!DA45 -> 94 | HX16: ='Raw Data'!DB45 -> 112 | HY16: ='Raw Data'!DC45 -> 171 | HZ16: ='Raw Data'!DD45 -> 131 | IA16: ='Raw Data'!DE45 -> 165 | IB16: ='Raw Data'!DF45 -> 146 | IC16: ='Raw Data'!DG45 -> 121 | ID16: ='Raw Data'!DH45 -> 125 | ... IH16: ='Raw Data'!DL45 -> 109 | II16: =SUM(HW16:IH16) -> 1583
HV17: 2013 | HW17: ='Raw Data'!DM45 -> 89 | HX17: ='Raw Data'!DN45 -> 91 | HY17: ='Raw Data'!DO45 -> 136 | HZ17: ='Raw Data'!DP45 -> 168 | IA17: ='Raw Data'!DQ45 -> 157 | IB17: ='Raw Data'!DR45 -> 150 | IC17: ='Raw Data'!DS45 -> 161 | ID17: ='Raw Data'!DT45 -> 136 | ... IH17: ='Raw Data'!DX45 -> 125 | II17: =SUM(HW17:IH17) -> 1569
HV18: 2014 | HW18: ='Raw Data'!DY45 -> 106 | HX18: ='Raw Data'!DZ45 -> 88 | HY18: ='Raw Data'!EA45 -> 115 | HZ18: ='Raw Data'!EB45 -> 149 | IA18: ='Raw Data'!EC45 -> 192 | IB18: ='Raw Data'!ED45 -> 147 | IC18: ='Raw Data'!EE45 -> 122 | ID18: ='Raw Data'!EF45 -> 127 | ... IH18: ='Raw Data'!EJ45 -> 157 | II18: =SUM(HW18:IH18) -> 1607
HV19: 2015 | HW19: =DR5 -> 129 | HX19: =DS5 -> 142 | HY19: =DT5 -> 184 | HZ19: =DU5 -> 193 | IA19: =DV5 -> 241 | IB19: =DW5 -> 227 | IC19: =DX5 -> 218 | ID19: =DY5 -> 187 | ... IH19: =EC5 -> 198 | II19: =SUM(HW19:IH19) -> 2292
HV20: 2016 | HW20: =ED2 -> 111 | HX20: =EE2 -> 92 | HY20: =EF2 -> 138 | HZ20: =EG2 -> 158 | IA20: =EH2 -> 175 | IB20: =EI2 -> 185 | IC20: =EJ2 -> 155 | ID20: =EK2 -> 159 | ... IH20: =EO2 -> 173 | II20: =SUM(HW20:IH20) -> 1790
HV21: 2017 | HW21: =EP2 -> 112 | HX21: =EQ2 -> 129 | HY21: =ER2 -> 180 | HZ21: =ES2 -> 180 | IA21: =ET2 -> 203 | IB21: =EU2 -> 218 | IC21: =EV2 -> 136 | ID21: =EW2 -> 171 | ... IH21: =FA2 -> 164 | II21: =SUM(HW21:IH21) -> 1985
HV22: 2018 | HW22: =FB2 -> 118 | HX22: =FC2 -> 89 | HY22: =FD2 -> 187 | HZ22: =FE2 -> 186 | IA22: =FF2 -> 219 | IB22: =FG2 -> 188 | IC22: =FH2 -> 172 | ID22: =FI2 -> 189 | ... IH22: =FM2 -> 166 | II22: =SUM(HW22:IH22) -> 1967
HV23: 2019 | HW23: =FN2 -> 119 | HX23: =FO2 -> 123 | HY23: =FP2 -> 184 | HZ23: =FQ2 -> 189 | IA23: =FR2 -> 217 | IB23: =FS2 -> 190 | IC23: =FT2 -> 185 | ID23: =FU2 -> 201 | ... IH23: =FY2 -> 174 | II23: =SUM(HW23:IH23) -> 2139
HV24: 2020 | HW24: =FZ2 -> 148 | HX24: =GA2 -> 146 | HY24: =GB2 -> 198 | HZ24: =GC2 -> 154 | IA24: =GD2 -> 150 | IB24: =GE2 -> 221 | IC24: =GF2 -> 396 | ID24: =GG2 -> 322 | ... IH24: =GK2 -> 316 | II24: =SUM(HW24:IH24) -> 3091
HV25: 2021 | HW25: =GL2 -> 263 | HX25: =GM2 -> 237 | HY25: =GN2 -> 377 | HZ25: =GO2 -> 349 | IA25: =GP2 -> 337 | IB25: =GQ2 -> 326 | IC25: =GR2 -> 263 | ID25: =GS2 -> 234 | ... IH25: =GW2 -> 240 | II25: =SUM(HW25:IH25) -> 3376
HV26: 2022 | HW26: =GX2 -> 225 | HX26: =GY2 -> 182 | HY26: =GZ2 -> 300 | HZ26: =HA2 -> 265 | IA26: =HB2 -> 247 | IB26: =HC2 -> 235 | IC26: =HD2 -> 171 | ID26: =HE2 -> 201 | ... IH26: =HI2 -> 131 | II26: =SUM(HW26:IH26) -> 2458
HV27: 2023 | HW27: =HJ2 -> 101 | HX27: =HK2 -> 137 | HY27: =HL2 -> 193 | HZ27: =HM2 -> 166 | IA27: =HN2 -> 184 | IB27: =HO2 -> 189 | IC27: =HP2 -> 129 | ID27: =HQ2 -> 143 | ... IH27: =HU2 -> 116 | II27: =SUM(HW27:IH27) -> 1791
IE30: Residential Sales
IE31: Month / Year | IF31: Count | IG31: %Chg
IE32: Dec'23 | IF32: =IG27 -> 137 | IG32: =(IF32-IF33)/IF33 -> -0.14906832
IE33: Dec'22 | IF33: =IG26 -> 161 | IG33: =(IF33-IF34)/IF34 -> -0.39700375
IE34: Dec'21 | IF34: =IG25 -> 267 | IG34: =(IF34-IF35)/IF35 -> -0.13870968
IE35: Dec'20 | IF35: =IG24 -> 310

Sheet Distressed Data
B1: ='Raw Data'!BO44 -> 39766 | C1: ='Raw Data'!BP44 -> 39803 | D1: ='Raw Data'!BQ44 -> 39840 | E1: ='Raw Data'!BR44 -> 39853 | F1: ='Raw Data'!BS44 -> 39881 | G1: ='Raw Data'!BT44 -> 39912 | H1: ='Raw Data'!BU44 -> 39942 | I1: ='Raw Data'!BV44 -> 39973 | ... ES1: ='Raw Data'!HF44 -> 44236 | ET1: 44276 | EU1: 44307 | EV1: 44337 | EW1: 44368 | EX1: 44398 | EY1: 44429 | EZ1: 44460 | FA1: 44490 | FB1: 44521 | FC1: 44551 | FD1: 44582 | FE1: 44613 | FF1: 44641 | FG1: 44672 | FH1: 44702 | FI1: 44733 | FJ1: 44763 | FK1: 44794 | FL1: 44825 | FM1: 44855 | FN1: 44886 | FO1: 44916 | FP1: 44947 | FQ1: 44978 | FR1: 45006 | FS1: 45037 | FT1: 45067 | FU1: 45098 | FV1: 45128 | FW1: 45159 | FX1: 45190 | FY1: 45220 | FZ1: 45251 | GA1: 45281 | GB1: 45315 | GC1: 45346 | GD1: 45375 | GE1: 45406 | GF1: 45436 | GG1: 45467 | GH1: 45497 | GI1: 45528 | GJ1: 45559 | GK1: 45589 | GL1: 45620 | GM1: 45650 | GN1: 45681 | GO1: 45712 | GP1: 45740 | GQ1: 45771 | GR1: 45801 | GS1: 45832 | GT1: 45862 | GU1: 45893 | GV1: 45924 | GW1: 45954 | GX1: 45985 | GY1: 46015
A2: Total Residential Sold | B2: ='Raw Data'!BO45 -> 60 | C2: ='Raw Data'!BP45 -> 69 | D2: ='Raw Data'!BQ45 -> 42 | E2: ='Raw Data'!BR45 -> 68 | F2: ='Raw Data'!BS45 -> 84 | G2: ='Raw Data'!BT45 -> 81 | H2: ='Raw Data'!BU45 -> 111 | I2: ='Raw Data'!BV45 -> 114 | ... GY2: ='Raw Data'!JL45 -> 0
A3: Potential Short Sale | B3: ='Raw Data'!BO85 -> 2 | C3: ='Raw Data'!BP85 -> 7 | D3: ='Raw Data'!BQ85 -> 2 | E3: ='Raw Data'!BR85 -> 4 | F3: ='Raw Data'!BS85 -> 10 | G3: ='Raw Data'!BT85 -> 9 | H3: ='Raw Data'!BU85 -> 6 | I3: ='Raw Data'!BV85 -> 11 | ... GY3: ='Raw Data'!JL85 -> 0
A4: Bank Owned | B4: ='Raw Data'!BO86 -> 6 | C4: ='Raw Data'!BP86 -> 6 | D4: ='Raw Data'!BQ86 -> 5 | E4: ='Raw Data'!BR86 -> 21 | F4: ='Raw Data'!BS86 -> 16 | G4: ='Raw Data'!BT86 -> 15 | H4: ='Raw Data'!BU86 -> 20 | I4: ='Raw Data'!BV86 -> 18 | ... GY4: ='Raw Data'!JL86 -> 0
A5: Percent Potential Short Sale | B5: =B3/B2 -> 0.033333333 | C5: =C3/C2 -> 0.10144928 | D5: =D3/D2 -> 0.047619048 | E5: =E3/E2 -> 0.058823529 | F5: =F3/F2 -> 0.11904762 | G5: =G3/G2 -> 0.11111111 | H5: =H3/H2 -> 0.054054054 | I5: =I3/I2 -> 0.096491228 | ... GY5: =GY3/GY2 -> #DIV/0!
A6: Percent Bank Owned | B6: =B4/B2 -> 0.1 | C6: =C4/C2 -> 0.086956522 | D6: =D4/D2 -> 0.11904762 | E6: =E4/E2 -> 0.30882353 | F6: =F4/F2 -> 0.19047619 | G6: =G4/G2 -> 0.18518519 | H6: =H4/H2 -> 0.18018018 | I6: =I4/I2 -> 0.15789474 | ... GY6: =GY4/GY2 -> #DIV/0!
A7: Total Percent | B7: =(B3+B4)/B2 -> 0.13333333 | C7: =(C3+C4)/C2 -> 0.1884058 | D7: =(D3+D4)/D2 -> 0.16666667 | E7: =(E3+E4)/E2 -> 0.36764706 | F7: =(F3+F4)/F2 -> 0.30952381 | G7: =(G3+G4)/G2 -> 0.2962963 | H7: =(H3+H4)/H2 -> 0.23423423 | I7: =(I3+I4)/I2 -> 0.25438596 | ... GY7: =(GY3+GY4)/GY2 -> #DIV/0!
A10: Total distressed sold | B10: =B3+B4 -> 8 | C10: =C3+C4 -> 13 | D10: =D3+D4 -> 7 | E10: =E3+E4 -> 25 | F10: =F3+F4 -> 26 | G10: =G3+G4 -> 24 | H10: =H3+H4 -> 26 | I10: =I3+I4 -> 29 | ... GY10: =GY3+GY4 -> 0
A11: Total distressed inventory | T11: 299 | U11: 294 | V11: 306 | W11: 274 | X11: 295 | Y11: 258 | Z11: 262 | AA11: 288 | AB11: 301 | AC11: 282 | AD11: 279 | AE11: =SUM(AE15:AE16) -> 273 | AF11: =SUM(AF15:AF16) -> 251 | AG11: =SUM(AG15:AG16) -> 248 | AH11: =SUM(AH15:AH16) -> 239 | AI11: =SUM(AI15:AI16) -> 244 | AJ11: =SUM(AJ15:AJ16) -> 229 | AK11: =SUM(AK15:AK16) -> 251 | AL11: =SUM(AL15:AL16) -> 182 | ... GY11: =SUM(GY15:GY16) -> 0
A12: Percent of Inventory | T12: =T10/T11 -> 0.17391304 | U12: =U10/U11 -> 0.18367347 | V12: =V10/V11 -> 0.13398693 | W12: =W10/W11 -> 0.1459854 | X12: =X10/X11 -> 0.16949153 | Y12: =Y10/Y11 -> 0.13565891 | Z12: =Z10/Z11 -> 0.15648855 | AA12: =AA10/AA11 -> 0.17013889 | ... GY12: =GY10/GY11 -> #DIV/0!
AE14: 40634 | AF14: 40664 | AG14: 40695 | AH14: 40725 | AI14: 40756 | AJ14: 40787 | AK14: 40817 | AL14: 40848 | AM14: 40878 | AN14: 40909 | AO14: 40940 | AP14: 40969 | AQ14: 41000 | AR14: 41030 | AS14: 41061 | AT14: 41091 | AU14: 41122 | AV14: 41153 | AW14: 41183 | AX14: 41214 | AY14: 41244 | AZ14: 41275 | BA14: 41306 | BB14: 41334 | BC14: 41365 | BD14: 41395 | BE14: 41426 | BF14: 41456 | BG14: 41487 | BH14: 41518 | BI14: 41548 | BJ14: 41579 | BK14: 41609 | BL14: 41640 | BM14: 41671 | BN14: 41699 | BO14: 41730 | BP14: 41760 | BQ14: 41791 | BR14: 41821 | BS14: 41852 | BT14: 41883 | BU14: 41913 | BV14: 41944 | BW14: 41974 | BX14: 42005 | BY14: 42036 | BZ14: 42064 | CA14: 42095 | CB14: 42125 | CC14: 42156 | CD14: 42186 | CE14: 42217 | CF14: 42248 | CG14: 42278 | CH14: 42309 | CI14: 42339 | CJ14: 42370 | CK14: 42401 | CL14: 42430 | CM14: 42461 | CN14: 42491 | CO14: 42522 | CP14: 42552 | CQ14: 42583 | CR14: 42614 | CS14: 42644 | CT14: 42675 | CU14: 42705 | CV14: 42736 | CW14: 42767 | CX14: 42795 | CY14: 42826 | CZ14: 42856 | DA14: 42887 | DB14: 42917 | DC14: 42948 | DD14: 42979 | DE14: 43009 | DF14: 43040 | DG14: 43070 | DH14: 43101 | DI14: 43132 | DJ14: 43160 | DK14: 43191 | DL14: 43221 | DM14: 43252 | DN14: 43282 | DO14: 43313 | DP14: 43344 | DQ14: 43374 | DR14: 43405 | DS14: 43435 | DT14: 43466 | DU14: 43497 | DV14: 43525 | DW14: 43556 | DX14: 43586 | DY14: 43617 | DZ14: 43647 | EA14: 43678 | EB14: 43709 | EC14: 43739 | ED14: 43770 | EE14: 43800 | EF14: 43831 | EG14: 43862 | EH14: 43891 | EI14: 43922 | EJ14: 43952 | EK14: 43983 | EL14: 44013 | EM14: 44044 | EN14: 44075 | EO14: 44105 | EP14: 44136 | EQ14: 44166 | ER14: 44197 | ES14: 44228 | ET14: 44256 | EU14: 44287 | EV14: 44317 | EW14: 44348 | EX14: 44378 | EY14: 44409 | EZ14: 44440 | FA14: 44470 | FB14: 44501 | FC14: 44531 | FD14: 44562 | FE14: 44593 | FF14: 44621 | FG14: 44652 | FH14: 44682 | FI14: 44713 | FJ14: 44743 | FK14: 44774 | FL14: 44805 | FM14: 44835 | FN14: 44866 | FO14: 44896 | FP14: 44927 | FQ14: 44958 | FR14: 44986 | FS14: 45017 | FT14: 45047 | FU14: 45078 | FV14: 45108 | FW14: 45139 | FX14: 45170 | FY14: 45200 | FZ14: 45231 | GA14: 45261 | GB14: 45292 | GC14: 45323 | GD14: 45352 | GE14: 45383 | GF14: 45413 | GG14: 45444 | GH14: 45474 | GI14: 45505 | GJ14: 45536 | GK14: 45566 | GL14: 45597 | GM14: 45627 | GN14: 45658 | GO14: 45689 | GP14: 45717 | GQ14: 45748 | GR14: 45778 | GS14: 45809 | GT14: 45839 | GU14: 45870 | GV14: 45901 | GW14: 45931 | GX14: 45962 | GY14: 45992
A15: Short Sale Inventory | AD15: Short Sale Inventory | AE15: ='Raw Data'!CR88 -> 190 | AF15: ='Raw Data'!CS88 -> 173 | AG15: ='Raw Data'!CT88 -> 177 | AH15: ='Raw Data'!CU88 -> 178 | AI15: ='Raw Data'!CV88 -> 175 | AJ15: ='Raw Data'!CW88 -> 169 | AK15: ='Raw Data'!CX88 -> 186 | AL15: ='Raw Data'!CY88 -> 120 | ... GY15: ='Raw Data'!JL88 -> 0
A16: Bank Owned Inventory | AD16: Bank Owned Inventory | AE16: ='Raw Data'!CR89 -> 83 | AF16: ='Raw Data'!CS89 -> 78 | AG16: ='Raw Data'!CT89 -> 71 | AH16: ='Raw Data'!CU89 -> 61 | AI16: ='Raw Data'!CV89 -> 69 | AJ16: ='Raw Data'!CW89 -> 60 | AK16: ='Raw Data'!CX89 -> 65 | AL16: ='Raw Data'!CY89 -> 62 | ... GY16: ='Raw Data'!JL89 -> 0
A17: Percent of Active Inventory | AD17: Percent of Active Inventory | AE17: =SUM(AE15:AE16)/'Raw Data'!CR21 -> 0.14007183 | AF17: =SUM(AF15:AF16)/'Raw Data'!CS21 -> 0.12786551 | AG17: =SUM(AG15:AG16)/'Raw Data'!CT21 -> 0.12796698 | AH17: =SUM(AH15:AH16)/'Raw Data'!CU21 -> 0.12712766 | AI17: =SUM(AI15:AI16)/'Raw Data'!CV21 -> 0.13196322 | AJ17: =SUM(AJ15:AJ16)/'Raw Data'!CW21 -> 0.12836323 | AK17: =SUM(AK15:AK16)/'Raw Data'!CX21 -> 0.1340812 | AL17: =SUM(AL15:AL16)/'Raw Data'!CY21 -> 0.10282486 | ... FQ17: =SUM(FQ15:FQ16)/'Raw Data'!ID21 -> 0 | FR17: =SUM(FR15:FR16)/'Raw Data'!#REF! -> #REF! | FS17: =SUM(FS15:FS16)/'Raw Data'!IF21 -> 0.010781671 | FT17: =SUM(FT15:FT16)/'Raw Data'!IG21 -> 0 | FU17: =SUM(FU15:FU16)/'Raw Data'!IH21 -> 0.0072815534 | FV17: =SUM(FV15:FV16)/'Raw Data'!II21 -> 0.0065789474 | FW17: =SUM(FW15:FW16)/'Raw Data'!IJ21 -> 0 | FX17: =SUM(FX15:FX16)/'Raw Data'!IK21 -> 0 | FY17: =SUM(FY15:FY16)/'Raw Data'!IL21 -> 0.0038986355 | FZ17: =SUM(FZ15:FZ16)/'Raw Data'!IM21 -> 0.0036832413 | ... GY17: =SUM(GY15:GY16)/'Raw Data'!JL21 -> #DIV/0!
B19: 39753 | C19: 39783 | D19: 39814 | E19: 39845 | F19: 39873 | G19: 39904 | H19: 39934 | I19: 39965 | J19: 39995 | K19: 40026 | L19: 40057 | M19: 40087 | N19: 40118 | O19: 40148 | P19: 40179 | Q19: 40210 | R19: 40238 | S19: 40269 | T19: 40299 | U19: 40330 | V19: 40360 | W19: 40391 | X19: 40422 | Y19: 40452 | Z19: 40483 | AA19: 40513 | AB19: 40544 | AC19: 40575 | AD19: 40603 | AE19: 40634 | AF19: 40664 | AG19: 40695 | AH19: 40725 | AI19: 40756 | AJ19: 40787 | AK19: 40817 | AL19: 40848 | AM19: 40878 | AN19: 40909 | AO19: 40940 | AP19: 40969 | AQ19: 41000 | AR19: 41030 | AS19: 41061 | AT19: 41091 | AU19: 41122 | AV19: 41153 | AW19: 41183 | AX19: 41214 | AY19: 41244 | AZ19: 41275 | BA19: 41306 | BB19: 41334 | BC19: 41365 | BD19: 41395 | BE19: 41426 | BF19: 41456 | BG19: 41487 | BH19: 41518 | BI19: 41548 | BJ19: 41579 | BK19: 41609 | BL19: 41640 | BM19: 41671 | BN19: 41699 | BO19: 41730 | BP19: 41760 | BQ19: 41791 | BR19: 41821 | BS19: 41852 | BT19: 41883 | BU19: 41913 | BV19: 41944 | BW19: 41974 | BX19: 42005 | BY19: 42036 | BZ19: 42064 | CA19: 42095 | CB19: 42125 | CC19: 42156 | CD19: 42186 | CE19: 42217 | CF19: 42248 | CG19: 42278 | CH19: 42309 | CI19: 42339 | CJ19: 42370 | CK19: 42401 | CL19: 42430 | CM19: 42461 | CN19: 42491 | CO19: 42522 | CP19: 42552 | CQ19: 42583 | CR19: 42614 | CS19: 42644 | CT19: 42675 | CU19: 42705 | CV19: 42736 | CW19: 42767 | CX19: 42795 | CY19: 42826 | CZ19: 42856 | DA19: 42887 | DB19: 42917 | DC19: 42948 | DD19: 42979 | DE19: 43009 | DF19: 43040 | DG19: 43070 | DH19: 43101 | DI19: 43132 | DJ19: 43160 | DK19: 43191 | DL19: 43221 | DM19: 43252 | DN19: 43282 | DO19: 43313 | DP19: 43344 | DQ19: 43374 | DR19: 43405 | DS19: 43435 | DT19: 43466 | DU19: 43497 | DV19: 43525 | DW19: 43556 | DX19: 43586 | DY19: 43617 | DZ19: 43647 | EA19: 43678 | EB19: 43709 | EC19: 43739 | ED19: 43770 | EE19: 43800 | EF19: 43831 | EG19: 43862 | EH19: 43891 | EI19: 43922 | EJ19: 43952 | EK19: 43983 | EL19: 44013 | EM19: 44044 | EN19: 44075 | EO19: 44105 | EP19: 44136 | EQ19: 44166 | ER19: 44197 | ES19: 44228 | ET19: 44256 | EU19: 44287 | EV19: 44317 | EW19: 44348 | EX19: 44378 | EY19: 44409 | EZ19: 44440 | FA19: 44470 | FB19: 44501 | FC19: 44531 | FD19: 44562 | FE19: 44593 | FF19: 44621 | FG19: 44652 | FH19: 44682 | FI19: 44713 | FJ19: 44743 | FK19: 44774 | FL19: 44805 | FM19: 44835 | FN19: 44866 | FO19: 44896 | FP19: 44927 | FQ19: 44958 | FR19: 44986 | FS19: 45017 | FT19: 45047 | FU19: 45078 | FV19: 45108 | FW19: 45139 | FX19: 45170 | FY19: 45200 | FZ19: 45231 | GA19: 45261 | GB19: 45292 | GC19: 45323 | GD19: 45352 | GE19: 45383 | GF19: 45413 | GG19: 45444 | GH19: 45474 | GI19: 45505 | GJ19: 45536 | GK19: 45566 | GL19: 45597 | GM19: 45627 | GN19: 45658 | GO19: 45689 | GP19: 45717 | GQ19: 45748 | GR19: 45778 | GS19: 45809 | GT19: 45839 | GU19: 45870 | GV19: 45901 | GW19: 45931 | GX19: 45962 | GY19: 45992
A21: Short Sale Inventory | B21: =B15 -> 0 | C21: =C15 -> 0 | D21: =D15 -> 0 | E21: =E15 -> 0 | F21: =F15 -> 0 | G21: =G15 -> 0 | H21: =H15 -> 0 | I21: =I15 -> 0 | ... GY21: =GY15 -> 0
A22: Bank Owned Inventory | B22: =B16 -> 0 | C22: =C16 -> 0 | D22: =D16 -> 0 | E22: =E16 -> 0 | F22: =F16 -> 0 | G22: =G16 -> 0 | H22: =H16 -> 0 | I22: =I16 -> 0 | ... GY22: =GY16 -> 0
B23: 39753 | C23: 39783 | D23: 39814 | E23: 39845 | F23: 39873 | G23: 39904 | H23: 39934 | I23: 39965 | J23: 39995 | K23: 40026 | L23: 40057 | M23: 40087 | N23: 40118 | O23: 40148 | P23: 40179 | Q23: 40210 | R23: 40238 | S23: 40269 | T23: 40299 | U23: 40330 | V23: 40360 | W23: 40391 | X23: 40422 | Y23: 40452 | Z23: 40483 | AA23: 40513 | AB23: 40544 | AC23: 40575 | AD23: 40603 | AE23: 40634 | AF23: 40664 | AG23: 40695 | AH23: 40725 | AI23: 40756 | AJ23: 40787 | AK23: 40817 | AL23: 40848 | AM23: 40878 | AN23: 40909 | AO23: 40940 | AP23: 40969 | AQ23: 41000 | AR23: 41030 | AS23: 41061 | AT23: 41091 | AU23: 41122 | AV23: 41153 | AW23: 41183 | AX23: 41214 | AY23: 41244 | AZ23: 41275 | BA23: 41306 | BB23: 41334 | BC23: 41365 | BD23: 41395 | BE23: 41426 | BF23: 41456 | BG23: 41487 | BH23: 41518 | BI23: 41548 | BJ23: 41579 | BK23: 41609 | BL23: 41640 | BM23: 41671 | BN23: 41699 | BO23: 41730 | BP23: 41760 | BQ23: 41791 | BR23: 41821 | BS23: 41852 | BT23: 41883 | BU23: 41913 | BV23: 41944 | BW23: 41974 | BX23: 42005 | BY23: 42036 | BZ23: 42064 | CA23: 42095 | CB23: 42125 | CC23: 42156 | CD23: 42186 | CE23: 42217 | CF23: 42248 | CG23: 42278 | CH23: 42309 | CI23: 42339 | CJ23: 42370 | CK23: 42401 | CL23: 42430 | CM23: 42461 | CN23: 42491 | CO23: 42522 | CP23: 42552 | CQ23: 42583 | CR23: 42614 | CS23: 42644 | CT23: 42675 | CU23: 42705 | CV23: 42736 | CW23: 42767 | CX23: 42795 | CY23: 42826 | CZ23: 42856 | DA23: 42887 | DB23: 42917 | DC23: 42948 | DD23: 42979 | DE23: 43009 | DF23: 43040 | DG23: 43070 | DH23: 43101 | DI23: 43132 | DJ23: 43160 | DK23: 43191 | DL23: 43221 | DM23: 43252 | DN23: 43282 | DO23: 43313 | DP23: 43344 | DQ23: 43374 | DR23: 43405 | DS23: 43435 | DT23: 43466 | DU23: 43497 | DV23: 43525 | DW23: 43556 | DX23: 43586 | DY23: 43617 | DZ23: 43647 | EA23: 43678 | EB23: 43709 | EC23: 43739 | ED23: 43770 | EE23: 43800 | EF23: 43831 | EG23: 43862 | EH23: 43891 | EI23: 43922 | EJ23: 43952 | EK23: 43983 | EL23: 44013 | EM23: 44044 | EN23: 44075 | EO23: 44105 | EP23: 44136 | EQ23: 44166 | ER23: 44197 | ES23: 44228 | ET23: 44256 | EU23: 44287 | EV23: 44317 | EW23: 44348 | EX23: 44378 | EY23: 44409 | EZ23: 44440 | FA23: 44470 | FB23: 44501 | FC23: 44531 | FD23: 44562 | FE23: 44593 | FF23: 44621 | FG23: 44652 | FH23: 44682 | FI23: 44713 | FJ23: 44743 | FK23: 44774 | FL23: 44805 | FM23: 44835 | FN23: 44866 | FO23: 44896 | FP23: 44927
A24: Total Distressed Inventory | B24: =B11 -> 0 | C24: =C11 -> 0 | D24: =D11 -> 0 | E24: =E11 -> 0 | F24: =F11 -> 0 | G24: =G11 -> 0 | H24: =H11 -> 0 | I24: =I11 -> 0 | ... GY24: =GY11 -> 0
A25: Total Distressed Sold | B25: =B10 -> 8 | C25: =C10 -> 13 | D25: =D10 -> 7 | E25: =E10 -> 25 | F25: =F10 -> 26 | G25: =G10 -> 24 | H25: =H10 -> 26 | I25: =I10 -> 29 | ... GY25: =GY10 -> 0
A28: Total Distressed Inventory | GB28: Jan | GC28: Feb | GD28: Mar | GE28: Apr | GF28: May | GG28: Jun | GH28: Jul | GI28: Aug | GJ28: Sep | GK28: Oct | GL28: Nov | GM28: Dec
GA29: 2025 | GB29: =GN24 -> 1 | GC29: =GO24 -> 3 | GD29: =GP24 -> 4 | GE29: =GQ24 -> 0 | GF29: =GR24 -> 0 | GG29: =GS24 -> 0 | GH29: =GT24 -> 0 | GI29: =GU24 -> 0 | ... GM29: =GY24 -> 0
GA30: 2024 | GB30: =GB24 -> 2 | GC30: =GC24 -> 2 | GD30: =GD24 -> 3 | GE30: =GE24 -> 0 | GF30: =GF24 -> 2 | GG30: =GG24 -> 3 | GH30: =GH24 -> 3 | GI30: =GI24 -> 3 | ... GM30: =GM24 -> 2
GA31: 2023 | GB31: =FP24 -> 0 | GC31: =FQ24 -> 0 | GD31: =FR24 -> 2 | GE31: =FS24 -> 4 | GF31: =FT24 -> 0 | GG31: =FU24 -> 3 | GH31: =FV24 -> 3 | GI31: =FW24 -> 0 | ... GM31: =GA24 -> 3
GA32: 2022 | GB32: =FD24 -> 6 | GC32: =FE24 -> 3 | GD32: =FF24 -> 1 | GE32: =FG24 -> 0 | GF32: =FH24 -> 2 | GG32: =FI24 -> 1 | GH32: =FJ24 -> 0 | GI32: =FK24 -> 2 | ... GM32: =FO24 -> 2
GA33: 2021 | GB33: =ER24 -> 5 | GC33: =ES24 -> 6 | GD33: =ET24 -> 3 | GE33: =EU24 -> 4 | GF33: =EV24 -> 4 | GG33: =EW24 -> 5 | GH33: =EX24 -> 4 | GI33: =EY24 -> 1 | ... GM33: =FC24 -> 6
GA34: 2020 | GB34: =EF24 -> 21 | GC34: =EG24 -> 16 | GD34: =EH24 -> 17 | GE34: =EI24 -> 23 | GF34: =EJ24 -> 24 | GG34: =EK24 -> 10 | GH34: =EL24 -> 13 | GI34: =EM24 -> 10 | ... GM34: =EQ24 -> 6
GA35: 2019 | GB35: =DT24 -> 20 | GC35: =DU24 -> 22 | GD35: =DV24 -> 18 | GE35: =DW24 -> 21 | GF35: =DX24 -> 18 | GG35: =DY24 -> 11 | GH35: =DZ24 -> 16 | GI35: =EA24 -> 20 | ... GM35: =EE24 -> 21
GA36: 2018 | GB36: =DH24 -> 23 | GC36: =DI24 -> 25 | GD36: =DJ24 -> 32 | GE36: =DK24 -> 25 | GF36: =DL24 -> 22 | GG36: =DM24 -> 18 | GH36: =DN24 -> 25 | GI36: =DO24 -> 26 | ... GM36: =DS24 -> 23
GA37: 2017 | GB37: =CV24 -> 39 | GC37: =CW24 -> 40 | GD37: =CX24 -> 32 | GE37: =CY24 -> 26 | GF37: =CZ24 -> 32 | GG37: =DA24 -> 35 | GH37: =DB24 -> 25 | GI37: =DC24 -> 23 | ... GM37: =DG24 -> 30
GA38: 2016 | GB38: =CJ24 -> 58 | GC38: =CK24 -> 59 | GD38: =CL24 -> 54 | GE38: =CM24 -> 56 | GF38: =CN24 -> 53 | GG38: =CO24 -> 58 | GH38: =CP24 -> 52 | GI38: =CQ24 -> 57 | ... GM38: =CU24 -> 45
GA39: 2015 | GB39: =BX24 -> 112 | GC39: =BY24 -> 110 | GD39: =BZ24 -> 104 | GE39: =CA24 -> 91 | GF39: =CB24 -> 77 | GG39: =CC24 -> 78 | GH39: =CD24 -> 70 | GI39: =CE24 -> 64 | ... GM39: =CI24 -> 55
A43: Total Distressed Sold | GB43: Jan | GC43: Feb | GD43: Mar | GE43: Apr | GF43: May | GG43: Jun | GH43: Jul | GI43: Aug | GJ43: Sep | GK43: Oct | GL43: Nov | GM43: Dec
GA44: 2025 | GB44: =GN25 -> 0 | GC44: =GO25 -> 1 | GD44: =GP25 -> 0 | GE44: =GQ25 -> 0 | GF44: =GR25 -> 0 | GG44: =GS25 -> 0 | GH44: =GT25 -> 0 | GI44: =GU25 -> 0 | ... GM44: =GY25 -> 0
GA45: 2024 | GB45: =GB25 -> 2 | GC45: =GC25 -> 0 | GD45: =GD25 -> 0 | GE45: =GE25 -> 1 | GF45: =GF25 -> 2 | GG45: =GG25 -> 0 | GH45: =GH25 -> 2 | GI45: =GI25 -> 2 | ... GM45: =GM25 -> 0
GA46: 2023 | GB46: =FP25 -> 0 | GC46: =FQ25 -> 1 | GD46: =FR25 -> 1 | GE46: =FS25 -> 3 | GF46: =FT25 -> 1 | GG46: =FU25 -> 3 | GH46: =FV25 -> 1 | GI46: =FW25 -> 2 | ... GM46: =GA25 -> 1
GA47: 2022 | GB47: =FD25 -> 3 | GC47: =FE25 -> 1 | GD47: =FF25 -> 3 | GE47: =FG25 -> 1 | GF47: =FH25 -> 0 | GG47: =FI25 -> 0 | GH47: =FJ25 -> 2 | GI47: =FK25 -> 1 | ... GM47: =FO25 -> 1
GA48: 2021 | GB48: =ER25 -> 4 | GC48: =ES25 -> 1 | GD48: =ET25 -> 4 | GE48: =EU25 -> 2 | GF48: =EV25 -> 1 | GG48: =EW25 -> 3 | GH48: =EX25 -> 2 | GI48: =EY25 -> 5 | ... GM48: =FC25 -> 1
GA49: 2020 | GB49: =EF25 -> 9 | GC49: =EG25 -> 8 | GD49: =EH25 -> 8 | GE49: =EI25 -> 4 | GF49: =EJ25 -> 5 | GG49: =EK25 -> 9 | GH49: =EL25 -> 3 | GI49: =EM25 -> 5 | ... GM49: =EQ25 -> 3
FM50: 2019 | FN50: =DT25 -> 2 | FO50: =DU25 -> 2 | FP50: =DV25 -> 6 | FQ50: =DW25 -> 6 | FR50: =DX25 -> 7 | FS50: =DY25 -> 2 | FT50: =DZ25 -> 6 | FU50: =EA25 -> 5 | ... FY50: =EE25 -> 3
...

Sheet Residential
B1: ='Raw Data'!P44 -> 0 | C1: ='Raw Data'!Q44 -> 0 | D1: ='Raw Data'!R44 -> 0 | E1: ='Raw Data'!S44 -> 0 | F1: ='Raw Data'!T44 -> 0 | G1: ='Raw Data'!U44 -> 38353 | H1: ='Raw Data'!V44 -> 38384 | I1: ='Raw Data'!W44 -> 38412 | ... GR1: ='Raw Data'!HF44 -> 44236 | GS1: 44276 | GT1: 44307 | GU1: 44337 | GV1: 44368 | GW1: 44398 | GX1: 44429 | GY1: 44460 | GZ1: 44490 | HA1: 44521 | HB1: 44551 | HC1: 44582 | HD1: 44613 | HE1: 44641 | HF1: 44672 | HG1: 44702 | HH1: 44733 | HI1: 44763 | HJ1: 44794 | HK1: 44825 | HL1: 44855 | HM1: 44886 | HN1: 44916 | HO1: 44947 | HP1: 44978 | HQ1: 45006 | HR1: 45037 | HS1: 45067 | HT1: 45098 | HU1: 45128 | HV1: 45159 | HW1: 45190 | HX1: 45220 | HY1: 45251 | HZ1: 45281 | IA1: 45312 | IB1: 45343 | IC1: 45372 | ID1: 45403 | IE1: 45433 | IF1: 45464 | IG1: 45494 | IH1: 45525 | II1: 45556 | IJ1: 45586 | IK1: 45617 | IL1: 45647 | IM1: 45678 | IN1: 45709 | IO1: 45737 | IP1: 45768 | IQ1: 45798 | IR1: 45829 | IS1: 45859 | IT1: 45890 | IU1: 45921 | IV1: 45951 | IW1: 45982 | IX1: 46012
A2: ='Raw Data'!A45 -> Residential | B2: ='Raw Data'!P45 -> 0 | C2: ='Raw Data'!Q45 -> 0 | D2: ='Raw Data'!R45 -> 0 | E2: ='Raw Data'!S45 -> 0 | F2: ='Raw Data'!T45 -> 2357 | G2: ='Raw Data'!U45 -> 149 | H2: ='Raw Data'!V45 -> 119 | I2: ='Raw Data'!W45 -> 190 | ... IX2: ='Raw Data'!JL45 -> 0
A3: Total Sold Volume | B3: ='Raw Data'!P69 -> 0 | C3: ='Raw Data'!Q69 -> 0 | D3: ='Raw Data'!R69 -> 0 | E3: ='Raw Data'!S69 -> 0 | F3: ='Raw Data'!T69 -> 0 | G3: ='Raw Data'!U69 -> 0 | H3: ='Raw Data'!V69 -> 0 | I3: ='Raw Data'!W69 -> 0 | ... IX3: ='Raw Data'!JL69 -> 0
AS5: =AS1 -> 39510 | AT5: =AT1 -> 39539 | AU5: =AU1 -> 39569 | AV5: =AV1 -> 39600 | AW5: =AW1 -> 39630 | AX5: =AX1 -> 39661 | AY5: =AY1 -> 39692 | AZ5: =AZ1 -> 39729 | ... GJ5: =GJ1 -> 43991 | GK5: 44032 | GL5: 44063 | GM5: 44094 | GN5: 44124 | GO5: 44155 | GP5: 44185 | GQ5: 44216 | GR5: 44247 | GS5: 44275 | GT5: 44306 | GU5: 44336 | GV5: 44367 | GW5: 44397 | GX5: 44428 | GY5: 44459 | GZ5: 44489 | HA5: 44520 | HB5: 44550 | HC5: 44581 | HD5: 44612 | HE5: 44640 | HF5: 44671 | HG5: 44701 | HH5: 44732 | HI5: 44762 | HJ5: 44793 | HK5: 44824 | HL5: 44854 | HM5: 44885 | HN5: 44915 | HO5: 44946 | HP5: 44977 | HQ5: 45005 | HR5: 45036 | HS5: 45066 | HT5: 45097 | HU5: 45127 | HV5: 45158 | HW5: 45189 | HX5: 45219 | HY5: 45250 | HZ5: 45280 | IA5: 45311 | IB5: 45342 | IC5: 45371 | ID5: 45402 | IE5: 45432 | IF5: 45463 | IG5: 45493 | IH5: 45524 | II5: 45555 | IJ5: 45585 | IK5: 45616 | IL5: 45646 | IM5: 45677 | IN5: 45708 | IO5: 45736 | IP5: 45767 | IQ5: 45797 | IR5: 45828 | IS5: 45858 | IT5: 45889 | IU5: 45920 | IV5: 45950 | IW5: 45981 | IX5: 46011
A6: Average | AS6: ='Raw Data'!BG67 -> 302450 | AT6: ='Raw Data'!BH67 -> 391386 | AU6: ='Raw Data'!BI67 -> 438957 | AV6: ='Raw Data'!BJ67 -> 435930 | AW6: ='Raw Data'!BK67 -> 501898 | AX6: ='Raw Data'!BL67 -> 379874 | AY6: ='Raw Data'!BM67 -> 370092 | AZ6: ='Raw Data'!BN67 -> 387889 | ... ED6: ='Raw Data'!ER67 -> 351395 | EE6: 300000 | EF6: ='Raw Data'!ET67 -> 309539 | EG6: ='Raw Data'!EU67 -> 379797 | EH6: ='Raw Data'!EV67 -> 380843 | EI6: ='Raw Data'!EW67 -> 426842 | EJ6: ='Raw Data'!EX67 -> 363445 | EK6: ='Raw Data'!EY67 -> 379449 | EL6: ='Raw Data'!EZ67 -> 372897 | EM6: ='Raw Data'!FA67 -> 362336 | ... IX6: ='Raw Data'!JL67 -> 0
A7: Total Sold | AS7: ='Raw Data'!BG69 -> 38789750 | AT7: ='Raw Data'!BH69 -> 40704191 | AU7: ='Raw Data'!BI69 -> 47407365 | AV7: ='Raw Data'!BJ69 -> 44900829 | AW7: ='Raw Data'!BK69 -> 43655189 | AX7: ='Raw Data'!BL69 -> 40686545 | AY7: ='Raw Data'!BM69 -> 37749435 | AZ7: ='Raw Data'!BN69 -> 35297989 | ... IX7: ='Raw Data'!JL69 -> 0
AS9: =AS1 -> 39510 | AT9: =AT1 -> 39539 | AU9: =AU1 -> 39569 | AV9: =AV1 -> 39600 | AW9: =AW1 -> 39630 | AX9: =AX1 -> 39661 | AY9: =AY1 -> 39692 | AZ9: =AZ1 -> 39729 | ... GQ9: =GQ1 -> 44205 | GR9: 44247 | GS9: 44275 | GT9: 44306 | GU9: 44336 | GV9: 44367 | GW9: 44397 | GX9: 44428 | GY9: 44459 | GZ9: 44489 | HA9: 44520 | HB9: 44550 | HC9: 44581 | HD9: 44612 | HE9: 44640 | HF9: 44671 | HG9: 44701 | HH9: 44732 | HI9: 44762 | HJ9: 44793 | HK9: 44824 | HL9: 44854 | HM9: 44885 | HN9: 44915 | HO9: 44946 | HP9: 44977 | HQ9: 45005 | HR9: 45036 | HS9: 45066 | HT9: 45097 | HU9: 45127 | HV9: 45158 | HW9: 45189 | HX9: 45219 | HY9: 45250 | HZ9: 45280 | IA9: 45311 | IB9: 45342 | IC9: 45371 | ID9: 45402 | IE9: 45432 | IF9: 45463 | IG9: 45493 | IH9: 45524 | II9: 45555 | IJ9: 45585 | IK9: 45616 | IL9: 45646 | IM9: 45677 | IN9: 45708 | IO9: 45736 | IP9: 45767 | IQ9: 45797 | IR9: 45828 | IS9: 45858 | IT9: 45889 | IU9: 45920 | IV9: 45950 | IW9: 45981 | IX9: 46011
A10: Median Sale Price | AS10: ='Raw Data'!BG68 -> 298825 | AT10: ='Raw Data'!BH68 -> 317000 | AU10: ='Raw Data'!BI68 -> 374000 | AV10: ='Raw Data'!BJ68 -> 332000 | AW10: ='Raw Data'!BK68 -> 399950 | AX10: ='Raw Data'!BL68 -> 275000 | AY10: ='Raw Data'!BM68 -> 325000 | AZ10: ='Raw Data'!BN68 -> 315000 | ... IX10: ='Raw Data'!JL68 -> 0
A11: Units Sold | AS11: ='Raw Data'!BG45 -> 96 | AT11: ='Raw Data'!BH45 -> 92 | AU11: ='Raw Data'!BI45 -> 111 | AV11: ='Raw Data'!BJ45 -> 110 | AW11: ='Raw Data'!BK45 -> 94 | AX11: ='Raw Data'!BL45 -> 103 | AY11: ='Raw Data'!BM45 -> 93 | AZ11: ='Raw Data'!BN45 -> 85 | ... IX11: ='Raw Data'!JL45 -> 0
AS13: =AS1 -> 39510 | AT13: =AT1 -> 39539 | AU13: =AU1 -> 39569 | AV13: =AV1 -> 39600 | AW13: =AW1 -> 39630 | AX13: =AX1 -> 39661 | AY13: =AY1 -> 39692 | AZ13: =AZ1 -> 39729 | ... GQ13: =GQ1 -> 44205 | GR13: 44247 | GS13: 44275 | GT13: 44306 | GU13: 44336 | GV13: 44367 | GW13: 44397 | GX13: 44428 | GY13: 44459 | GZ13: 44489 | HA13: 44520 | HB13: 44550 | HC13: 44581 | HD13: 44612 | HE13: 44640 | HF13: 44671 | HG13: 44701 | HH13: 44732 | HI13: 44762 | HJ13: 44793 | HK13: 44824 | HL13: 44854 | HM13: 44885 | HN13: 44915 | HO13: 44946 | HP13: 44977 | HQ13: 45005 | HR13: 45036 | HS13: 45066 | HT13: 45097 | HU13: 45127 | HV13: 45158 | HW13: 45189 | HX13: 45219 | HY13: 45250 | HZ13: 45280 | IA13: 45311 | IB13: 45342 | IC13: 45371 | ID13: 45402 | IE13: 45432 | IF13: 45463 | IG13: 45493 | IH13: 45524 | II13: 45555 | IJ13: 45585 | IK13: 45616 | IL13: 45646 | IM13: 45677 | IN13: 45708 | IO13: 45736 | IP13: 45767 | IQ13: 45797 | IR13: 45828 | IS13: 45858 | IT13: 45889 | IU13: 45920 | IV13: 45950 | IW13: 45981 | IX13: 46011
A14: Median Price SFD | AS14: ='Raw Data'!BG76 -> 345000 | AT14: ='Raw Data'!BH76 -> 360000 | AU14: ='Raw Data'!BI76 -> 375000 | AV14: ='Raw Data'!BJ76 -> 362500 | AW14: ='Raw Data'!BK76 -> 359000 | AX14: ='Raw Data'!BL76 -> 300000 | AY14: ='Raw Data'!BM76 -> 375000 | AZ14: ='Raw Data'!BN76 -> 325000 | ... IX14: ='Raw Data'!JL76 -> 0
A15: Units Sold | AS15: ='Raw Data'!BG74 -> 83 | AT15: ='Raw Data'!BH74 -> 77 | AU15: ='Raw Data'!BI74 -> 97 | AV15: ='Raw Data'!BJ74 -> 94 | AW15: ='Raw Data'!BK74 -> 77 | AX15: ='Raw Data'!BL74 -> 83 | AY15: ='Raw Data'!BM74 -> 77 | AZ15: ='Raw Data'!BN74 -> 77 | ... IX15: ='Raw Data'!JL74 -> 0
AS17: =AS1 -> 39510 | AT17: =AT1 -> 39539 | AU17: =AU1 -> 39569 | AV17: =AV1 -> 39600 | AW17: =AW1 -> 39630 | AX17: =AX1 -> 39661 | AY17: =AY1 -> 39692 | AZ17: =AZ1 -> 39729 | ... GQ17: =GQ1 -> 44205 | GR17: 44247 | GS17: 44275 | GT17: 44306 | GU17: 44336 | GV17: 44367 | GW17: 44397 | GX17: 44428 | GY17: 44459 | GZ17: 44489 | HA17: 44520 | HB17: 44550 | HC17: 44581 | HD17: 44612 | HE17: 44640 | HF17: 44671 | HG17: 44701 | HH17: 44732 | HI17: 44762 | HJ17: 44793 | HK17: 44824 | HL17: 44854 | HM17: 44885 | HN17: 44915 | HO17: 44946 | HP17: 44977 | HQ17: 45005 | HR17: 45036 | HS17: 45066 | HT17: 45097 | HU17: 45127 | HV17: 45158 | HW17: 45189 | HX17: 45219 | HY17: 45250 | HZ17: 45280 | IA17: 45311 | IB17: 45342 | IC17: 45371 | ID17: 45402 | IE17: 45432 | IF17: 45463 | IG17: 45493 | IH17: 45524 | II17: 45555 | IJ17: 45585 | IK17: 45616 | IL17: 45646 | IM17: 45677 | IN17: 45708 | IO17: 45736 | IP17: 45767 | IQ17: 45797 | IR17: 45828 | IS17: 45858 | IT17: 45889 | IU17: 45920 | IV17: 45950 | IW17: 45981 | IX17: 46011
A18: Median Price Condo | AS18: ='Raw Data'!BG81 -> 197500 | AT18: ='Raw Data'!BH81 -> 285900 | AU18: ='Raw Data'!BI81 -> 325000 | AV18: ='Raw Data'!BJ81 -> 284000 | AW18: ='Raw Data'!BK81 -> 570000 | AX18: ='Raw Data'!BL81 -> 280000 | AY18: ='Raw Data'!BM81 -> 264500 | AZ18: ='Raw Data'!BN81 -> 347500 | ... IX18: ='Raw Data'!JL81 -> 0
A19: Units Sold | AS19: ='Raw Data'!BG79 -> 10 | AT19: ='Raw Data'!BH79 -> 5 | AU19: ='Raw Data'!BI79 -> 13 | AV19: ='Raw Data'!BJ79 -> 9 | AW19: ='Raw Data'!BK79 -> 13 | AX19: ='Raw Data'!BL79 -> 13 | AY19: ='Raw Data'!BM79 -> 10 | AZ19: ='Raw Data'!BN79 -> 4 | ... IX19: ='Raw Data'!JL79 -> 0
A22: Average Sale Price | GW22: Average Sale Price
GY23: Jan | GZ23: Feb | HA23: Mar | HB23: Apr | HC23: May | HD23: Jun | HE23: July | HF23: Aug | HG23: Sep | HH23: Oct | HI23: Nov | HJ23: Dec
A24: 2012 | GX24: 2012 | GY24: =CM6 -> 370741 | GZ24: =CN6 -> 348355 | HA24: =CO6 -> 412362 | HB24: =CP6 -> 337186 | HC24: =CQ6 -> 349265 | HD24: =CR6 -> 378091 | HE24: =CS6 -> 378878 | HF24: =CT6 -> 327597 | ... HJ24: =CX6 -> 431401
A25: 2013 | GX25: 2013 | GY25: =CY6 -> 326127 | GZ25: =CZ6 -> 314665 | HA25: =DA6 -> 379384 | HB25: =DB6 -> 319663 | HC25: =DC6 -> 371414 | HD25: =DD6 -> 372450 | HE25: =DE6 -> 358845 | HF25: =DF6 -> 329408 | ... HJ25: =DJ6 -> 372046
A26: 2014 | GX26: 2014 | GY26: =DK6 -> 392065 | GZ26: =DL6 -> 349976 | HA26: =DM6 -> 391074 | HB26: =DN6 -> 435374 | HC26: =DO6 -> 392669 | HD26: =DP6 -> 371633 | HE26: =DQ6 -> 351247 | HF26: =DR6 -> 303837 | ... HJ26: =DV6 -> 402759
A27: 2015 | GX27: 2015 | GY27: =DW6 -> 293223 | GZ27: =DX6 -> 358251 | HA27: =DY6 -> 336945 | HB27: =DZ6 -> 397372 | HC27: =EA6 -> 340012 | HD27: =EB6 -> 403782 | HE27: =EC6 -> 331603 | HF27: =ED6 -> 351395 | ... HJ27: =EH6 -> 380843
A28: 2015 | GX28: 2015 | GY28: =DW6 -> 293223 | GZ28: =DX6 -> 358251 | HA28: =DY6 -> 336945 | HB28: =DZ6 -> 397372 | HC28: =EA6 -> 340012 | HD28: =EB6 -> 403782 | HE28: =EC6 -> 331603 | HF28: =ED6 -> 351395 | ... HJ28: =EH6 -> 380843
A29: 2016 | BQ29: 2009 | BR29: 2010 | BS29: 2011 | BT29: 2012 | BU29: 2013 | BV29: 2014 | BW29: 2015 | BX29: 2016 | BY29: 2017 | GX29: 2016 | GY29: =EI6 -> 426842 | GZ29: =EJ6 -> 363445 | HA29: =EK6 -> 379449 | HB29: =EL6 -> 372897 | HC29: =EM6 -> 362336 | HD29: =EN6 -> 388450 | HE29: =EO6 -> 347995 | HF29: =EP6 -> 346598 | ... HJ29: =ET6 -> 395274
A30: 2017 | BQ30: 367000 | BR30: 341500 | BS30: 263900 | BT30: 330000 | BU30: 300000 | BV30: 318000 | BW30: 286000 | BX30: 335000 | BY30: 350000 | BZ30: =SUM(BQ30:BY30)/9 -> 321266.67 | GX30: 2017 | GY30: =EU6 -> 412247 | GZ30: =EV6 -> 385976 | HA30: =EW6 -> 369762 | HB30: =EX6 -> 401042 | HC30: =EY6 -> 403833 | HD30: =EZ6 -> 388478 | HE30: =FA6 -> 395374 | HF30: =FB6 -> 355968 | ... HJ30: =FF6 -> 434910
A31: 2018 | GX31: 2018 | GY31: =FG6 -> 351673 | GZ31: =FH6 -> 424444 | HA31: =FI6 -> 400295 | HB31: =FJ6 -> 390869 | HC31: =FK6 -> 438104 | HD31: =FL6 -> 414252 | HE31: =FM6 -> 418554 | HF31: =FN6 -> 373293 | ... HJ31: =FR6 -> 451876
A32: 2019 | GX32: 2019 | GY32: =FS6 -> 410227 | GZ32: =FT6 -> 386500 | HA32: =FU6 -> 397695 | HB32: =FV6 -> 412075 | HC32: =FW6 -> 394673 | HD32: =FX6 -> 409902 | HE32: =FY6 -> 369758 | HF32: =FZ6 -> 373816 | ... HJ32: =GD6 -> 421379
A33: 2020 | GX33: 2020 | GY33: =GE6 -> 406071 | GZ33: =GF6 -> 371718 | HA33: =GG6 -> 435388 | HB33: =GH6 -> 415048 | HC33: =GI6 -> 405862 | HD33: =GJ6 -> 395114 | HE33: =GK6 -> 443748 | HF33: =GL6 -> 475269 | ... HJ33: =GP6 -> 578292 | HV33: Yearly Residential Sales
A34: 2021 | GX34: 2021 | GY34: =GQ6 -> 528590 | GZ34: =GR6 -> 529619 | HA34: =GS6 -> 596636 | HB34: =GT6 -> 606262 | HC34: =GU6 -> 642117 | HD34: =GV6 -> 688595 | HE34: =GW6 -> 628784 | HF34: =GX6 -> 611258 | ... HJ34: =HB6 -> 698947 | HV34: Month / Year | HW34: Count | HX34: %Chg
A35: 2022 | GX35: 2022 | GY35: =HC6 -> 725669 | GZ35: =HD6 -> 772979 | HA35: =HE6 -> 740515 | HB35: =HF6 -> 751899 | HC35: =HG6 -> 765320 | HD35: =HH6 -> 711955 | HE35: =HI6 -> 712237 | HF35: =HJ6 -> 614297 | ... HJ35: =HN6 -> 694886
A36: 2023 | GX36: 2023 | GY36: =HO6 -> 713297 | GZ36: =HP6 -> 566966 | HA36: =HQ6 -> 699538 | HB36: =HR6 -> 652373 | HC36: =HS6 -> 690943 | HD36: =HT6 -> 748942 | HE36: =HU6 -> 616768 | HF36: =HV6 -> 651738 | ... HJ36: =HZ6 -> 793409
